Workbook

Sheet Cost Summary
A1: Ritenour School District - WAN RFP Cost Summary
A3: Vendor Information | B3: Entry | D3: RFP Requirements Snapshot
A4: Vendor Name | D4: Service Start | E4: July 1, 2027
A5: SPIN | D5: Locations | E5: 15
A6: FCC Registration Number (FRN) | D6: Contract Options | E6: 36 months and 60 months
A7: Contact Name | D7: Billing Method | E7: SPI
A8: Contact Email / Phone | D8: Current E-Rate Discount | E8: 0.8
A9: Proposal Date | D9: Bid Due Date | E9: Wednesday, December 3, 2026
D10: Form 470 # | E10: 270003692
A12: Basic Service Cost Summary
A13: Term | B13: Monthly Recurring | C13: One-Time Charges | D13: Total Contract Cost | E13: E-Rate Eligible Cost | F13: Estimated E-Rate Support (80%) | G13: Estimated District Share | H13: Average Monthly Cost
A14: 36 Months | B14: ='Site Pricing'!D20 -> 0 | C14: ='Site Pricing'!E20 -> 0 | D14: =B14*36+C14 -> 0 | E14: ='Site Pricing'!G20*36+'Site Pricing'!H20 -> 0 | F14: =E14*$E$8 -> 0 | G14: =D14-F14 -> 0 | H14: =D14/36 -> 0
A15: 60 Months | B15: ='Site Pricing'!D20 -> 0 | C15: ='Site Pricing'!E20 -> 0 | D15: =B15*60+C15 -> 0 | E15: ='Site Pricing'!G20*60+'Site Pricing'!H20 -> 0 | F15: =E15*$E$8 -> 0 | G15: =D15-F15 -> 0 | H15: =D15/60 -> 0
A18: Optional Alternate Service Pricing
A19: Term | B19: Monthly Recurring | C19: One-Time Charges | D19: Total Contract Cost | E19: E-Rate Eligible Cost | F19: Estimated E-Rate Support (80%) | G19: Estimated District Share | H19: Average Monthly Cost
A20: 36 Months | D20: =B20*36+C20 -> 0 | F20: =E20*$E$8 -> 0 | G20: =D20-F20 -> 0 | H20: =D20/36 -> 0
A21: 60 Months | D21: =B21*60+C21 -> 0 | F21: =E21*$E$8 -> 0 | G21: =D21-F21 -> 0 | H21: =D21/60 -> 0
A24: Additional Cost and Compliance Notes
A25: • Clearly identify all non-recurring construction, installation, cabling, and configuration charges.
A26: • Identify any equipment Ritenour must purchase separately to accept the WAN handoff.
A27: • Clearly designate eligible, ineligible, and cost-allocated charges.
A28: • All charges should align with the July 1 to June 30 E-Rate funding-year boundaries.

Sheet Site Pricing
A1: Ritenour School District - Category 1 WAN Site Pricing
A2: Vendor input sheet. Enter monthly recurring and one-time charges by site for the proposed basic service.
A4: Site | B4: Service Address | C4: Minimum Bandwidth | D4: Monthly Recurring Cost | E4: One-Time Cost | F4: Eligible % | G4: Eligible Monthly Cost | H4: Eligible One-Time Cost | I4: 36-Month Total | J4: 60-Month Total | K4: Ineligible Monthly Cost | L4: Ineligible One-Time Cost | M4: Vendor Notes | N4: Circuit/Method
A5: Buder Elementary | B5: 10350 Baltimore Ave, 63074 | C5: 2 Gbps | F5: 1 | G5: =D5*F5 -> 0 | H5: =E5*F5 -> 0 | I5: =D5*36+E5 -> 0 | J5: =D5*60+E5 -> 0 | K5: =D5-G5 -> 0 | L5: =E5-H5 -> 0
A6: Iveland Elementary | B6: 1836 Dyer, 63114 | C6: 2 Gbps | F6: 1 | G6: =D6*F6 -> 0 | H6: =E6*F6 -> 0 | I6: =D6*36+E6 -> 0 | J6: =D6*60+E6 -> 0 | K6: =D6-G6 -> 0 | L6: =E6-H6 -> 0
A7: Kratz Elementary | B7: 4301 Edmundson Rd, 63134 | C7: 2 Gbps | F7: 1 | G7: =D7*F7 -> 0 | H7: =E7*F7 -> 0 | I7: =D7*36+E7 -> 0 | J7: =D7*60+E7 -> 0 | K7: =D7-G7 -> 0 | L7: =E7-H7 -> 0
A8: Marion Elementary | B8: 2634 Sims Ave, 63114 | C8: 2 Gbps | F8: 1 | G8: =D8*F8 -> 0 | H8: =E8*F8 -> 0 | I8: =D8*36+E8 -> 0 | J8: =D8*60+E8 -> 0 | K8: =D8-G8 -> 0 | L8: =E8-H8 -> 0
A9: Marvin Elementary | B9: 3510 Woodson Rd, 63114 | C9: 2 Gbps | F9: 1 | G9: =D9*F9 -> 0 | H9: =E9*F9 -> 0 | I9: =D9*36+E9 -> 0 | J9: =D9*60+E9 -> 0 | K9: =D9-G9 -> 0 | L9: =E9-H9 -> 0
A10: Wyland Elementary | B10: 2200 Brown Rd, 63114 | C10: 2 Gbps | F10: 1 | G10: =D10*F10 -> 0 | H10: =E10*F10 -> 0 | I10: =D10*36+E10 -> 0 | J10: =D10*60+E10 -> 0 | K10: =D10-G10 -> 0 | L10: =E10-H10 -> 0
A11: Admin Center | B11: 2420 Woodson Rd, 63114 | C11: 2 Gbps | F11: 1 | G11: =D11*F11 -> 0 | H11: =E11*F11 -> 0 | I11: =D11*36+E11 -> 0 | J11: =D11*60+E11 -> 0 | K11: =D11-G11 -> 0 | L11: =E11-H11 -> 0
A12: Husky Support Center | B12: 9303 Midland Blvd, 63114 | C12: 2 Gbps | F12: 1 | G12: =D12*F12 -> 0 | H12: =E12*F12 -> 0 | I12: =D12*36+E12 -> 0 | J12: =D12*60+E12 -> 0 | K12: =D12-G12 -> 0 | L12: =E12-H12 -> 0
A13: Husky Academy | B13: 9229 Lackland Ave, 63114 | C13: 2 Gbps | F13: 1 | G13: =D13*F13 -> 0 | H13: =E13*F13 -> 0 | I13: =D13*36+E13 -> 0 | J13: =D13*60+E13 -> 0 | K13: =D13-G13 -> 0 | L13: =E13-H13 -> 0
A14: Hoech Middle | B14: 3312 Ashby Rd, 63074 | C14: 2 Gbps | F14: 1 | G14: =D14*F14 -> 0 | H14: =E14*F14 -> 0 | I14: =D14*36+E14 -> 0 | J14: =D14*60+E14 -> 0 | K14: =D14-G14 -> 0 | L14: =E14-H14 -> 0
A15: Ritenour Middle | B15: 2500 Marshall Ave, 63114 | C15: 2 Gbps | F15: 1 | G15: =D15*F15 -> 0 | H15: =E15*F15 -> 0 | I15: =D15*36+E15 -> 0 | J15: =D15*60+E15 -> 0 | K15: =D15-G15 -> 0 | L15: =E15-H15 -> 0
A16: Ritenour High School | B16: 9100 St. Charles Rock Rd, 63114 | C16: 10 Gbps | F16: 1 | G16: =D16*F16 -> 0 | H16: =E16*F16 -> 0 | I16: =D16*36+E16 -> 0 | J16: =D16*60+E16 -> 0 | K16: =D16-G16 -> 0 | L16: =E16-H16 -> 0
... A19: School for Early Childhood Education | B19: 3580 Woodson Rd, 63114 | C19: 1 Gbps | F19: 1 | G19: =D19*F19 -> 0 | H19: =E19*F19 -> 0 | I19: =D19*36+E19 -> 0 | J19: =D19*60+E19 -> 0 | K19: =D19-G19 -> 0 | L19: =E19-H19 -> 0
A20: TOTAL | D20: =SUM(D5:D19) -> 0 | E20: =SUM(E5:E19) -> 0 | G20: =SUM(G5:G19) -> 0 | H20: =SUM(H5:H19) -> 0 | I20: =SUM(I5:I19) -> 0 | J20: =SUM(J5:J19) -> 0 | K20: =SUM(K5:K19) -> 0 | L20: =SUM(L5:L19) -> 0
