Workbook

Sheet Bidder & Summary
A1: E-rate Category 1 Pricing Form
A2: Sergeant Bluff-Luton Comm School District
A3: Funding Year 2027 · Form 470 #270003433 · Submit with your proposal to Bids2027@eratecomplete.com by 12/3/2026 at 9:00 am Applicant time
A5: Complete the GRAY boxes on this tab and on each tab for the services you are bidding. WHITE cells are the Applicant’s request or calculate automatically. Bid one, some or all services; mark the services you are not bidding “No.” Submit this workbook (Excel format) with your proposal. Your own quote may be attached as supporting detail; if the two differ, this form governs.
A7: Bidder information
A8: Company name
A9: SPIN (FCC Form 498 ID)
A10: FCC Registration # (FRN)
A11: Contact name
A12: Email / phone
A13: Date submitted
A15: Services in this RFP
A16: Service / option | B16: Tab | C16: Bidding? (Yes / No) | D16: Total | E16: Ineligible portion | F16: Eligible total
A17: Internet Access | B17: Internet Access
A18: Internet, 1 Gbps – Month-to-month term | D18: =IF('Internet Access'!I11="","",'Internet Access'!I11) | E18: =IF('Internet Access'!J11="","",'Internet Access'!J11) | F18: =IF('Internet Access'!K11="","",'Internet Access'!K11)
A19: Internet, 2 Gbps – Month-to-month term | D19: =IF('Internet Access'!I12="","",'Internet Access'!I12) | E19: =IF('Internet Access'!J12="","",'Internet Access'!J12) | F19: =IF('Internet Access'!K12="","",'Internet Access'!K12)
A20: Internet, 5 Gbps – Month-to-month term | D20: =IF('Internet Access'!I13="","",'Internet Access'!I13) | E20: =IF('Internet Access'!J13="","",'Internet Access'!J13) | F20: =IF('Internet Access'!K13="","",'Internet Access'!K13)
A21: Internet, 10 Gbps. – Month-to-month term | D21: =IF('Internet Access'!I14="","",'Internet Access'!I14) | E21: =IF('Internet Access'!J14="","",'Internet Access'!J14) | F21: =IF('Internet Access'!K14="","",'Internet Access'!K14)
A22: Internet, Other offering (describe) – Month-to-month term | D22: =IF('Internet Access'!I15="","",'Internet Access'!I15) | E22: =IF('Internet Access'!J15="","",'Internet Access'!J15) | F22: =IF('Internet Access'!K15="","",'Internet Access'!K15)
A23: Internet, 1 Gbps – 1-year term | D23: =IF('Internet Access'!I19="","",'Internet Access'!I19) | E23: =IF('Internet Access'!J19="","",'Internet Access'!J19) | F23: =IF('Internet Access'!K19="","",'Internet Access'!K19)
A24: Internet, 2 Gbps – 1-year term | D24: =IF('Internet Access'!I20="","",'Internet Access'!I20) | E24: =IF('Internet Access'!J20="","",'Internet Access'!J20) | F24: =IF('Internet Access'!K20="","",'Internet Access'!K20)
A25: Internet, 5 Gbps – 1-year term | D25: =IF('Internet Access'!I21="","",'Internet Access'!I21) | E25: =IF('Internet Access'!J21="","",'Internet Access'!J21) | F25: =IF('Internet Access'!K21="","",'Internet Access'!K21)
A26: Internet, 10 Gbps. – 1-year term | D26: =IF('Internet Access'!I22="","",'Internet Access'!I22) | E26: =IF('Internet Access'!J22="","",'Internet Access'!J22) | F26: =IF('Internet Access'!K22="","",'Internet Access'!K22)
A27: Internet, Other offering (describe) – 1-year term | D27: =IF('Internet Access'!I23="","",'Internet Access'!I23) | E27: =IF('Internet Access'!J23="","",'Internet Access'!J23) | F27: =IF('Internet Access'!K23="","",'Internet Access'!K23)
A28: Internet, 1 Gbps – 3-year term | D28: =IF('Internet Access'!I27="","",'Internet Access'!I27) | E28: =IF('Internet Access'!J27="","",'Internet Access'!J27) | F28: =IF('Internet Access'!K27="","",'Internet Access'!K27)
A29: Internet, 2 Gbps – 3-year term | D29: =IF('Internet Access'!I28="","",'Internet Access'!I28) | E29: =IF('Internet Access'!J28="","",'Internet Access'!J28) | F29: =IF('Internet Access'!K28="","",'Internet Access'!K28)
A30: Internet, 5 Gbps – 3-year term | D30: =IF('Internet Access'!I29="","",'Internet Access'!I29) | E30: =IF('Internet Access'!J29="","",'Internet Access'!J29) | F30: =IF('Internet Access'!K29="","",'Internet Access'!K29)
A31: Internet, 10 Gbps. – 3-year term | D31: =IF('Internet Access'!I30="","",'Internet Access'!I30) | E31: =IF('Internet Access'!J30="","",'Internet Access'!J30) | F31: =IF('Internet Access'!K30="","",'Internet Access'!K30)
A32: Internet, Other offering (describe) – 3-year term | D32: =IF('Internet Access'!I31="","",'Internet Access'!I31) | E32: =IF('Internet Access'!J31="","",'Internet Access'!J31) | F32: =IF('Internet Access'!K31="","",'Internet Access'!K31)
A33: Internet, 1 Gbps – 5-year term | D33: =IF('Internet Access'!I35="","",'Internet Access'!I35) | E33: =IF('Internet Access'!J35="","",'Internet Access'!J35) | F33: =IF('Internet Access'!K35="","",'Internet Access'!K35)
A34: Internet, 2 Gbps – 5-year term | D34: =IF('Internet Access'!I36="","",'Internet Access'!I36) | E34: =IF('Internet Access'!J36="","",'Internet Access'!J36) | F34: =IF('Internet Access'!K36="","",'Internet Access'!K36)
A35: Internet, 5 Gbps – 5-year term | D35: =IF('Internet Access'!I37="","",'Internet Access'!I37) | E35: =IF('Internet Access'!J37="","",'Internet Access'!J37) | F35: =IF('Internet Access'!K37="","",'Internet Access'!K37)
A36: Internet, 10 Gbps. – 5-year term | D36: =IF('Internet Access'!I38="","",'Internet Access'!I38) | E36: =IF('Internet Access'!J38="","",'Internet Access'!J38) | F36: =IF('Internet Access'!K38="","",'Internet Access'!K38)
A37: Internet, Other offering (describe) – 5-year term | D37: =IF('Internet Access'!I39="","",'Internet Access'!I39) | E37: =IF('Internet Access'!J39="","",'Internet Access'!J39) | F37: =IF('Internet Access'!K39="","",'Internet Access'!K39)
A38: Internet, 1 Gbps – Transportation Building (Bus Barn) Option 1: Internet, Month-to-month term | D38: =IF('Internet Access'!I43="","",'Internet Access'!I43) | E38: =IF('Internet Access'!J43="","",'Internet Access'!J43) | F38: =IF('Internet Access'!K43="","",'Internet Access'!K43)
A39: Internet, 2 Gbps – Transportation Building (Bus Barn) Option 1: Internet, Month-to-month term | D39: =IF('Internet Access'!I44="","",'Internet Access'!I44) | E39: =IF('Internet Access'!J44="","",'Internet Access'!J44) | F39: =IF('Internet Access'!K44="","",'Internet Access'!K44)
A40: Internet, 5 Gbps – Transportation Building (Bus Barn) Option 1: Internet, Month-to-month term | D40: =IF('Internet Access'!I45="","",'Internet Access'!I45) | E40: =IF('Internet Access'!J45="","",'Internet Access'!J45) | F40: =IF('Internet Access'!K45="","",'Internet Access'!K45)
A41: Internet, 10 Gbps. – Transportation Building (Bus Barn) Option 1: Internet, Month-to-month term | D41: =IF('Internet Access'!I46="","",'Internet Access'!I46) | E41: =IF('Internet Access'!J46="","",'Internet Access'!J46) | F41: =IF('Internet Access'!K46="","",'Internet Access'!K46)
A42: Internet, Other offering (describe) – Transportation Building (Bus Barn) Option 1: Internet, Month-to-month term | D42: =IF('Internet Access'!I47="","",'Internet Access'!I47) | E42: =IF('Internet Access'!J47="","",'Internet Access'!J47) | F42: =IF('Internet Access'!K47="","",'Internet Access'!K47)
A43: Internet, 1 Gbps – Transportation Building (Bus Barn) Option 1: Internet, 1-year term | D43: =IF('Internet Access'!I51="","",'Internet Access'!I51) | E43: =IF('Internet Access'!J51="","",'Internet Access'!J51) | F43: =IF('Internet Access'!K51="","",'Internet Access'!K51)
...

Sheet Internet Access
A1: E-rate Category 1 Pricing Form – Internet Access
A2: Sergeant Bluff-Luton Comm School District
A3: Funding Year 2027 · Form 470 #270003433 · Submit with your proposal to Bids2027@eratecomplete.com by 12/3/2026 at 9:00 am Applicant time
A5: Complete every GRAY box. WHITE cells are the Applicant’s request or calculate automatically. Enter numbers only (no $ signs or text). Enter the ineligible portion of any price so the Applicant can cost-allocate. Your own quote may be attached as supporting detail; if the two differ, this form governs. Price each bandwidth tier for each term. Months for month-to-month service are counted as 12 for comparison.
A7: Delivered to the Applicant’s hub: Sergeant Bluff-Luton Elementary School, 201 Port Neal Road Sergeant Bluff IA 51054. Minimum: 1 Gbps symmetrical or best available.
A9: Bandwidth requested | B9: Term | C9: Technology (fiber, etc.) | D9: Bandwidth offered | E9: Monthly recurring charge (MRC) | F9: Months | G9: One-time charges (NRC, installation) | H9: Special construction | I9: Total over term | J9: Ineligible portion | K9: Eligible total | L9: Notes
A10: Pricing for a Month-to-month term
A11: 1 Gbps | B11: Month-to-month | F11: 12 | I11: =IF(COUNT(E11,G11,H11)=0,"",N(E11)*F11+N(G11)+N(H11)) | K11: =IF(I11="","",I11-N(J11))
A12: 2 Gbps | B12: Month-to-month | F12: 12 | I12: =IF(COUNT(E12,G12,H12)=0,"",N(E12)*F12+N(G12)+N(H12)) | K12: =IF(I12="","",I12-N(J12))
A13: 5 Gbps | B13: Month-to-month | F13: 12 | I13: =IF(COUNT(E13,G13,H13)=0,"",N(E13)*F13+N(G13)+N(H13)) | K13: =IF(I13="","",I13-N(J13))
A14: 10 Gbps. | B14: Month-to-month | F14: 12 | I14: =IF(COUNT(E14,G14,H14)=0,"",N(E14)*F14+N(G14)+N(H14)) | K14: =IF(I14="","",I14-N(J14))
A15: Other offering (describe) | B15: Month-to-month | F15: 12 | I15: =IF(COUNT(E15,G15,H15)=0,"",N(E15)*F15+N(G15)+N(H15)) | K15: =IF(I15="","",I15-N(J15))
A16: (Each tier is a separate option; tiers are not added together.)
A18: Pricing for a 1-year term
A19: 1 Gbps | B19: 1-year | F19: 12 | I19: =IF(COUNT(E19,G19,H19)=0,"",N(E19)*F19+N(G19)+N(H19)) | K19: =IF(I19="","",I19-N(J19))
A20: 2 Gbps | B20: 1-year | F20: 12 | I20: =IF(COUNT(E20,G20,H20)=0,"",N(E20)*F20+N(G20)+N(H20)) | K20: =IF(I20="","",I20-N(J20))
A21: 5 Gbps | B21: 1-year | F21: 12 | I21: =IF(COUNT(E21,G21,H21)=0,"",N(E21)*F21+N(G21)+N(H21)) | K21: =IF(I21="","",I21-N(J21))
A22: 10 Gbps. | B22: 1-year | F22: 12 | I22: =IF(COUNT(E22,G22,H22)=0,"",N(E22)*F22+N(G22)+N(H22)) | K22: =IF(I22="","",I22-N(J22))
A23: Other offering (describe) | B23: 1-year | F23: 12 | I23: =IF(COUNT(E23,G23,H23)=0,"",N(E23)*F23+N(G23)+N(H23)) | K23: =IF(I23="","",I23-N(J23))
A24: (Each tier is a separate option; tiers are not added together.)
A26: Pricing for a 3-year term
A27: 1 Gbps | B27: 3-year | F27: 36 | I27: =IF(COUNT(E27,G27,H27)=0,"",N(E27)*F27+N(G27)+N(H27)) | K27: =IF(I27="","",I27-N(J27))
A28: 2 Gbps | B28: 3-year | F28: 36 | I28: =IF(COUNT(E28,G28,H28)=0,"",N(E28)*F28+N(G28)+N(H28)) | K28: =IF(I28="","",I28-N(J28))
A29: 5 Gbps | B29: 3-year | F29: 36 | I29: =IF(COUNT(E29,G29,H29)=0,"",N(E29)*F29+N(G29)+N(H29)) | K29: =IF(I29="","",I29-N(J29))
A30: 10 Gbps. | B30: 3-year | F30: 36 | I30: =IF(COUNT(E30,G30,H30)=0,"",N(E30)*F30+N(G30)+N(H30)) | K30: =IF(I30="","",I30-N(J30))
A31: Other offering (describe) | B31: 3-year | F31: 36 | I31: =IF(COUNT(E31,G31,H31)=0,"",N(E31)*F31+N(G31)+N(H31)) | K31: =IF(I31="","",I31-N(J31))
A32: (Each tier is a separate option; tiers are not added together.)
A34: Pricing for a 5-year term
A35: 1 Gbps | B35: 5-year | F35: 60 | I35: =IF(COUNT(E35,G35,H35)=0,"",N(E35)*F35+N(G35)+N(H35)) | K35: =IF(I35="","",I35-N(J35))
A36: 2 Gbps | B36: 5-year | F36: 60 | I36: =IF(COUNT(E36,G36,H36)=0,"",N(E36)*F36+N(G36)+N(H36)) | K36: =IF(I36="","",I36-N(J36))
A37: 5 Gbps | B37: 5-year | F37: 60 | I37: =IF(COUNT(E37,G37,H37)=0,"",N(E37)*F37+N(G37)+N(H37)) | K37: =IF(I37="","",I37-N(J37))
A38: 10 Gbps. | B38: 5-year | F38: 60 | I38: =IF(COUNT(E38,G38,H38)=0,"",N(E38)*F38+N(G38)+N(H38)) | K38: =IF(I38="","",I38-N(J38))
A39: Other offering (describe) | B39: 5-year | F39: 60 | I39: =IF(COUNT(E39,G39,H39)=0,"",N(E39)*F39+N(G39)+N(H39)) | K39: =IF(I39="","",I39-N(J39))
A40: (Each tier is a separate option; tiers are not added together.)
A42: Transportation Building (Bus Barn), 207 Bluffs Blvd, Sergeant Bluff, IA 51054 (current 1 Gbps; minimum 1 Gbps) – Option 1: Internet – pricing for a Month-to-month term
A43: 1 Gbps | B43: Transportation Building (Bus Barn) Option 1: Internet, Month-to-month | F43: 12 | I43: =IF(COUNT(E43,G43,H43)=0,"",N(E43)*F43+N(G43)+N(H43)) | K43: =IF(I43="","",I43-N(J43))
A44: 2 Gbps | B44: Transportation Building (Bus Barn) Option 1: Internet, Month-to-month | F44: 12 | I44: =IF(COUNT(E44,G44,H44)=0,"",N(E44)*F44+N(G44)+N(H44)) | K44: =IF(I44="","",I44-N(J44))
A45: 5 Gbps | B45: Transportation Building (Bus Barn) Option 1: Internet, Month-to-month | F45: 12 | I45: =IF(COUNT(E45,G45,H45)=0,"",N(E45)*F45+N(G45)+N(H45)) | K45: =IF(I45="","",I45-N(J45))
A46: 10 Gbps. | B46: Transportation Building (Bus Barn) Option 1: Internet, Month-to-month | F46: 12 | I46: =IF(COUNT(E46,G46,H46)=0,"",N(E46)*F46+N(G46)+N(H46)) | K46: =IF(I46="","",I46-N(J46))
A47: Other offering (describe) | B47: Transportation Building (Bus Barn) Option 1: Internet, Month-to-month | F47: 12 | I47: =IF(COUNT(E47,G47,H47)=0,"",N(E47)*F47+N(G47)+N(H47)) | K47: =IF(I47="","",I47-N(J47))
...
