Workbook

Sheet ALL OAP
A1: ALL OAP SITES
A2: ITEM DESCRIPTION | B2: QTY | C2: UNIT COST | D2: EXTENDED COST | E2: NOTES
A3: Cat 6 Cables drops | B3: =+'2027 Banks'!B3+'2027 Borman'!B3+'2027 Dietz'!B3+'2027 Drachman'!B3+'2027 Fruchtendler'!B3+'2027 McCorkle'!B3+'2027 Ochoa'!B3+'2027 Pistor'!B3+'2027 Safford'!B3+'2027 Utterback'!B3+'2027 Vail'!B3+'2028 Borton'!B3+'2028 Doolen'!B3+'2028 Gridley'!B3+'2028 Holladay'!B3+'2028 Hollinger'!B3+'2028 Kellond'!B3+'2028 Mansfeld'!B3+'2028 Marshall'!B3+'2028 Maxwell'!B3+'2028 Miles'!B3+'2028 Roberts-Naylor'!B3+'2028 Roskruge'!B3+'2028 Wright'!B3+'2027 Oyama'!B3+'2027 Mission View'!B3 -> 161
A4: Estimated FEET of Cat 6 Plenum Cable | B4: =+'2027 Banks'!B4+'2027 Borman'!B4+'2027 Dietz'!B4+'2027 Drachman'!B4+'2027 Fruchtendler'!B4+'2027 McCorkle'!B4+'2027 Ochoa'!B4+'2027 Pistor'!B4+'2027 Safford'!B4+'2027 Utterback'!B4+'2027 Vail'!B4+'2028 Borton'!B4+'2028 Doolen'!B4+'2028 Gridley'!B4+'2028 Holladay'!B4+'2028 Hollinger'!B4+'2028 Kellond'!B4+'2028 Mansfeld'!B4+'2028 Marshall'!B4+'2028 Maxwell'!B4+'2028 Miles'!B4+'2028 Roberts-Naylor'!B4+'2028 Roskruge'!B4+'2028 Wright'!B4+'2027 Oyama'!B4+'2027 Mission View'!B4 -> 53130
A5: Estimated Related Components | B5: =+'2027 Banks'!B5+'2027 Borman'!B5+'2027 Dietz'!B5+'2027 Drachman'!B5+'2027 Fruchtendler'!B5+'2027 McCorkle'!B5+'2027 Ochoa'!B5+'2027 Pistor'!B5+'2027 Safford'!B5+'2027 Utterback'!B5+'2027 Vail'!B5+'2028 Borton'!B5+'2028 Doolen'!B5+'2028 Gridley'!B5+'2028 Holladay'!B5+'2028 Hollinger'!B5+'2028 Kellond'!B5+'2028 Mansfeld'!B5+'2028 Marshall'!B5+'2028 Maxwell'!B5+'2028 Miles'!B5+'2028 Roberts-Naylor'!B5+'2028 Roskruge'!B5+'2028 Wright'!B5+'2027 Oyama'!B5+'2027 Mission View'!B5 -> 16100
A6: Please itemize Related Components (e.g., faceplates, conduit, raceways, mounting/junction boxes, j-hooks, mounting hardware, patch panels, and similar items needed for a complete and working system):
A7: Cable in FEET | B7: =+'2027 Banks'!B7+'2027 Borman'!B7+'2027 Dietz'!B7+'2027 Drachman'!B7+'2027 Fruchtendler'!B7+'2027 McCorkle'!B7+'2027 Ochoa'!B7+'2027 Pistor'!B7+'2027 Safford'!B7+'2027 Utterback'!B7+'2027 Vail'!B7+'2028 Borton'!B7+'2028 Doolen'!B7+'2028 Gridley'!B7+'2028 Holladay'!B7+'2028 Hollinger'!B7+'2028 Kellond'!B7+'2028 Mansfeld'!B7+'2028 Marshall'!B7+'2028 Maxwell'!B7+'2028 Miles'!B7+'2028 Roberts-Naylor'!B7+'2028 Roskruge'!B7+'2028 Wright'!B7+'2027 Oyama'!B7+'2027 Mission View'!B7 -> 0 | D7: =+'2027 Banks'!D7+'2027 Borman'!D7+'2027 Dietz'!D7+'2027 Drachman'!D7+'2027 Fruchtendler'!D7+'2027 McCorkle'!D7+'2027 Ochoa'!D7+'2027 Pistor'!D7+'2027 Safford'!D7+'2027 Utterback'!D7+'2027 Vail'!D7+'2028 Borton'!D7+'2028 Doolen'!D7+'2028 Gridley'!D7+'2028 Holladay'!D7+'2028 Hollinger'!D7+'2028 Kellond'!D7+'2028 Mansfeld'!D7+'2028 Marshall'!D7+'2028 Maxwell'!D7+'2028 Miles'!D7+'2028 Roberts-Naylor'!D7+'2028 Roskruge'!D7+'2028 Wright'!D7+'2027 Oyama'!D7+'2027 Mission View'!D7 -> 0
A8: Racks (if needed) | B8: =+'2027 Banks'!B8+'2027 Borman'!B8+'2027 Dietz'!B8+'2027 Drachman'!B8+'2027 Fruchtendler'!B8+'2027 McCorkle'!B8+'2027 Ochoa'!B8+'2027 Pistor'!B8+'2027 Safford'!B8+'2027 Utterback'!B8+'2027 Vail'!B8+'2028 Borton'!B8+'2028 Doolen'!B8+'2028 Gridley'!B8+'2028 Holladay'!B8+'2028 Hollinger'!B8+'2028 Kellond'!B8+'2028 Mansfeld'!B8+'2028 Marshall'!B8+'2028 Maxwell'!B8+'2028 Miles'!B8+'2028 Roberts-Naylor'!B8+'2028 Roskruge'!B8+'2028 Wright'!B8+'2027 Oyama'!B8+'2027 Mission View'!B8 -> 0 | D8: =+'2027 Banks'!D8+'2027 Borman'!D8+'2027 Dietz'!D8+'2027 Drachman'!D8+'2027 Fruchtendler'!D8+'2027 McCorkle'!D8+'2027 Ochoa'!D8+'2027 Pistor'!D8+'2027 Safford'!D8+'2027 Utterback'!D8+'2027 Vail'!D8+'2028 Borton'!D8+'2028 Doolen'!D8+'2028 Gridley'!D8+'2028 Holladay'!D8+'2028 Hollinger'!D8+'2028 Kellond'!D8+'2028 Mansfeld'!D8+'2028 Marshall'!D8+'2028 Maxwell'!D8+'2028 Miles'!D8+'2028 Roberts-Naylor'!D8+'2028 Roskruge'!D8+'2028 Wright'!D8+'2027 Oyama'!D8+'2027 Mission View'!D8 -> 0
A9: Related Component 1 | B9: =+'2027 Banks'!B9+'2027 Borman'!B9+'2027 Dietz'!B9+'2027 Drachman'!B9+'2027 Fruchtendler'!B9+'2027 McCorkle'!B9+'2027 Ochoa'!B9+'2027 Pistor'!B9+'2027 Safford'!B9+'2027 Utterback'!B9+'2027 Vail'!B9+'2028 Borton'!B9+'2028 Doolen'!B9+'2028 Gridley'!B9+'2028 Holladay'!B9+'2028 Hollinger'!B9+'2028 Kellond'!B9+'2028 Mansfeld'!B9+'2028 Marshall'!B9+'2028 Maxwell'!B9+'2028 Miles'!B9+'2028 Roberts-Naylor'!B9+'2028 Roskruge'!B9+'2028 Wright'!B9+'2027 Oyama'!B9+'2027 Mission View'!B9 -> 0 | D9: =+'2027 Banks'!D9+'2027 Borman'!D9+'2027 Dietz'!D9+'2027 Drachman'!D9+'2027 Fruchtendler'!D9+'2027 McCorkle'!D9+'2027 Ochoa'!D9+'2027 Pistor'!D9+'2027 Safford'!D9+'2027 Utterback'!D9+'2027 Vail'!D9+'2028 Borton'!D9+'2028 Doolen'!D9+'2028 Gridley'!D9+'2028 Holladay'!D9+'2028 Hollinger'!D9+'2028 Kellond'!D9+'2028 Mansfeld'!D9+'2028 Marshall'!D9+'2028 Maxwell'!D9+'2028 Miles'!D9+'2028 Roberts-Naylor'!D9+'2028 Roskruge'!D9+'2028 Wright'!D9+'2027 Oyama'!D9+'2027 Mission View'!D9 -> 0
A10: Related Component 2 | B10: =+'2027 Banks'!B10+'2027 Borman'!B10+'2027 Dietz'!B10+'2027 Drachman'!B10+'2027 Fruchtendler'!B10+'2027 McCorkle'!B10+'2027 Ochoa'!B10+'2027 Pistor'!B10+'2027 Safford'!B10+'2027 Utterback'!B10+'2027 Vail'!B10+'2028 Borton'!B10+'2028 Doolen'!B10+'2028 Gridley'!B10+'2028 Holladay'!B10+'2028 Hollinger'!B10+'2028 Kellond'!B10+'2028 Mansfeld'!B10+'2028 Marshall'!B10+'2028 Maxwell'!B10+'2028 Miles'!B10+'2028 Roberts-Naylor'!B10+'2028 Roskruge'!B10+'2028 Wright'!B10+'2027 Oyama'!B10+'2027 Mission View'!B10 -> 0 | D10: =+'2027 Banks'!D10+'2027 Borman'!D10+'2027 Dietz'!D10+'2027 Drachman'!D10+'2027 Fruchtendler'!D10+'2027 McCorkle'!D10+'2027 Ochoa'!D10+'2027 Pistor'!D10+'2027 Safford'!D10+'2027 Utterback'!D10+'2027 Vail'!D10+'2028 Borton'!D10+'2028 Doolen'!D10+'2028 Gridley'!D10+'2028 Holladay'!D10+'2028 Hollinger'!D10+'2028 Kellond'!D10+'2028 Mansfeld'!D10+'2028 Marshall'!D10+'2028 Maxwell'!D10+'2028 Miles'!D10+'2028 Roberts-Naylor'!D10+'2028 Roskruge'!D10+'2028 Wright'!D10+'2027 Oyama'!D10+'2027 Mission View'!D10 -> 0
A11: Related Component 3 | B11: =+'2027 Banks'!B11+'2027 Borman'!B11+'2027 Dietz'!B11+'2027 Drachman'!B11+'2027 Fruchtendler'!B11+'2027 McCorkle'!B11+'2027 Ochoa'!B11+'2027 Pistor'!B11+'2027 Safford'!B11+'2027 Utterback'!B11+'2027 Vail'!B11+'2028 Borton'!B11+'2028 Doolen'!B11+'2028 Gridley'!B11+'2028 Holladay'!B11+'2028 Hollinger'!B11+'2028 Kellond'!B11+'2028 Mansfeld'!B11+'2028 Marshall'!B11+'2028 Maxwell'!B11+'2028 Miles'!B11+'2028 Roberts-Naylor'!B11+'2028 Roskruge'!B11+'2028 Wright'!B11+'2027 Oyama'!B11+'2027 Mission View'!B11 -> 0 | D11: =+'2027 Banks'!D11+'2027 Borman'!D11+'2027 Dietz'!D11+'2027 Drachman'!D11+'2027 Fruchtendler'!D11+'2027 McCorkle'!D11+'2027 Ochoa'!D11+'2027 Pistor'!D11+'2027 Safford'!D11+'2027 Utterback'!D11+'2027 Vail'!D11+'2028 Borton'!D11+'2028 Doolen'!D11+'2028 Gridley'!D11+'2028 Holladay'!D11+'2028 Hollinger'!D11+'2028 Kellond'!D11+'2028 Mansfeld'!D11+'2028 Marshall'!D11+'2028 Maxwell'!D11+'2028 Miles'!D11+'2028 Roberts-Naylor'!D11+'2028 Roskruge'!D11+'2028 Wright'!D11+'2027 Oyama'!D11+'2027 Mission View'!D11 -> 0
A12: Related Component 4 | B12: =+'2027 Banks'!B12+'2027 Borman'!B12+'2027 Dietz'!B12+'2027 Drachman'!B12+'2027 Fruchtendler'!B12+'2027 McCorkle'!B12+'2027 Ochoa'!B12+'2027 Pistor'!B12+'2027 Safford'!B12+'2027 Utterback'!B12+'2027 Vail'!B12+'2028 Borton'!B12+'2028 Doolen'!B12+'2028 Gridley'!B12+'2028 Holladay'!B12+'2028 Hollinger'!B12+'2028 Kellond'!B12+'2028 Mansfeld'!B12+'2028 Marshall'!B12+'2028 Maxwell'!B12+'2028 Miles'!B12+'2028 Roberts-Naylor'!B12+'2028 Roskruge'!B12+'2028 Wright'!B12+'2027 Oyama'!B12+'2027 Mission View'!B12 -> 0 | D12: =+'2027 Banks'!D12+'2027 Borman'!D12+'2027 Dietz'!D12+'2027 Drachman'!D12+'2027 Fruchtendler'!D12+'2027 McCorkle'!D12+'2027 Ochoa'!D12+'2027 Pistor'!D12+'2027 Safford'!D12+'2027 Utterback'!D12+'2027 Vail'!D12+'2028 Borton'!D12+'2028 Doolen'!D12+'2028 Gridley'!D12+'2028 Holladay'!D12+'2028 Hollinger'!D12+'2028 Kellond'!D12+'2028 Mansfeld'!D12+'2028 Marshall'!D12+'2028 Maxwell'!D12+'2028 Miles'!D12+'2028 Roberts-Naylor'!D12+'2028 Roskruge'!D12+'2028 Wright'!D12+'2027 Oyama'!D12+'2027 Mission View'!D12 -> 0
A13: Related Component 5 | B13: =+'2027 Banks'!B13+'2027 Borman'!B13+'2027 Dietz'!B13+'2027 Drachman'!B13+'2027 Fruchtendler'!B13+'2027 McCorkle'!B13+'2027 Ochoa'!B13+'2027 Pistor'!B13+'2027 Safford'!B13+'2027 Utterback'!B13+'2027 Vail'!B13+'2028 Borton'!B13+'2028 Doolen'!B13+'2028 Gridley'!B13+'2028 Holladay'!B13+'2028 Hollinger'!B13+'2028 Kellond'!B13+'2028 Mansfeld'!B13+'2028 Marshall'!B13+'2028 Maxwell'!B13+'2028 Miles'!B13+'2028 Roberts-Naylor'!B13+'2028 Roskruge'!B13+'2028 Wright'!B13+'2027 Oyama'!B13+'2027 Mission View'!B13 -> 0 | D13: =+'2027 Banks'!D13+'2027 Borman'!D13+'2027 Dietz'!D13+'2027 Drachman'!D13+'2027 Fruchtendler'!D13+'2027 McCorkle'!D13+'2027 Ochoa'!D13+'2027 Pistor'!D13+'2027 Safford'!D13+'2027 Utterback'!D13+'2027 Vail'!D13+'2028 Borton'!D13+'2028 Doolen'!D13+'2028 Gridley'!D13+'2028 Holladay'!D13+'2028 Hollinger'!D13+'2028 Kellond'!D13+'2028 Mansfeld'!D13+'2028 Marshall'!D13+'2028 Maxwell'!D13+'2028 Miles'!D13+'2028 Roberts-Naylor'!D13+'2028 Roskruge'!D13+'2028 Wright'!D13+'2027 Oyama'!D13+'2027 Mission View'!D13 -> 0
A14: Related Component 6 | B14: =+'2027 Banks'!B14+'2027 Borman'!B14+'2027 Dietz'!B14+'2027 Drachman'!B14+'2027 Fruchtendler'!B14+'2027 McCorkle'!B14+'2027 Ochoa'!B14+'2027 Pistor'!B14+'2027 Safford'!B14+'2027 Utterback'!B14+'2027 Vail'!B14+'2028 Borton'!B14+'2028 Doolen'!B14+'2028 Gridley'!B14+'2028 Holladay'!B14+'2028 Hollinger'!B14+'2028 Kellond'!B14+'2028 Mansfeld'!B14+'2028 Marshall'!B14+'2028 Maxwell'!B14+'2028 Miles'!B14+'2028 Roberts-Naylor'!B14+'2028 Roskruge'!B14+'2028 Wright'!B14+'2027 Oyama'!B14+'2027 Mission View'!B14 -> 0 | D14: =+'2027 Banks'!D14+'2027 Borman'!D14+'2027 Dietz'!D14+'2027 Drachman'!D14+'2027 Fruchtendler'!D14+'2027 McCorkle'!D14+'2027 Ochoa'!D14+'2027 Pistor'!D14+'2027 Safford'!D14+'2027 Utterback'!D14+'2027 Vail'!D14+'2028 Borton'!D14+'2028 Doolen'!D14+'2028 Gridley'!D14+'2028 Holladay'!D14+'2028 Hollinger'!D14+'2028 Kellond'!D14+'2028 Mansfeld'!D14+'2028 Marshall'!D14+'2028 Maxwell'!D14+'2028 Miles'!D14+'2028 Roberts-Naylor'!D14+'2028 Roskruge'!D14+'2028 Wright'!D14+'2027 Oyama'!D14+'2027 Mission View'!D14 -> 0
A16: Installation:
A17: Price per drop/run | B17: =+B3 -> 161 | C17: =+D17/B17 -> 0 | D17: =+'2027 Banks'!D17++'2027 Borman'!D17+'2027 Dietz'!D17+'2027 Drachman'!D17+'2027 Fruchtendler'!D17+'2027 McCorkle'!D17+'2027 Ochoa'!D17+'2027 Pistor'!D17+'2027 Safford'!D17+'2027 Utterback'!D17+'2027 Vail'!D17+'2028 Borton'!D17+'2028 Doolen'!D17+'2028 Gridley'!D17+'2028 Holladay'!D17+'2028 Hollinger'!D17+'2028 Kellond'!D17+'2028 Mansfeld'!D17+'2028 Marshall'!D17+'2028 Maxwell'!D17+'2028 Miles'!D17+'2028 Roberts-Naylor'!D17+'2028 Roskruge'!D17+'2028 Wright'!D17+'2027 Oyama'!D17+'2027 Mission View'!D17 -> 0
A18: Price to include Testing and Labeling of new drops/runs
A20: Cable Pathways:
A21: Vendor to specify how they address this area (in NOTES)
A23: Note: TUSD will provide and patch panel if needed in the comm closet
A26: Cabling Material cost: | D26: =+'2027 Banks'!D26++'2027 Borman'!D26+'2027 Dietz'!D26+'2027 Drachman'!D26+'2027 Fruchtendler'!D26+'2027 McCorkle'!D26+'2027 Ochoa'!D26+'2027 Pistor'!D26+'2027 Safford'!D26+'2027 Utterback'!D26+'2027 Vail'!D26+'2028 Borton'!D26+'2028 Doolen'!D26+'2028 Gridley'!D26+'2028 Holladay'!D26+'2028 Hollinger'!D26+'2028 Kellond'!D26+'2028 Mansfeld'!D26+'2028 Marshall'!D26+'2028 Maxwell'!D26+'2028 Miles'!D26+'2028 Roberts-Naylor'!D26+'2028 Roskruge'!D26+'2028 Wright'!D26+'2027 Oyama'!D26+'2027 Mission View'!D26 -> 0
A27: Cabling Labor cost: | D27: =+'2027 Banks'!D27++'2027 Borman'!D27+'2027 Dietz'!D27+'2027 Drachman'!D27+'2027 Fruchtendler'!D27+'2027 McCorkle'!D27+'2027 Ochoa'!D27+'2027 Pistor'!D27+'2027 Safford'!D27+'2027 Utterback'!D27+'2027 Vail'!D27+'2028 Borton'!D27+'2028 Doolen'!D27+'2028 Gridley'!D27+'2028 Holladay'!D27+'2028 Hollinger'!D27+'2028 Kellond'!D27+'2028 Mansfeld'!D27+'2028 Marshall'!D27+'2028 Maxwell'!D27+'2028 Miles'!D27+'2028 Roberts-Naylor'!D27+'2028 Roskruge'!D27+'2028 Wright'!D27+'2027 Oyama'!D27+'2027 Mission View'!D27 -> 0
A28: Tax (5.655%): | D28: =+D26*0.05655 -> 0
A29: Total Cost: | D29: =SUM(D26:D28) -> 0
D33: AUTHORIZED VENDOR SIGNATURE
D35: Vendor Name
D37: Vendor Signature & Date

Sheet 2027 Banks
A1: BANKS OAP QUOTE
A2: ITEM DESCRIPTION | B2: QTY | C2: UNIT COST | D2: EXTENDED COST | E2: NOTES
A3: Cat 6 Cables drops | B3: 5
A4: Estimated FEET of Cat 6 Plenum Cable | B4: =330*B3 -> 1650
A5: Estimated Related Components | B5: =100*B3 -> 500
A6: Please itemize Related Components (e.g., faceplates, conduit, raceways, mounting/junction boxes, j-hooks, mounting hardware, patch panels, and similar items needed for a complete and working system):
A7: Cable in FEET | D7: =+C7*B7 -> 0
A8: Racks (if needed) | D8: =+C8*B8 -> 0
A9: Related Component 1 | D9: =+C9*B9 -> 0
A10: Related Component 2 | D10: =+C10*B10 -> 0
A11: Related Component 3 | D11: =+C11*B11 -> 0
A12: Related Component 4 | D12: =+C12*B12 -> 0
A13: Related Component 5 | D13: =+C13*B13 -> 0
A14: Related Component 6 | D14: =+C14*B14 -> 0
A16: Installation:
A17: Price per drop/run | B17: =+B3 -> 5 | D17: =+C17*B17 -> 0
A18: Price to include Testing and Labeling of new drops/runs
A20: Cable Pathways:
A21: Vendor to specify how they address this area (in NOTES)
A23: Note: TUSD will provide and patch panel if needed in the comm closet
A26: Cabling Material cost: | D26: =SUM(D7:D14) -> 0
A27: Cabling Labor cost: | D27: =+D17 -> 0
A28: Tax (5.655%): | D28: =+D26*0.05655 -> 0
A29: Total Cost: | D29: =SUM(D26:D28) -> 0
D33: AUTHORIZED VENDOR SIGNATURE
D35: Vendor Name
D37: Vendor Signature & Date

Sheet 2027 Borman
A1: BORMAN OAP QUOTE
A2: ITEM DESCRIPTION | B2: QTY | C2: UNIT COST | D2: EXTENDED COST | E2: NOTES
A3: Cat 6 Cables drops | B3: 5
A4: Estimated FEET of Cat 6 Plenum Cable | B4: =330*B3 -> 1650
A5: Estimated Related Components | B5: =100*B3 -> 500
A6: Please itemize Related Components (e.g., faceplates, conduit, raceways, mounting/junction boxes, j-hooks, mounting hardware, patch panels, and similar items needed for a complete and working system):
A7: Cable in FEET | D7: =+C7*B7 -> 0
A8: Racks (if needed) | D8: =+C8*B8 -> 0
A9: Related Component 1 | D9: =+C9*B9 -> 0
A10: Related Component 2 | D10: =+C10*B10 -> 0
A11: Related Component 3 | D11: =+C11*B11 -> 0
A12: Related Component 4 | D12: =+C12*B12 -> 0
A13: Related Component 5 | D13: =+C13*B13 -> 0
A14: Related Component 6 | D14: =+C14*B14 -> 0
A16: Installation:
A17: Price per drop/run | B17: =+B3 -> 5 | D17: =+C17*B17 -> 0
A18: Price to include Testing and Labeling of new drops/runs
A20: Cable Pathways:
A21: Vendor to specify how they address this area (in NOTES)
A23: Note: TUSD will provide and patch panel if needed in the comm closet
A26: Cabling Material cost: | D26: =SUM(D7:D14) -> 0
A27: Cabling Labor cost: | D27: =+D17 -> 0
A28: Tax (5.655%): | D28: =+D26*0.05655 -> 0
A29: Total Cost: | D29: =SUM(D26:D28) -> 0
D33: AUTHORIZED VENDOR SIGNATURE
D35: Vendor Name
D37: Vendor Signature & Date

Sheet 2027 Dietz
A1: DIETZ OAP QUOTE
A2: ITEM DESCRIPTION | B2: QTY | C2: UNIT COST | D2: EXTENDED COST | E2: NOTES
A3: Cat 6 Cables drops | B3: 6
A4: Estimated FEET of Cat 6 Plenum Cable | B4: =330*B3 -> 1980
A5: Estimated Related Components | B5: =100*B3 -> 600
A6: Please itemize Related Components (e.g., faceplates, conduit, raceways, mounting/junction boxes, j-hooks, mounting hardware, patch panels, and similar items needed for a complete and working system):
A7: Cable in FEET | D7: =+C7*B7 -> 0
A8: Racks (if needed) | D8: =+C8*B8 -> 0
A9: Related Component 1 | D9: =+C9*B9 -> 0
A10: Related Component 2 | D10: =+C10*B10 -> 0
A11: Related Component 3 | D11: =+C11*B11 -> 0
A12: Related Component 4 | D12: =+C12*B12 -> 0
A13: Related Component 5 | D13: =+C13*B13 -> 0
A14: Related Component 6 | D14: =+C14*B14 -> 0
A16: Installation:
A17: Price per drop/run | B17: =+B3 -> 6 | D17: =+C17*B17 -> 0
A18: Price to include Testing and Labeling of new drops/runs
A20: Cable Pathways:
A21: Vendor to specify how they address this area (in NOTES)
A23: Note: TUSD will provide and patch panel if needed in the comm closet
A26: Cabling Material cost: | D26: =SUM(D7:D14) -> 0
A27: Cabling Labor cost: | D27: =+D17 -> 0
A28: Tax (5.655%): | D28: =+D26*0.05655 -> 0
A29: Total Cost: | D29: =SUM(D26:D28) -> 0
D33: AUTHORIZED VENDOR SIGNATURE
D35: Vendor Name
D37: Vendor Signature & Date

Sheet 2027 Drachman
A1: DRACHMAN OAP QUOTE
A2: ITEM DESCRIPTION | B2: QTY | C2: UNIT COST | D2: EXTENDED COST | E2: NOTES
A3: Cat 6 Cables drops | B3: 5
A4: Estimated FEET of Cat 6 Plenum Cable | B4: =330*B3 -> 1650
A5: Estimated Related Components | B5: =100*B3 -> 500
A6: Please itemize Related Components (e.g., faceplates, conduit, raceways, mounting/junction boxes, j-hooks, mounting hardware, patch panels, and similar items needed for a complete and working system):
A7: Cable in FEET | D7: =+C7*B7 -> 0
A8: Racks (if needed) | D8: =+C8*B8 -> 0
A9: Related Component 1 | D9: =+C9*B9 -> 0
A10: Related Component 2 | D10: =+C10*B10 -> 0
A11: Related Component 3 | D11: =+C11*B11 -> 0
A12: Related Component 4 | D12: =+C12*B12 -> 0
A13: Related Component 5 | D13: =+C13*B13 -> 0
A14: Related Component 6 | D14: =+C14*B14 -> 0
A16: Installation:
A17: Price per drop/run | B17: =+B3 -> 5 | D17: =+C17*B17 -> 0
A18: Price to include Testing and Labeling of new drops/runs
A20: Cable Pathways:
A21: Vendor to specify how they address this area (in NOTES)
A23: Note: TUSD will provide and patch panel if needed in the comm closet
A26: Cabling Material cost: | D26: =SUM(D7:D14) -> 0
A27: Cabling Labor cost: | D27: =+D17 -> 0
A28: Tax (5.655%): | D28: =+D26*0.05655 -> 0
A29: Total Cost: | D29: =SUM(D26:D28) -> 0
D33: AUTHORIZED VENDOR SIGNATURE
D35: Vendor Name
D37: Vendor Signature & Date

Sheet 2027 Fruchtendler
A1: FRUCHTENDLER OAP QUOTE
A2: ITEM DESCRIPTION | B2: QTY | C2: UNIT COST | D2: EXTENDED COST | E2: NOTES
A3: Cat 6 Cables drops | B3: 5
A4: Estimated FEET of Cat 6 Plenum Cable | B4: =330*B3 -> 1650
A5: Estimated Related Components | B5: =100*B3 -> 500
A6: Please itemize Related Components (e.g., faceplates, conduit, raceways, mounting/junction boxes, j-hooks, mounting hardware, patch panels, and similar items needed for a complete and working system):
A7: Cable in FEET | D7: =+C7*B7 -> 0
A8: Racks (if needed) | D8: =+C8*B8 -> 0
A9: Related Component 1 | D9: =+C9*B9 -> 0
A10: Related Component 2 | D10: =+C10*B10 -> 0
A11: Related Component 3 | D11: =+C11*B11 -> 0
A12: Related Component 4 | D12: =+C12*B12 -> 0
A13: Related Component 5 | D13: =+C13*B13 -> 0
A14: Related Component 6 | D14: =+C14*B14 -> 0
A16: Installation:
A17: Price per drop/run | B17: =+B3 -> 5 | D17: =+C17*B17 -> 0
A18: Price to include Testing and Labeling of new drops/runs
A20: Cable Pathways:
A21: Vendor to specify how they address this area (in NOTES)
A23: Note: TUSD will provide and patch panel if needed in the comm closet
A26: Cabling Material cost: | D26: =SUM(D7:D14) -> 0
A27: Cabling Labor cost: | D27: =+D17 -> 0
A28: Tax (5.655%): | D28: =+D26*0.05655 -> 0
A29: Total Cost: | D29: =SUM(D26:D28) -> 0
D33: AUTHORIZED VENDOR SIGNATURE
D35: Vendor Name
D37: Vendor Signature & Date

Sheet 2027 McCorkle
A1: MCCORKLE OAP QUOTE
A2: ITEM DESCRIPTION | B2: QTY | C2: UNIT COST | D2: EXTENDED COST | E2: NOTES
A3: Cat 6 Cables drops | B3: 10
A4: Estimated FEET of Cat 6 Plenum Cable | B4: =330*B3 -> 3300
A5: Estimated Related Components | B5: =100*B3 -> 1000
A6: Please itemize Related Components (e.g., faceplates, conduit, raceways, mounting/junction boxes, j-hooks, mounting hardware, patch panels, and similar items needed for a complete and working system):
A7: Cable in FEET | D7: =+C7*B7 -> 0
A8: Racks (if needed) | D8: =+C8*B8 -> 0
A9: Related Component 1 | D9: =+C9*B9 -> 0
A10: Related Component 2 | D10: =+C10*B10 -> 0
A11: Related Component 3 | D11: =+C11*B11 -> 0
A12: Related Component 4 | D12: =+C12*B12 -> 0
A13: Related Component 5 | D13: =+C13*B13 -> 0
A14: Related Component 6 | D14: =+C14*B14 -> 0
A16: Installation:
A17: Price per drop/run | B17: =+B3 -> 10 | D17: =+C17*B17 -> 0
A18: Price to include Testing and Labeling of new drops/runs
A20: Cable Pathways:
A21: Vendor to specify how they address this area (in NOTES)
A23: Note: TUSD will provide and patch panel if needed in the comm closet
A26: Cabling Material cost: | D26: =SUM(D7:D14) -> 0
A27: Cabling Labor cost: | D27: =+D17 -> 0
A28: Tax (5.655%): | D28: =+D26*0.05655 -> 0
A29: Total Cost: | D29: =SUM(D26:D28) -> 0
D33: AUTHORIZED VENDOR SIGNATURE
D35: Vendor Name
D37: Vendor Signature & Date

Sheet 2027 Mission View
A1: MISSION VIEW OAP QUOTE
A2: ITEM DESCRIPTION | B2: QTY | C2: UNIT COST | D2: EXTENDED COST | E2: NOTES
A3: Cat 6 Cables drops | B3: 4
A4: Estimated FEET of Cat 6 Plenum Cable | B4: =330*B3 -> 1320
A5: Estimated Related Components | B5: =100*B3 -> 400
A6: Please itemize Related Components (e.g., faceplates, conduit, raceways, mounting/junction boxes, j-hooks, mounting hardware, patch panels, and similar items needed for a complete and working system):
A7: Cable in FEET | D7: =+C7*B7 -> 0
A8: Racks (if needed) | D8: =+C8*B8 -> 0
A9: Related Component 1 | D9: =+C9*B9 -> 0
A10: Related Component 2 | D10: =+C10*B10 -> 0
A11: Related Component 3 | D11: =+C11*B11 -> 0
A12: Related Component 4 | D12: =+C12*B12 -> 0
A13: Related Component 5 | D13: =+C13*B13 -> 0
A14: Related Component 6 | D14: =+C14*B14 -> 0
A16: Installation:
A17: Price per drop/run | B17: =+B3 -> 4 | D17: =+C17*B17 -> 0
A18: Price to include Testing and Labeling of new drops/runs
A20: Cable Pathways:
A21: Vendor to specify how they address this area (in NOTES)
A23: Note: TUSD will provide and patch panel if needed in the comm closet
A26: Cabling Material cost: | D26: =SUM(D7:D14) -> 0
A27: Cabling Labor cost: | D27: =+D17 -> 0
A28: Tax (5.655%): | D28: =+D26*0.05655 -> 0
A29: Total Cost: | D29: =SUM(D26:D28) -> 0
D33: AUTHORIZED VENDOR SIGNATURE
D35: Vendor Name
D37: Vendor Signature & Date

Sheet 2027 Ochoa
A1: OCHOA OAP QUOTE
A2: ITEM DESCRIPTION | B2: QTY | C2: UNIT COST | D2: EXTENDED COST | E2: NOTES
A3: Cat 6 Cables drops | B3: 6
A4: Estimated FEET of Cat 6 Plenum Cable | B4: =330*B3 -> 1980
A5: Estimated Related Components | B5: =100*B3 -> 600
A6: Please itemize Related Components (e.g., faceplates, conduit, raceways, mounting/junction boxes, j-hooks, mounting hardware, patch panels, and similar items needed for a complete and working system):
A7: Cable in FEET | D7: =+C7*B7 -> 0
A8: Racks (if needed) | D8: =+C8*B8 -> 0
A9: Related Component 1 | D9: =+C9*B9 -> 0
A10: Related Component 2 | D10: =+C10*B10 -> 0
A11: Related Component 3 | D11: =+C11*B11 -> 0
A12: Related Component 4 | D12: =+C12*B12 -> 0
A13: Related Component 5 | D13: =+C13*B13 -> 0
A14: Related Component 6 | D14: =+C14*B14 -> 0
A16: Installation:
A17: Price per drop/run | B17: =+B3 -> 6 | D17: =+C17*B17 -> 0
A18: Price to include Testing and Labeling of new drops/runs
A20: Cable Pathways:
A21: Vendor to specify how they address this area (in NOTES)
A23: Note: TUSD will provide and patch panel if needed in the comm closet
A26: Cabling Material cost: | D26: =SUM(D7:D14) -> 0
A27: Cabling Labor cost: | D27: =+D17 -> 0
A28: Tax (5.655%): | D28: =+D26*0.05655 -> 0
A29: Total Cost: | D29: =SUM(D26:D28) -> 0
D33: AUTHORIZED VENDOR SIGNATURE
D35: Vendor Name
D37: Vendor Signature & Date

Sheet 2027 Oyama
A1: OYAMA OAP QUOTE
A2: ITEM DESCRIPTION | B2: QTY | C2: UNIT COST | D2: EXTENDED COST | E2: NOTES
A3: Cat 6 Cables drops | B3: 5
A4: Estimated FEET of Cat 6 Plenum Cable | B4: =330*B3 -> 1650
A5: Estimated Related Components | B5: =100*B3 -> 500
A6: Please itemize Related Components (e.g., faceplates, conduit, raceways, mounting/junction boxes, j-hooks, mounting hardware, patch panels, and similar items needed for a complete and working system):
A7: Cable in FEET | D7: =+C7*B7 -> 0
A8: Racks (if needed) | D8: =+C8*B8 -> 0
A9: Related Component 1 | D9: =+C9*B9 -> 0
A10: Related Component 2 | D10: =+C10*B10 -> 0
A11: Related Component 3 | D11: =+C11*B11 -> 0
A12: Related Component 4 | D12: =+C12*B12 -> 0
A13: Related Component 5 | D13: =+C13*B13 -> 0
A14: Related Component 6 | D14: =+C14*B14 -> 0
A16: Installation:
A17: Price per drop/run | B17: =+B3 -> 5 | D17: =+C17*B17 -> 0
A18: Price to include Testing and Labeling of new drops/runs
A20: Cable Pathways:
A21: Vendor to specify how they address this area (in NOTES)
A23: Note: TUSD will provide and patch panel if needed in the comm closet
A26: Cabling Material cost: | D26: =SUM(D7:D14) -> 0
A27: Cabling Labor cost: | D27: =+D17 -> 0
A28: Tax (5.655%): | D28: =+D26*0.05655 -> 0
A29: Total Cost: | D29: =SUM(D26:D28) -> 0
D33: AUTHORIZED VENDOR SIGNATURE
D35: Vendor Name
D37: Vendor Signature & Date

Sheet 2027 Pistor
A1: PISTOR OAP QUOTE
A2: ITEM DESCRIPTION | B2: QTY | C2: UNIT COST | D2: EXTENDED COST | E2: NOTES
A3: Cat 6 Cables drops | B3: 7
A4: Estimated FEET of Cat 6 Plenum Cable | B4: =330*B3 -> 2310
A5: Estimated Related Components | B5: =100*B3 -> 700
A6: Please itemize Related Components (e.g., faceplates, conduit, raceways, mounting/junction boxes, j-hooks, mounting hardware, patch panels, and similar items needed for a complete and working system):
A7: Cable in FEET | D7: =+C7*B7 -> 0
A8: Racks (if needed) | D8: =+C8*B8 -> 0
A9: Related Component 1 | D9: =+C9*B9 -> 0
A10: Related Component 2 | D10: =+C10*B10 -> 0
A11: Related Component 3 | D11: =+C11*B11 -> 0
A12: Related Component 4 | D12: =+C12*B12 -> 0
A13: Related Component 5 | D13: =+C13*B13 -> 0
A14: Related Component 6 | D14: =+C14*B14 -> 0
A16: Installation:
A17: Price per drop/run | B17: =+B3 -> 7 | D17: =+C17*B17 -> 0
A18: Price to include Testing and Labeling of new drops/runs
A20: Cable Pathways:
A21: Vendor to specify how they address this area (in NOTES)
A23: Note: TUSD will provide and patch panel if needed in the comm closet
A26: Cabling Material cost: | D26: =SUM(D7:D14) -> 0
A27: Cabling Labor cost: | D27: =+D17 -> 0
A28: Tax (5.655%): | D28: =+D26*0.05655 -> 0
A29: Total Cost: | D29: =SUM(D26:D28) -> 0
D33: AUTHORIZED VENDOR SIGNATURE
D35: Vendor Name
D37: Vendor Signature & Date

Sheet 2027 Safford
A1: SAFFORD OAP QUOTE
A2: ITEM DESCRIPTION | B2: QTY | C2: UNIT COST | D2: EXTENDED COST | E2: NOTES
A3: Cat 6 Cables drops | B3: 8
A4: Estimated FEET of Cat 6 Plenum Cable | B4: =330*B3 -> 2640
A5: Estimated Related Components | B5: =100*B3 -> 800
A6: Please itemize Related Components (e.g., faceplates, conduit, raceways, mounting/junction boxes, j-hooks, mounting hardware, patch panels, and similar items needed for a complete and working system):
A7: Cable in FEET | D7: =+C7*B7 -> 0
A8: Racks (if needed) | D8: =+C8*B8 -> 0
A9: Related Component 1 | D9: =+C9*B9 -> 0
A10: Related Component 2 | D10: =+C10*B10 -> 0
A11: Related Component 3 | D11: =+C11*B11 -> 0
A12: Related Component 4 | D12: =+C12*B12 -> 0
A13: Related Component 5 | D13: =+C13*B13 -> 0
A14: Related Component 6 | D14: =+C14*B14 -> 0
A16: Installation:
A17: Price per drop/run | B17: =+B3 -> 8 | D17: =+C17*B17 -> 0
A18: Price to include Testing and Labeling of new drops/runs
A20: Cable Pathways:
A21: Vendor to specify how they address this area (in NOTES)
A23: Note: TUSD will provide and patch panel if needed in the comm closet
A26: Cabling Material cost: | D26: =SUM(D7:D14) -> 0
A27: Cabling Labor cost: | D27: =+D17 -> 0
A28: Tax (5.655%): | D28: =+D26*0.05655 -> 0
A29: Total Cost: | D29: =SUM(D26:D28) -> 0
D33: AUTHORIZED VENDOR SIGNATURE
D35: Vendor Name
D37: Vendor Signature & Date

Sheet 2027 Utterback
A1: UTTERBACK OAP QUOTE
A2: ITEM DESCRIPTION | B2: QTY | C2: UNIT COST | D2: EXTENDED COST | E2: NOTES
A3: Cat 6 Cables drops | B3: 6
A4: Estimated FEET of Cat 6 Plenum Cable | B4: =330*B3 -> 1980
A5: Estimated Related Components | B5: =100*B3 -> 600
A6: Please itemize Related Components (e.g., faceplates, conduit, raceways, mounting/junction boxes, j-hooks, mounting hardware, patch panels, and similar items needed for a complete and working system):
A7: Cable in FEET | D7: =+C7*B7 -> 0
A8: Racks (if needed) | D8: =+C8*B8 -> 0
A9: Related Component 1 | D9: =+C9*B9 -> 0
A10: Related Component 2 | D10: =+C10*B10 -> 0
A11: Related Component 3 | D11: =+C11*B11 -> 0
A12: Related Component 4 | D12: =+C12*B12 -> 0
A13: Related Component 5 | D13: =+C13*B13 -> 0
A14: Related Component 6 | D14: =+C14*B14 -> 0
A16: Installation:
A17: Price per drop/run | B17: =+B3 -> 6 | D17: =+C17*B17 -> 0
A18: Price to include Testing and Labeling of new drops/runs
A20: Cable Pathways:
A21: Vendor to specify how they address this area (in NOTES)
A23: Note: TUSD will provide and patch panel if needed in the comm closet
A26: Cabling Material cost: | D26: =SUM(D7:D14) -> 0
A27: Cabling Labor cost: | D27: =+D17 -> 0
A28: Tax (5.655%): | D28: =+D26*0.05655 -> 0
A29: Total Cost: | D29: =SUM(D26:D28) -> 0
D33: AUTHORIZED VENDOR SIGNATURE
D35: Vendor Name
D37: Vendor Signature & Date

Sheet 2027 Vail
A1: VAIL OAP QUOTE
A2: ITEM DESCRIPTION | B2: QTY | C2: UNIT COST | D2: EXTENDED COST | E2: NOTES
A3: Cat 6 Cables drops | B3: 10
A4: Estimated FEET of Cat 6 Plenum Cable | B4: =330*B3 -> 3300
A5: Estimated Related Components | B5: =100*B3 -> 1000
A6: Please itemize Related Components (e.g., faceplates, conduit, raceways, mounting/junction boxes, j-hooks, mounting hardware, patch panels, and similar items needed for a complete and working system):
A7: Cable in FEET | D7: =+C7*B7 -> 0
A8: Racks (if needed) | D8: =+C8*B8 -> 0
A9: Related Component 1 | D9: =+C9*B9 -> 0
A10: Related Component 2 | D10: =+C10*B10 -> 0
A11: Related Component 3 | D11: =+C11*B11 -> 0
A12: Related Component 4 | D12: =+C12*B12 -> 0
A13: Related Component 5 | D13: =+C13*B13 -> 0
A14: Related Component 6 | D14: =+C14*B14 -> 0
A16: Installation:
A17: Price per drop/run | B17: =+B3 -> 10 | D17: =+C17*B17 -> 0
A18: Price to include Testing and Labeling of new drops/runs
A20: Cable Pathways:
A21: Vendor to specify how they address this area (in NOTES)
A23: Note: TUSD will provide and patch panel if needed in the comm closet
A26: Cabling Material cost: | D26: =SUM(D7:D14) -> 0
A27: Cabling Labor cost: | D27: =+D17 -> 0
A28: Tax (5.655%): | D28: =+D26*0.05655 -> 0
A29: Total Cost: | D29: =SUM(D26:D28) -> 0
D33: AUTHORIZED VENDOR SIGNATURE
D35: Vendor Name
D37: Vendor Signature & Date

Sheet 2028 Borton
A1: BORTON OAP QUOTE
A2: ITEM DESCRIPTION | B2: QTY | C2: UNIT COST | D2: EXTENDED COST | E2: NOTES
A3: Cat 6 Cables drops | B3: 8
A4: Estimated FEET of Cat 6 Plenum Cable | B4: =330*B3 -> 2640
A5: Estimated Related Components | B5: =100*B3 -> 800
A6: Please itemize Related Components (e.g., faceplates, conduit, raceways, mounting/junction boxes, j-hooks, mounting hardware, patch panels, and similar items needed for a complete and working system):
A7: Cable in FEET | D7: =+C7*B7 -> 0
A8: Racks (if needed) | D8: =+C8*B8 -> 0
A9: Related Component 1 | D9: =+C9*B9 -> 0
A10: Related Component 2 | D10: =+C10*B10 -> 0
A11: Related Component 3 | D11: =+C11*B11 -> 0
A12: Related Component 4 | D12: =+C12*B12 -> 0
A13: Related Component 5 | D13: =+C13*B13 -> 0
A14: Related Component 6 | D14: =+C14*B14 -> 0
A16: Installation:
A17: Price per drop/run | B17: =+B3 -> 8 | D17: =+C17*B17 -> 0
A18: Price to include Testing and Labeling of new drops/runs
A20: Cable Pathways:
A21: Vendor to specify how they address this area (in NOTES)
A23: Note: TUSD will provide and patch panel if needed in the comm closet
A26: Cabling Material cost: | D26: =SUM(D7:D14) -> 0
A27: Cabling Labor cost: | D27: =+D17 -> 0
A28: Tax (5.655%): | D28: =+D26*0.05655 -> 0
A29: Total Cost: | D29: =SUM(D26:D28) -> 0
D33: AUTHORIZED VENDOR SIGNATURE
D35: Vendor Name
D37: Vendor Signature & Date

Sheet 2028 Doolen
A1: DOOLEN OAP QUOTE
A2: ITEM DESCRIPTION | B2: QTY | C2: UNIT COST | D2: EXTENDED COST | E2: NOTES
A3: Cat 6 Cables drops | B3: 6
A4: Estimated FEET of Cat 6 Plenum Cable | B4: =330*B3 -> 1980
A5: Estimated Related Components | B5: =100*B3 -> 600
A6: Please itemize Related Components (e.g., faceplates, conduit, raceways, mounting/junction boxes, j-hooks, mounting hardware, patch panels, and similar items needed for a complete and working system):
A7: Cable in FEET | D7: =+C7*B7 -> 0
A8: Racks (if needed) | D8: =+C8*B8 -> 0
A9: Related Component 1 | D9: =+C9*B9 -> 0
A10: Related Component 2 | D10: =+C10*B10 -> 0
A11: Related Component 3 | D11: =+C11*B11 -> 0
A12: Related Component 4 | D12: =+C12*B12 -> 0
A13: Related Component 5 | D13: =+C13*B13 -> 0
A14: Related Component 6 | D14: =+C14*B14 -> 0
A16: Installation:
A17: Price per drop/run | B17: =+B3 -> 6 | D17: =+C17*B17 -> 0
A18: Price to include Testing and Labeling of new drops/runs
A20: Cable Pathways:
A21: Vendor to specify how they address this area (in NOTES)
A23: Note: TUSD will provide and patch panel if needed in the comm closet
A26: Cabling Material cost: | D26: =SUM(D7:D14) -> 0
A27: Cabling Labor cost: | D27: =+D17 -> 0
A28: Tax (5.655%): | D28: =+D26*0.05655 -> 0
A29: Total Cost: | D29: =SUM(D26:D28) -> 0
D33: AUTHORIZED VENDOR SIGNATURE
D35: Vendor Name
D37: Vendor Signature & Date

Sheet 2028 Gridley
A1: GRIDLEY OAP QUOTE
A2: ITEM DESCRIPTION | B2: QTY | C2: UNIT COST | D2: EXTENDED COST | E2: NOTES
A3: Cat 6 Cables drops | B3: 5
A4: Estimated FEET of Cat 6 Plenum Cable | B4: =330*B3 -> 1650
A5: Estimated Related Components | B5: =100*B3 -> 500
A6: Please itemize Related Components (e.g., faceplates, conduit, raceways, mounting/junction boxes, j-hooks, mounting hardware, patch panels, and similar items needed for a complete and working system):
A7: Cable in FEET | D7: =+C7*B7 -> 0
A8: Racks (if needed) | D8: =+C8*B8 -> 0
A9: Related Component 1 | D9: =+C9*B9 -> 0
A10: Related Component 2 | D10: =+C10*B10 -> 0
A11: Related Component 3 | D11: =+C11*B11 -> 0
A12: Related Component 4 | D12: =+C12*B12 -> 0
A13: Related Component 5 | D13: =+C13*B13 -> 0
A14: Related Component 6 | D14: =+C14*B14 -> 0
A16: Installation:
A17: Price per drop/run | B17: =+B3 -> 5 | D17: =+C17*B17 -> 0
A18: Price to include Testing and Labeling of new drops/runs
A20: Cable Pathways:
A21: Vendor to specify how they address this area (in NOTES)
A23: Note: TUSD will provide and patch panel if needed in the comm closet
A26: Cabling Material cost: | D26: =SUM(D7:D14) -> 0
A27: Cabling Labor cost: | D27: =+D17 -> 0
A28: Tax (5.655%): | D28: =+D26*0.05655 -> 0
A29: Total Cost: | D29: =SUM(D26:D28) -> 0
D33: AUTHORIZED VENDOR SIGNATURE
D35: Vendor Name
D37: Vendor Signature & Date

Sheet 2028 Holladay
A1: HOLLADAY OAP QUOTE
A2: ITEM DESCRIPTION | B2: QTY | C2: UNIT COST | D2: EXTENDED COST | E2: NOTES
A3: Cat 6 Cables drops | B3: 5
A4: Estimated FEET of Cat 6 Plenum Cable | B4: =330*B3 -> 1650
A5: Estimated Related Components | B5: =100*B3 -> 500
A6: Please itemize Related Components (e.g., faceplates, conduit, raceways, mounting/junction boxes, j-hooks, mounting hardware, patch panels, and similar items needed for a complete and working system):
A7: Cable in FEET | D7: =+C7*B7 -> 0
A8: Racks (if needed) | D8: =+C8*B8 -> 0
A9: Related Component 1 | D9: =+C9*B9 -> 0
A10: Related Component 2 | D10: =+C10*B10 -> 0
A11: Related Component 3 | D11: =+C11*B11 -> 0
A12: Related Component 4 | D12: =+C12*B12 -> 0
A13: Related Component 5 | D13: =+C13*B13 -> 0
A14: Related Component 6 | D14: =+C14*B14 -> 0
A16: Installation:
A17: Price per drop/run | B17: =+B3 -> 5 | D17: =+C17*B17 -> 0
A18: Price to include Testing and Labeling of new drops/runs
A20: Cable Pathways:
A21: Vendor to specify how they address this area (in NOTES)
A23: Note: TUSD will provide and patch panel if needed in the comm closet
A26: Cabling Material cost: | D26: =SUM(D7:D14) -> 0
A27: Cabling Labor cost: | D27: =+D17 -> 0
A28: Tax (5.655%): | D28: =+D26*0.05655 -> 0
A29: Total Cost: | D29: =SUM(D26:D28) -> 0
D33: AUTHORIZED VENDOR SIGNATURE
D35: Vendor Name
D37: Vendor Signature & Date

Sheet 2028 Hollinger
A1: HOLLINGER OAP QUOTE
A2: ITEM DESCRIPTION | B2: QTY | C2: UNIT COST | D2: EXTENDED COST | E2: NOTES
A3: Cat 6 Cables drops | B3: 10
A4: Estimated FEET of Cat 6 Plenum Cable | B4: =330*B3 -> 3300
A5: Estimated Related Components | B5: =100*B3 -> 1000
A6: Please itemize Related Components (e.g., faceplates, conduit, raceways, mounting/junction boxes, j-hooks, mounting hardware, patch panels, and similar items needed for a complete and working system):
A7: Cable in FEET | D7: =+C7*B7 -> 0
A8: Racks (if needed) | D8: =+C8*B8 -> 0
A9: Related Component 1 | D9: =+C9*B9 -> 0
A10: Related Component 2 | D10: =+C10*B10 -> 0
A11: Related Component 3 | D11: =+C11*B11 -> 0
A12: Related Component 4 | D12: =+C12*B12 -> 0
A13: Related Component 5 | D13: =+C13*B13 -> 0
A14: Related Component 6 | D14: =+C14*B14 -> 0
A16: Installation:
A17: Price per drop/run | B17: =+B3 -> 10 | D17: =+C17*B17 -> 0
A18: Price to include Testing and Labeling of new drops/runs
A20: Cable Pathways:
A21: Vendor to specify how they address this area (in NOTES)
A23: Note: TUSD will provide and patch panel if needed in the comm closet
A26: Cabling Material cost: | D26: =SUM(D7:D14) -> 0
A27: Cabling Labor cost: | D27: =+D17 -> 0
A28: Tax (5.655%): | D28: =+D26*0.05655 -> 0
A29: Total Cost: | D29: =SUM(D26:D28) -> 0
D33: AUTHORIZED VENDOR SIGNATURE
D35: Vendor Name
D37: Vendor Signature & Date

Sheet 2028 Kellond
A1: KELLOND OAP QUOTE
A2: ITEM DESCRIPTION | B2: QTY | C2: UNIT COST | D2: EXTENDED COST | E2: NOTES
A3: Cat 6 Cables drops | B3: 4
A4: Estimated FEET of Cat 6 Plenum Cable | B4: =330*B3 -> 1320
A5: Estimated Related Components | B5: =100*B3 -> 400
A6: Please itemize Related Components (e.g., faceplates, conduit, raceways, mounting/junction boxes, j-hooks, mounting hardware, patch panels, and similar items needed for a complete and working system):
A7: Cable in FEET | D7: =+C7*B7 -> 0
A8: Racks (if needed) | D8: =+C8*B8 -> 0
A9: Related Component 1 | D9: =+C9*B9 -> 0
A10: Related Component 2 | D10: =+C10*B10 -> 0
A11: Related Component 3 | D11: =+C11*B11 -> 0
A12: Related Component 4 | D12: =+C12*B12 -> 0
A13: Related Component 5 | D13: =+C13*B13 -> 0
A14: Related Component 6 | D14: =+C14*B14 -> 0
A16: Installation:
A17: Price per drop/run | B17: =+B3 -> 4 | D17: =+C17*B17 -> 0
A18: Price to include Testing and Labeling of new drops/runs
A20: Cable Pathways:
A21: Vendor to specify how they address this area (in NOTES)
A23: Note: TUSD will provide and patch panel if needed in the comm closet
A26: Cabling Material cost: | D26: =SUM(D7:D14) -> 0
A27: Cabling Labor cost: | D27: =+D17 -> 0
A28: Tax (5.655%): | D28: =+D26*0.05655 -> 0
A29: Total Cost: | D29: =SUM(D26:D28) -> 0
D33: AUTHORIZED VENDOR SIGNATURE
D35: Vendor Name
D37: Vendor Signature & Date

Sheet 2028 Mansfeld
A1: MANSFELD OAP UPGRADE QUOTE
A2: ITEM DESCRIPTION | B2: QTY | C2: UNIT COST | D2: EXTENDED COST | E2: NOTES
A3: Cat 6 Cables drops | B3: 5
A4: Estimated FEET of Cat 6 Plenum Cable | B4: =330*B3 -> 1650
A5: Estimated Related Components | B5: =100*B3 -> 500
A6: Please itemize Related Components (e.g., faceplates, conduit, raceways, mounting/junction boxes, j-hooks, mounting hardware, patch panels, and similar items needed for a complete and working system):
A7: Cable in FEET | D7: =+C7*B7 -> 0
A8: Racks (if needed) | D8: =+C8*B8 -> 0
A9: Related Component 1 | D9: =+C9*B9 -> 0
A10: Related Component 2 | D10: =+C10*B10 -> 0
A11: Related Component 3 | D11: =+C11*B11 -> 0
A12: Related Component 4 | D12: =+C12*B12 -> 0
A13: Related Component 5 | D13: =+C13*B13 -> 0
A14: Related Component 6 | D14: =+C14*B14 -> 0
A16: Installation:
A17: Price per drop/run | B17: =+B3 -> 5 | D17: =+C17*B17 -> 0
A18: Price to include Testing and Labeling of new drops/runs
A20: Cable Pathways:
A21: Vendor to specify how they address this area (in NOTES)
A23: Note: TUSD will provide and patch panel if needed in the comm closet
A26: Cabling Material cost: | D26: =SUM(D7:D14) -> 0
A27: Cabling Labor cost: | D27: =+D17 -> 0
A28: Tax (5.655%): | D28: =+D26*0.05655 -> 0
A29: Total Cost: | D29: =SUM(D26:D28) -> 0
D33: AUTHORIZED VENDOR SIGNATURE
D35: Vendor Name
D37: Vendor Signature & Date

Sheet 2028 Marshall
A1: MARSHALL OAP UPGRADE QUOTE
A2: ITEM DESCRIPTION | B2: QTY | C2: UNIT COST | D2: EXTENDED COST | E2: NOTES
A3: Cat 6 Cables drops | B3: 4
A4: Estimated FEET of Cat 6 Plenum Cable | B4: =330*B3 -> 1320
A5: Estimated Related Components | B5: =100*B3 -> 400
A6: Please itemize Related Components (e.g., faceplates, conduit, raceways, mounting/junction boxes, j-hooks, mounting hardware, patch panels, and similar items needed for a complete and working system):
A7: Cable in FEET | D7: =+C7*B7 -> 0
A8: Racks (if needed) | D8: =+C8*B8 -> 0
A9: Related Component 1 | D9: =+C9*B9 -> 0
A10: Related Component 2 | D10: =+C10*B10 -> 0
A11: Related Component 3 | D11: =+C11*B11 -> 0
A12: Related Component 4 | D12: =+C12*B12 -> 0
A13: Related Component 5 | D13: =+C13*B13 -> 0
A14: Related Component 6 | D14: =+C14*B14 -> 0
A16: Installation:
A17: Price per drop/run | B17: =+B3 -> 4 | D17: =+C17*B17 -> 0
A18: Price to include Testing and Labeling of new drops/runs
A20: Cable Pathways:
A21: Vendor to specify how they address this area (in NOTES)
A23: Note: TUSD will provide and patch panel if needed in the comm closet
A26: Cabling Material cost: | D26: =SUM(D7:D14) -> 0
A27: Cabling Labor cost: | D27: =+D17 -> 0
A28: Tax (5.655%): | D28: =+D26*0.05655 -> 0
A29: Total Cost: | D29: =SUM(D26:D28) -> 0
D33: AUTHORIZED VENDOR SIGNATURE
D35: Vendor Name
D37: Vendor Signature & Date

Sheet 2028 Maxwell
A1: MAXWELL OAP UPGRADE QUOTE
A2: ITEM DESCRIPTION | B2: QTY | C2: UNIT COST | D2: EXTENDED COST | E2: NOTES
A3: Cat 6 Cables drops | B3: 6
A4: Estimated FEET of Cat 6 Plenum Cable | B4: =330*B3 -> 1980
A5: Estimated Related Components | B5: =100*B3 -> 600
A6: Please itemize Related Components (e.g., faceplates, conduit, raceways, mounting/junction boxes, j-hooks, mounting hardware, patch panels, and similar items needed for a complete and working system):
A7: Cable in FEET | D7: =+C7*B7 -> 0
A8: Racks (if needed) | D8: =+C8*B8 -> 0
A9: Related Component 1 | D9: =+C9*B9 -> 0
A10: Related Component 2 | D10: =+C10*B10 -> 0
A11: Related Component 3 | D11: =+C11*B11 -> 0
A12: Related Component 4 | D12: =+C12*B12 -> 0
A13: Related Component 5 | D13: =+C13*B13 -> 0
A14: Related Component 6 | D14: =+C14*B14 -> 0
A16: Installation:
A17: Price per drop/run | B17: =+B3 -> 6 | D17: =+C17*B17 -> 0
A18: Price to include Testing and Labeling of new drops/runs
A20: Cable Pathways:
A21: Vendor to specify how they address this area (in NOTES)
A23: Note: TUSD will provide and patch panel if needed in the comm closet
A26: Cabling Material cost: | D26: =SUM(D7:D14) -> 0
A27: Cabling Labor cost: | D27: =+D17 -> 0
A28: Tax (5.655%): | D28: =+D26*0.05655 -> 0
A29: Total Cost: | D29: =SUM(D26:D28) -> 0
D33: AUTHORIZED VENDOR SIGNATURE
D35: Vendor Name
D37: Vendor Signature & Date

Sheet 2028 Miles
A1: MILES OAP UPGRADE QUOTE
A2: ITEM DESCRIPTION | B2: QTY | C2: UNIT COST | D2: EXTENDED COST | E2: NOTES
A3: Cat 6 Cables drops | B3: 7
A4: Estimated FEET of Cat 6 Plenum Cable | B4: =330*B3 -> 2310
A5: Estimated Related Components | B5: =100*B3 -> 700
A6: Please itemize Related Components (e.g., faceplates, conduit, raceways, mounting/junction boxes, j-hooks, mounting hardware, patch panels, and similar items needed for a complete and working system):
A7: Cable in FEET | D7: =+C7*B7 -> 0
A8: Racks (if needed) | D8: =+C8*B8 -> 0
A9: Related Component 1 | D9: =+C9*B9 -> 0
A10: Related Component 2 | D10: =+C10*B10 -> 0
A11: Related Component 3 | D11: =+C11*B11 -> 0
A12: Related Component 4 | D12: =+C12*B12 -> 0
A13: Related Component 5 | D13: =+C13*B13 -> 0
A14: Related Component 6 | D14: =+C14*B14 -> 0
A16: Installation:
A17: Price per drop/run | B17: =+B3 -> 7 | D17: =+C17*B17 -> 0
A18: Price to include Testing and Labeling of new drops/runs
A20: Cable Pathways:
A21: Vendor to specify how they address this area (in NOTES)
A23: Note: TUSD will provide and patch panel if needed in the comm closet
A26: Cabling Material cost: | D26: =SUM(D7:D14) -> 0
A27: Cabling Labor cost: | D27: =+D17 -> 0
A28: Tax (5.655%): | D28: =+D26*0.05655 -> 0
A29: Total Cost: | D29: =SUM(D26:D28) -> 0
D33: AUTHORIZED VENDOR SIGNATURE
D35: Vendor Name
D37: Vendor Signature & Date

Sheet 2028 Roberts-Naylor
A1: ROBERT-NAYLOR QUOTE
A2: ITEM DESCRIPTION | B2: QTY | C2: UNIT COST | D2: EXTENDED COST | E2: NOTES
A3: Cat 6 Cables drops | B3: 6
A4: Estimated FEET of Cat 6 Plenum Cable | B4: =330*B3 -> 1980
A5: Estimated Related Components | B5: =100*B3 -> 600
A6: Please itemize Related Components (e.g., faceplates, conduit, raceways, mounting/junction boxes, j-hooks, mounting hardware, patch panels, and similar items needed for a complete and working system):
A7: Cable in FEET | D7: =+C7*B7 -> 0
A8: Racks (if needed) | D8: =+C8*B8 -> 0
A9: Related Component 1 | D9: =+C9*B9 -> 0
A10: Related Component 2 | D10: =+C10*B10 -> 0
A11: Related Component 3 | D11: =+C11*B11 -> 0
A12: Related Component 4 | D12: =+C12*B12 -> 0
A13: Related Component 5 | D13: =+C13*B13 -> 0
A14: Related Component 6 | D14: =+C14*B14 -> 0
A16: Installation:
A17: Price per drop/run | B17: =+B3 -> 6 | D17: =+C17*B17 -> 0
A18: Price to include Testing and Labeling of new drops/runs
A20: Cable Pathways:
A21: Vendor to specify how they address this area (in NOTES)
A23: Note: TUSD will provide and patch panel if needed in the comm closet
A26: Cabling Material cost: | D26: =SUM(D7:D14) -> 0
A27: Cabling Labor cost: | D27: =+D17 -> 0
A28: Tax (5.655%): | D28: =+D26*0.05655 -> 0
A29: Total Cost: | D29: =SUM(D26:D28) -> 0
D33: AUTHORIZED VENDOR SIGNATURE
D35: Vendor Name
D37: Vendor Signature & Date

Sheet 2028 Roskruge
A1: ROSKRUGE OAP QUOTE
A2: ITEM DESCRIPTION | B2: QTY | C2: UNIT COST | D2: EXTENDED COST | E2: NOTES
A3: Cat 6 Cables drops | B3: 5
A4: Estimated FEET of Cat 6 Plenum Cable | B4: =330*B3 -> 1650
A5: Estimated Related Components | B5: =100*B3 -> 500
A6: Please itemize Related Components (e.g., faceplates, conduit, raceways, mounting/junction boxes, j-hooks, mounting hardware, patch panels, and similar items needed for a complete and working system):
A7: Cable in FEET | D7: =+C7*B7 -> 0
A8: Racks (if needed) | D8: =+C8*B8 -> 0
A9: Related Component 1 | D9: =+C9*B9 -> 0
A10: Related Component 2 | D10: =+C10*B10 -> 0
A11: Related Component 3 | D11: =+C11*B11 -> 0
A12: Related Component 4 | D12: =+C12*B12 -> 0
A13: Related Component 5 | D13: =+C13*B13 -> 0
A14: Related Component 6 | D14: =+C14*B14 -> 0
A16: Installation:
A17: Price per drop/run | B17: =+B3 -> 5 | D17: =+C17*B17 -> 0
A18: Price to include Testing and Labeling of new drops/runs
A20: Cable Pathways:
A21: Vendor to specify how they address this area (in NOTES)
A23: Note: TUSD will provide and patch panel if needed in the comm closet
A26: Cabling Material cost: | D26: =SUM(D7:D14) -> 0
A27: Cabling Labor cost: | D27: =+D17 -> 0
A28: Tax (5.655%): | D28: =+D26*0.05655 -> 0
A29: Total Cost: | D29: =SUM(D26:D28) -> 0
D33: AUTHORIZED VENDOR SIGNATURE
D35: Vendor Name
D37: Vendor Signature & Date

Sheet 2028 Wright
A1: WRIGHT OAP QUOTE
A2: ITEM DESCRIPTION | B2: QTY | C2: UNIT COST | D2: EXTENDED COST | E2: NOTES
A3: Cat 6 Cables drops | B3: 8
A4: Estimated FEET of Cat 6 Plenum Cable | B4: =330*B3 -> 2640
A5: Estimated Related Components | B5: =100*B3 -> 800
A6: Please itemize Related Components (e.g., faceplates, conduit, raceways, mounting/junction boxes, j-hooks, mounting hardware, patch panels, and similar items needed for a complete and working system):
A7: Cable in FEET | D7: =+C7*B7 -> 0
A8: Racks (if needed) | D8: =+C8*B8 -> 0
A9: Related Component 1 | D9: =+C9*B9 -> 0
A10: Related Component 2 | D10: =+C10*B10 -> 0
A11: Related Component 3 | D11: =+C11*B11 -> 0
A12: Related Component 4 | D12: =+C12*B12 -> 0
A13: Related Component 5 | D13: =+C13*B13 -> 0
A14: Related Component 6 | D14: =+C14*B14 -> 0
A16: Installation:
A17: Price per drop/run | B17: =+B3 -> 8 | D17: =+C17*B17 -> 0
A18: Price to include Testing and Labeling of new drops/runs
A20: Cable Pathways:
A21: Vendor to specify how they address this area (in NOTES)
A23: Note: TUSD will provide and patch panel if needed in the comm closet
A26: Cabling Material cost: | D26: =SUM(D7:D14) -> 0
A27: Cabling Labor cost: | D27: =+D17 -> 0
A28: Tax (5.655%): | D28: =+D26*0.05655 -> 0
A29: Total Cost: | D29: =SUM(D26:D28) -> 0
D33: AUTHORIZED VENDOR SIGNATURE
D35: Vendor Name
D37: Vendor Signature & Date
