Workbook

Sheet Vendor Info
A1: Metropolitan Area Network and Wide Area Network Equipment and Services
A2: Proposal is due by: | B2: Request for Proposal
A3: Tuesday, December 1, 2026 | B3: 510-27-02
B4: Garland Independent School District
B5: 501 S. Jupiter
B6: Garland, Texas 75042
B8: PROPOSING COMPANY CONTACT INFORMATION
A9: Company Name:
A10: Company Address:
A11: Company City, State, Zip Code:
A12: Primary Contact Name:
A13: Primary Contact Title:
A14: Primary Contact Telephone No:
A15: Primary Contact E-Mail Address:
A16: Primary Contact Physical Address:
A17: Primary Contact City, State, Zip Code:
B20: Enable editing at the top. Enter pricing on the "Totals" tab in "Column D". Enter Installation price total by site on each tab in "Column F" highlighted in blue. All other tabs are locked and calculated.

Sheet Totals
A1: Master Price Estimate
A4: Part Number | B4: Description | C4: Service Duration (Months) | D4: Unit List Price | E4: Qty | F4: Unit Net Price
A5: C9500-24Y4C-A (or equivalent) | B5: Catalyst 9500 24x1/10/25G and 4-port 40/100G, Advantage C9500-24Y4C-A | E5: =SUM('Ag Barn'!E5,'Linda Griffin'!E5,'Memorial Pathway Academy'!E5,'New Network Operations Center'!E5,'Walnut Glen'!E5) -> 8 | F5: =D5*E5 -> 0
A6: CON-SNT-C95024YA | B6: BAS 8X5XNBD Catalyst 9500 24x1/10/25G and 4-port 40/100G, A | E6: =SUM('Ag Barn'!E6,'Linda Griffin'!E6,'Memorial Pathway Academy'!E6,'New Network Operations Center'!E6,'Walnut Glen'!E6) -> 10 | F6: =D6*E6 -> 0
A7: CAB-N5K6A-NA | B7: Power Cord, 200/240V 6A North America | E7: =SUM('Ag Barn'!E7,'Linda Griffin'!E7,'Memorial Pathway Academy'!E7,'New Network Operations Center'!E7,'Walnut Glen'!E7) -> 8 | F7: =D7*E7 -> 0
A8: C9K-PWR-650WAC-R (or equivalent) | B8: 650W AC Config 4 Power Supply front to back cooling | E8: =SUM('Ag Barn'!E8,'Linda Griffin'!E8,'Memorial Pathway Academy'!E8,'New Network Operations Center'!E8,'Walnut Glen'!E8) -> 8 | F8: =D8*E8 -> 0
A9: C9K-PWR-650WAC-R/2 (or equivalent) | B9: 650W AC Config 4 Power Supply front to back cooling | E9: =SUM('Ag Barn'!E9,'Linda Griffin'!E9,'Memorial Pathway Academy'!E9,'New Network Operations Center'!E9,'Walnut Glen'!E9) -> 8 | F9: =D9*E9 -> 0
A10: C9K-T1-FANTRAY (or equivalent) | B10: Catalyst 9500 Type 4 front to back cooling Fan | E10: =SUM('Ag Barn'!E10,'Linda Griffin'!E10,'Memorial Pathway Academy'!E10,'New Network Operations Center'!E10,'Walnut Glen'!E10) -> 8 | F10: =D10*E10 -> 0
A11: C9500-NW-A (or equivalent) | B11: C9500 Network Stack, Advantage | E11: =SUM('Ag Barn'!E11,'Linda Griffin'!E11,'Memorial Pathway Academy'!E11,'New Network Operations Center'!E11,'Walnut Glen'!E11) -> 8 | F11: =D11*E11 -> 0
A12: S9500UK9-1718 | B12: CAT9300/9400/9500/9600 UNIVERSAL | E12: =SUM('Ag Barn'!E12,'Linda Griffin'!E12,'Memorial Pathway Academy'!E12,'New Network Operations Center'!E12,'Walnut Glen'!E12) -> 8 | F12: =D12*E12 -> 0
A13: C9K-F1-SSD-240G (or equivalent) | B13: Cisco pluggable SSD storage | E13: =SUM('Ag Barn'!E13,'Linda Griffin'!E13,'Memorial Pathway Academy'!E13,'New Network Operations Center'!E13,'Walnut Glen'!E13) -> 8 | F13: =D13*E13 -> 0
A14: C9500-DNA-24Y4C-A | B14: C9500 DNA Advantage, Term License | E14: =SUM('Ag Barn'!E14,'Linda Griffin'!E14,'Memorial Pathway Academy'!E14,'New Network Operations Center'!E14,'Walnut Glen'!E14) -> 8 | F14: =D14*E14 -> 0
A15: C9500-DNA-L-A-5Y | B15: DNA Advantage 5 Year License | C15: 60 | E15: =SUM('Ag Barn'!E15,'Linda Griffin'!E15,'Memorial Pathway Academy'!E15,'New Network Operations Center'!E15,'Walnut Glen'!E15) -> 8 | F15: =D15*E15 -> 0
A16: PI-LFAS-T (or equivalent) | B16: Prime Infrastructure Lifecycle & Assurance Term - Smart Lic | E16: =SUM('Ag Barn'!E16,'Linda Griffin'!E16,'Memorial Pathway Academy'!E16,'New Network Operations Center'!E16,'Walnut Glen'!E16) -> 8 | F16: =D16*E16 -> 0
A17: PI-LFAS-AP-T-5Y (or equivalent) | B17: PI Dev Lic for Lifecycle & Assurance Term 5Y | C17: 60 | E17: =SUM('Ag Barn'!E17,'Linda Griffin'!E17,'Memorial Pathway Academy'!E17,'New Network Operations Center'!E17,'Walnut Glen'!E17) -> 8 | F17: =D17*E17 -> 0
A18: NETWORK-PNP- LIC (or equivalent) | B18: Network Plug-n-Play Connect for zero-touch device deployment | E18: =SUM('Ag Barn'!E18,'Linda Griffin'!E18,'Memorial Pathway Academy'!E18,'New Network Operations Center'!E18,'Walnut Glen'!E18) -> 8 | F18: =D18*E18 -> 0
A19: SFP-10G-ER-S= (or equivalent) | B19: 10GBASE-ER SFP module | E19: =SUM('Ag Barn'!E19,'Linda Griffin'!E19,'Memorial Pathway Academy'!E19,'New Network Operations Center'!E19,'Walnut Glen'!E19) -> 16 | F19: =D19*E19 -> 0
A20: SFP-H10GB-CU1M (or equivalent) | B20: Twinax cable, passive, 30AWG cable assembly, 1M | E20: =SUM('Ag Barn'!E20,'Linda Griffin'!E20,'Memorial Pathway Academy'!E20,'New Network Operations Center'!E20,'Walnut Glen'!E20) -> 10 | F20: =D20*E20 -> 0
A21: QSFP 100GE CU1M (or equivalent) | B21: 100GBASE-CR4 Passive Copper Cable, 1M | E21: =SUM('Ag Barn'!E21,'Linda Griffin'!E21,'Memorial Pathway Academy'!E21,'New Network Operations Center'!E21,'Walnut Glen'!E21) -> 10 | F21: =D21*E21 -> 0
A22: N9K-C9508 | B22: Nexus 9508 Chassis with 8 linecard slots | E22: ='New Network Operations Center'!E22 -> 2 | F22: =D22*E22 -> 0
A23: CON-SNTP-N9508 | B23: SNTC-24X7X4 Nexus 9508 Chassis w | E23: ='New Network Operations Center'!E23 -> 2 | F23: =D23*E23 -> 0
A24: NXOS-CS-10.5.2F | B24: Nexus 9300, 9500, 9800 NX-OS SW 10.5.2 (64bit) Cisco Silicon | E24: ='New Network Operations Center'!E24 -> 2 | F24: =D24*E24 -> 0
A25: N9K-C9500-ACK | B25: Nexus 9500 Accessory Kit | E25: ='New Network Operations Center'!E25 -> 2 | F25: =D25*E25 -> 0
A26: MODE-NXOS | B26: Mode selection between ACI and NXOS | E26: ='New Network Operations Center'!E26 -> 2 | F26: =D26*E26 -> 0
A27: N9K-C9508-FAN | B27: Fan Tray for Nexus 9508 chassis, Port-side Intake | E27: ='New Network Operations Center'!E27 -> 6 | F27: =D27*E27 -> 0
A28: N9K-PAC-3000W-B | B28: Nexus 9500 3000W AC PS, Port-side Intake | E28: ='New Network Operations Center'!E28 -> 8 | F28: =D28*E28 -> 0
A29: CAB-C19-CBN | B29: Cabinet Jumper Power Cord, 250 VAC 16A, C20-C19 Connectors | E29: ='New Network Operations Center'!E29 -> 8 | F29: =D29*E29 -> 0
A30: DCN-OTHER | B30: Select if this product will NOT be used for AI Applications | E30: ='New Network Operations Center'!E30 -> 2 | F30: =D30*E30 -> 0
A31: N9K-SC-A | B31: System Controller for Nexus 9500 | E31: ='New Network Operations Center'!E31 -> 4 | F31: =D31*E31 -> 0
A32: N9K-C9508-FM-E2 | B32: Fabric Module for N9508 with 100G support, ACI and NX-OS | E32: ='New Network Operations Center'!E32 -> 10 | F32: =D32*E32 -> 0
A33: N9K-C9500-RMK | B33: Nexus 9500 Rack Mount Kit | E33: ='New Network Operations Center'!E33 -> 2 | F33: =D33*E33 -> 0
... A90: ONS-SE-155-1510 | B90: SFP - OC-3/STM-1, CWDM, 1510 nm, EXT | E90: ='New Network Operations Center'!E90 -> 2 | F90: =D90*E90 -> 0
A91: Installation/Project Mgt | B91: Configuration of Equipment, Installation and testing of equipment & User acceptance testing | F91: =SUM('Ag Barn'!F22, 'Linda Griffin'!F22, 'Memorial Pathway Academy'!F22, 'New Network Operations Center'!F91, 'Walnut Glen'!F22) -> 0
A92: Installation/Project Mgt | B92: Project Management & Network Documentation | F92: =SUM('Ag Barn'!F23, 'Linda Griffin'!F23, 'Memorial Pathway Academy'!F23, 'New Network Operations Center'!F92, 'Walnut Glen'!F23) -> 0
A93: Installation/Project Mgt | B93: Network / Engineering Design | F93: =SUM('Ag Barn'!F24, 'Linda Griffin'!F24, 'Memorial Pathway Academy'!F24, 'New Network Operations Center'!F93, 'Walnut Glen'!F24) -> 0
D95: Equipment Total | F95: =SUM(F5:F90) -> 0
D96: Installation Total | F96: =SUM(F91:F93) -> 0
D97: Grand Total | F97: =SUM(F95:F96) -> 0

Sheet Ag Barn
A1: Ag Barn Estimate
A4: Part Number | B4: Description | C4: Service Duration (Months) | D4: Unit List Price | E4: Qty | F4: Unit Net Price
A5: =Totals!A5 -> C9500-24Y4C-A (or equivalent) | B5: =Totals!B5 -> Catalyst 9500 24x1/10/25G and 4-port 40/100G, Advantage C9500-24Y4C-A | D5: =Totals!D5 -> 0 | E5: 2 | F5: =D5*E5 -> 0
A6: =Totals!A6 -> CON-SNT-C95024YA | B6: =Totals!B6 -> BAS 8X5XNBD Catalyst 9500 24x1/10/25G and 4-port 40/100G, A | D6: =Totals!D6 -> 0 | E6: 2 | F6: =D6*E6 -> 0
A7: =Totals!A7 -> CAB-N5K6A-NA | B7: =Totals!B7 -> Power Cord, 200/240V 6A North America | D7: =Totals!D7 -> 0 | E7: 2 | F7: =D7*E7 -> 0
A8: =Totals!A8 -> C9K-PWR-650WAC-R (or equivalent) | B8: =Totals!B8 -> 650W AC Config 4 Power Supply front to back cooling | D8: =Totals!D8 -> 0 | E8: 2 | F8: =D8*E8 -> 0
A9: =Totals!A9 -> C9K-PWR-650WAC-R/2 (or equivalent) | B9: =Totals!B9 -> 650W AC Config 4 Power Supply front to back cooling | D9: =Totals!D9 -> 0 | E9: 2 | F9: =D9*E9 -> 0
A10: =Totals!A10 -> C9K-T1-FANTRAY (or equivalent) | B10: =Totals!B10 -> Catalyst 9500 Type 4 front to back cooling Fan | D10: =Totals!D10 -> 0 | E10: 2 | F10: =D10*E10 -> 0
A11: =Totals!A11 -> C9500-NW-A (or equivalent) | B11: =Totals!B11 -> C9500 Network Stack, Advantage | D11: =Totals!D11 -> 0 | E11: 2 | F11: =D11*E11 -> 0
A12: =Totals!A12 -> S9500UK9-1718 | B12: =Totals!B12 -> CAT9300/9400/9500/9600 UNIVERSAL | D12: =Totals!D12 -> 0 | E12: 2 | F12: =D12*E12 -> 0
A13: =Totals!A13 -> C9K-F1-SSD-240G (or equivalent) | B13: =Totals!B13 -> Cisco pluggable SSD storage | D13: =Totals!D13 -> 0 | E13: 2 | F13: =D13*E13 -> 0
A14: =Totals!A14 -> C9500-DNA-24Y4C-A | B14: =Totals!B14 -> C9500 DNA Advantage, Term License | D14: =Totals!D14 -> 0 | E14: 2 | F14: =D14*E14 -> 0
A15: =Totals!A15 -> C9500-DNA-L-A-5Y | B15: =Totals!B15 -> DNA Advantage 5 Year License | C15: 60 | D15: =Totals!D15 -> 0 | E15: 2 | F15: =D15*E15 -> 0
A16: =Totals!A16 -> PI-LFAS-T (or equivalent) | B16: =Totals!B16 -> Prime Infrastructure Lifecycle & Assurance Term - Smart Lic | D16: =Totals!D16 -> 0 | E16: 2 | F16: =D16*E16 -> 0
A17: =Totals!A17 -> PI-LFAS-AP-T-5Y (or equivalent) | B17: =Totals!B17 -> PI Dev Lic for Lifecycle & Assurance Term 5Y | C17: 60 | D17: =Totals!D17 -> 0 | E17: 2 | F17: =D17*E17 -> 0
A18: =Totals!A18 -> NETWORK-PNP- LIC (or equivalent) | B18: =Totals!B18 -> Network Plug-n-Play Connect for zero-touch device deployment | D18: =Totals!D18 -> 0 | E18: 2 | F18: =D18*E18 -> 0
A19: =Totals!A19 -> SFP-10G-ER-S= (or equivalent) | B19: =Totals!B19 -> 10GBASE-ER SFP module | D19: =Totals!D19 -> 0 | E19: 4 | F19: =D19*E19 -> 0
A20: =Totals!A20 -> SFP-H10GB-CU1M (or equivalent) | B20: =Totals!B20 -> Twinax cable, passive, 30AWG cable assembly, 1M | D20: =Totals!D20 -> 0 | E20: 2 | F20: =D20*E20 -> 0
A21: =Totals!A21 -> QSFP 100GE CU1M (or equivalent) | B21: =Totals!B21 -> 100GBASE-CR4 Passive Copper Cable, 1M | D21: =Totals!D21 -> 0 | E21: 2 | F21: =D21*E21 -> 0
A22: Installation/Project Mgt | B22: Configuration of Equipment, Installation and testing of equipment & User acceptance testing
A23: Installation/Project Mgt | B23: Project Management & Network Documentation
A24: Installation/Project Mgt | B24: Network / Engineering Design
D26: Equipment Total | F26: =SUM(F5:F21) -> 0
D27: Installation Total | F27: =SUM(F22:F24) -> 0
D28: Grand Total | F28: =SUM(F26:F27) -> 0

Sheet Linda Griffin
A1: Linda Griffin Estimate
A4: Part Number | B4: Description | C4: Service Duration (Months) | D4: Unit List Price | E4: Qty | F4: Unit Net Price
A5: =Totals!A5 -> C9500-24Y4C-A (or equivalent) | B5: =Totals!B5 -> Catalyst 9500 24x1/10/25G and 4-port 40/100G, Advantage C9500-24Y4C-A | D5: =Totals!D5 -> 0 | E5: 0 | F5: =D5*E5 -> 0
A6: =Totals!A6 -> CON-SNT-C95024YA | B6: =Totals!B6 -> BAS 8X5XNBD Catalyst 9500 24x1/10/25G and 4-port 40/100G, A | D6: =Totals!D6 -> 0 | E6: 2 | F6: =D6*E6 -> 0
A7: =Totals!A7 -> CAB-N5K6A-NA | B7: =Totals!B7 -> Power Cord, 200/240V 6A North America | D7: =Totals!D7 -> 0 | E7: 0 | F7: =D7*E7 -> 0
A8: =Totals!A8 -> C9K-PWR-650WAC-R (or equivalent) | B8: =Totals!B8 -> 650W AC Config 4 Power Supply front to back cooling | D8: =Totals!D8 -> 0 | E8: 0 | F8: =D8*E8 -> 0
A9: =Totals!A9 -> C9K-PWR-650WAC-R/2 (or equivalent) | B9: =Totals!B9 -> 650W AC Config 4 Power Supply front to back cooling | D9: =Totals!D9 -> 0 | E9: 0 | F9: =D9*E9 -> 0
A10: =Totals!A10 -> C9K-T1-FANTRAY (or equivalent) | B10: =Totals!B10 -> Catalyst 9500 Type 4 front to back cooling Fan | D10: =Totals!D10 -> 0 | E10: 0 | F10: =D10*E10 -> 0
A11: =Totals!A11 -> C9500-NW-A (or equivalent) | B11: =Totals!B11 -> C9500 Network Stack, Advantage | D11: =Totals!D11 -> 0 | E11: 0 | F11: =D11*E11 -> 0
A12: =Totals!A12 -> S9500UK9-1718 | B12: =Totals!B12 -> CAT9300/9400/9500/9600 UNIVERSAL | D12: =Totals!D12 -> 0 | E12: 0 | F12: =D12*E12 -> 0
A13: =Totals!A13 -> C9K-F1-SSD-240G (or equivalent) | B13: =Totals!B13 -> Cisco pluggable SSD storage | D13: =Totals!D13 -> 0 | E13: 0 | F13: =D13*E13 -> 0
A14: =Totals!A14 -> C9500-DNA-24Y4C-A | B14: =Totals!B14 -> C9500 DNA Advantage, Term License | D14: =Totals!D14 -> 0 | E14: 0 | F14: =D14*E14 -> 0
A15: =Totals!A15 -> C9500-DNA-L-A-5Y | B15: =Totals!B15 -> DNA Advantage 5 Year License | C15: 60 | D15: =Totals!D15 -> 0 | E15: 0 | F15: =D15*E15 -> 0
A16: =Totals!A16 -> PI-LFAS-T (or equivalent) | B16: =Totals!B16 -> Prime Infrastructure Lifecycle & Assurance Term - Smart Lic | D16: =Totals!D16 -> 0 | E16: 0 | F16: =D16*E16 -> 0
A17: =Totals!A17 -> PI-LFAS-AP-T-5Y (or equivalent) | B17: =Totals!B17 -> PI Dev Lic for Lifecycle & Assurance Term 5Y | C17: 60 | D17: =Totals!D17 -> 0 | E17: 0 | F17: =D17*E17 -> 0
A18: =Totals!A18 -> NETWORK-PNP- LIC (or equivalent) | B18: =Totals!B18 -> Network Plug-n-Play Connect for zero-touch device deployment | D18: =Totals!D18 -> 0 | E18: 0 | F18: =D18*E18 -> 0
A19: =Totals!A19 -> SFP-10G-ER-S= (or equivalent) | B19: =Totals!B19 -> 10GBASE-ER SFP module | D19: =Totals!D19 -> 0 | E19: 0 | F19: =D19*E19 -> 0
A20: =Totals!A20 -> SFP-H10GB-CU1M (or equivalent) | B20: =Totals!B20 -> Twinax cable, passive, 30AWG cable assembly, 1M | D20: =Totals!D20 -> 0 | E20: 2 | F20: =D20*E20 -> 0
A21: =Totals!A21 -> QSFP 100GE CU1M (or equivalent) | B21: =Totals!B21 -> 100GBASE-CR4 Passive Copper Cable, 1M | D21: =Totals!D21 -> 0 | E21: 2 | F21: =D21*E21 -> 0
A22: Installation/Project Mgt | B22: Configuration of Equipment, Installation and testing of equipment & User acceptance testing
A23: Installation/Project Mgt | B23: Project Management & Network Documentation
A24: Installation/Project Mgt | B24: Network / Engineering Design
D26: Equipment Total | F26: =SUM(F5:F21) -> 0
D27: Installation Total | F27: =SUM(F22:F24) -> 0
D28: Grand Total | F28: =SUM(F26:F27) -> 0

Sheet Memorial Pathway Academy
A1: Memorial Pathway Academy Estimate
A4: Part Number | B4: Description | C4: Service Duration (Months) | D4: Unit List Price | E4: Qty | F4: Unit Net Price
A5: =Totals!A5 -> C9500-24Y4C-A (or equivalent) | B5: =Totals!B5 -> Catalyst 9500 24x1/10/25G and 4-port 40/100G, Advantage C9500-24Y4C-A | D5: =Totals!D5 -> 0 | E5: 2 | F5: =D5*E5 -> 0
A6: =Totals!A6 -> CON-SNT-C95024YA | B6: =Totals!B6 -> BAS 8X5XNBD Catalyst 9500 24x1/10/25G and 4-port 40/100G, A | D6: =Totals!D6 -> 0 | E6: 2 | F6: =D6*E6 -> 0
A7: =Totals!A7 -> CAB-N5K6A-NA | B7: =Totals!B7 -> Power Cord, 200/240V 6A North America | D7: =Totals!D7 -> 0 | E7: 2 | F7: =D7*E7 -> 0
A8: =Totals!A8 -> C9K-PWR-650WAC-R (or equivalent) | B8: =Totals!B8 -> 650W AC Config 4 Power Supply front to back cooling | D8: =Totals!D8 -> 0 | E8: 2 | F8: =D8*E8 -> 0
A9: =Totals!A9 -> C9K-PWR-650WAC-R/2 (or equivalent) | B9: =Totals!B9 -> 650W AC Config 4 Power Supply front to back cooling | D9: =Totals!D9 -> 0 | E9: 2 | F9: =D9*E9 -> 0
A10: =Totals!A10 -> C9K-T1-FANTRAY (or equivalent) | B10: =Totals!B10 -> Catalyst 9500 Type 4 front to back cooling Fan | D10: =Totals!D10 -> 0 | E10: 2 | F10: =D10*E10 -> 0
A11: =Totals!A11 -> C9500-NW-A (or equivalent) | B11: =Totals!B11 -> C9500 Network Stack, Advantage | D11: =Totals!D11 -> 0 | E11: 2 | F11: =D11*E11 -> 0
A12: =Totals!A12 -> S9500UK9-1718 | B12: =Totals!B12 -> CAT9300/9400/9500/9600 UNIVERSAL | D12: =Totals!D12 -> 0 | E12: 2 | F12: =D12*E12 -> 0
A13: =Totals!A13 -> C9K-F1-SSD-240G (or equivalent) | B13: =Totals!B13 -> Cisco pluggable SSD storage | D13: =Totals!D13 -> 0 | E13: 2 | F13: =D13*E13 -> 0
A14: =Totals!A14 -> C9500-DNA-24Y4C-A | B14: =Totals!B14 -> C9500 DNA Advantage, Term License | D14: =Totals!D14 -> 0 | E14: 2 | F14: =D14*E14 -> 0
A15: =Totals!A15 -> C9500-DNA-L-A-5Y | B15: =Totals!B15 -> DNA Advantage 5 Year License | C15: 60 | D15: =Totals!D15 -> 0 | E15: 2 | F15: =D15*E15 -> 0
A16: =Totals!A16 -> PI-LFAS-T (or equivalent) | B16: =Totals!B16 -> Prime Infrastructure Lifecycle & Assurance Term - Smart Lic | D16: =Totals!D16 -> 0 | E16: 2 | F16: =D16*E16 -> 0
A17: =Totals!A17 -> PI-LFAS-AP-T-5Y (or equivalent) | B17: =Totals!B17 -> PI Dev Lic for Lifecycle & Assurance Term 5Y | C17: 60 | D17: =Totals!D17 -> 0 | E17: 2 | F17: =D17*E17 -> 0
A18: =Totals!A18 -> NETWORK-PNP- LIC (or equivalent) | B18: =Totals!B18 -> Network Plug-n-Play Connect for zero-touch device deployment | D18: =Totals!D18 -> 0 | E18: 2 | F18: =D18*E18 -> 0
A19: =Totals!A19 -> SFP-10G-ER-S= (or equivalent) | B19: =Totals!B19 -> 10GBASE-ER SFP module | D19: =Totals!D19 -> 0 | E19: 4 | F19: =D19*E19 -> 0
A20: =Totals!A20 -> SFP-H10GB-CU1M (or equivalent) | B20: =Totals!B20 -> Twinax cable, passive, 30AWG cable assembly, 1M | D20: =Totals!D20 -> 0 | E20: 2 | F20: =D20*E20 -> 0
A21: =Totals!A21 -> QSFP 100GE CU1M (or equivalent) | B21: =Totals!B21 -> 100GBASE-CR4 Passive Copper Cable, 1M | D21: =Totals!D21 -> 0 | E21: 2 | F21: =D21*E21 -> 0
A22: Installation/Project Mgt | B22: Configuration of Equipment, Installation and testing of equipment & User acceptance testing
A23: Installation/Project Mgt | B23: Project Management & Network Documentation
A24: Installation/Project Mgt | B24: Network / Engineering Design
D26: Equipment Total | F26: =SUM(F5:F21) -> 0
D27: Installation Total | F27: =SUM(F22:F24) -> 0
D28: Grand Total | F28: =SUM(F26:F27) -> 0

Sheet New Network Operations Center
A1: New Network Operations Center Estimate
A4: Part Number | B4: Description | C4: Service Duration (Months) | D4: Unit List Price | E4: Qty | F4: Unit Net Price
A5: =Totals!A5 -> C9500-24Y4C-A (or equivalent) | B5: =Totals!B5 -> Catalyst 9500 24x1/10/25G and 4-port 40/100G, Advantage C9500-24Y4C-A | D5: =Totals!D5 -> 0 | E5: 2 | F5: =D5*E5 -> 0
A6: =Totals!A6 -> CON-SNT-C95024YA | B6: =Totals!B6 -> BAS 8X5XNBD Catalyst 9500 24x1/10/25G and 4-port 40/100G, A | D6: =Totals!D6 -> 0 | E6: 2 | F6: =D6*E6 -> 0
A7: =Totals!A7 -> CAB-N5K6A-NA | B7: =Totals!B7 -> Power Cord, 200/240V 6A North America | D7: =Totals!D7 -> 0 | E7: 2 | F7: =D7*E7 -> 0
A8: =Totals!A8 -> C9K-PWR-650WAC-R (or equivalent) | B8: =Totals!B8 -> 650W AC Config 4 Power Supply front to back cooling | D8: =Totals!D8 -> 0 | E8: 2 | F8: =D8*E8 -> 0
A9: =Totals!A9 -> C9K-PWR-650WAC-R/2 (or equivalent) | B9: =Totals!B9 -> 650W AC Config 4 Power Supply front to back cooling | D9: =Totals!D9 -> 0 | E9: 2 | F9: =D9*E9 -> 0
A10: =Totals!A10 -> C9K-T1-FANTRAY (or equivalent) | B10: =Totals!B10 -> Catalyst 9500 Type 4 front to back cooling Fan | D10: =Totals!D10 -> 0 | E10: 2 | F10: =D10*E10 -> 0
A11: =Totals!A11 -> C9500-NW-A (or equivalent) | B11: =Totals!B11 -> C9500 Network Stack, Advantage | D11: =Totals!D11 -> 0 | E11: 2 | F11: =D11*E11 -> 0
A12: =Totals!A12 -> S9500UK9-1718 | B12: =Totals!B12 -> CAT9300/9400/9500/9600 UNIVERSAL | D12: =Totals!D12 -> 0 | E12: 2 | F12: =D12*E12 -> 0
A13: =Totals!A13 -> C9K-F1-SSD-240G (or equivalent) | B13: =Totals!B13 -> Cisco pluggable SSD storage | D13: =Totals!D13 -> 0 | E13: 2 | F13: =D13*E13 -> 0
A14: =Totals!A14 -> C9500-DNA-24Y4C-A | B14: =Totals!B14 -> C9500 DNA Advantage, Term License | D14: =Totals!D14 -> 0 | E14: 2 | F14: =D14*E14 -> 0
A15: =Totals!A15 -> C9500-DNA-L-A-5Y | B15: =Totals!B15 -> DNA Advantage 5 Year License | C15: 60 | D15: =Totals!D15 -> 0 | E15: 2 | F15: =D15*E15 -> 0
A16: =Totals!A16 -> PI-LFAS-T (or equivalent) | B16: =Totals!B16 -> Prime Infrastructure Lifecycle & Assurance Term - Smart Lic | D16: =Totals!D16 -> 0 | E16: 2 | F16: =D16*E16 -> 0
A17: =Totals!A17 -> PI-LFAS-AP-T-5Y (or equivalent) | B17: =Totals!B17 -> PI Dev Lic for Lifecycle & Assurance Term 5Y | C17: 60 | D17: =Totals!D17 -> 0 | E17: 2 | F17: =D17*E17 -> 0
A18: =Totals!A18 -> NETWORK-PNP- LIC (or equivalent) | B18: =Totals!B18 -> Network Plug-n-Play Connect for zero-touch device deployment | D18: =Totals!D18 -> 0 | E18: 2 | F18: =D18*E18 -> 0
A19: =Totals!A19 -> SFP-10G-ER-S= (or equivalent) | B19: =Totals!B19 -> 10GBASE-ER SFP module | D19: =Totals!D19 -> 0 | E19: 4 | F19: =D19*E19 -> 0
A20: =Totals!A20 -> SFP-H10GB-CU1M (or equivalent) | B20: =Totals!B20 -> Twinax cable, passive, 30AWG cable assembly, 1M | D20: =Totals!D20 -> 0 | E20: 2 | F20: =D20*E20 -> 0
A21: =Totals!A21 -> QSFP 100GE CU1M (or equivalent) | B21: =Totals!B21 -> 100GBASE-CR4 Passive Copper Cable, 1M | D21: =Totals!D21 -> 0 | E21: 2 | F21: =D21*E21 -> 0
A22: N9K-C9508 | B22: Nexus 9508 Chassis with 8 linecard slots | D22: =Totals!D22 -> 0 | E22: 2 | F22: =D22*E22 -> 0
A23: CON-SNTP-N9508 | B23: SNTC-24X7X4 Nexus 9508 Chassis w | D23: =Totals!D23 -> 0 | E23: 2 | F23: =D23*E23 -> 0
A24: NXOS-CS-10.5.2F | B24: Nexus 9300, 9500, 9800 NX-OS SW 10.5.2 (64bit) Cisco Silicon | D24: =Totals!D24 -> 0 | E24: 2 | F24: =D24*E24 -> 0
A25: N9K-C9500-ACK | B25: Nexus 9500 Accessory Kit | D25: =Totals!D25 -> 0 | E25: 2 | F25: =D25*E25 -> 0
A26: MODE-NXOS | B26: Mode selection between ACI and NXOS | D26: =Totals!D26 -> 0 | E26: 2 | F26: =D26*E26 -> 0
A27: N9K-C9508-FAN | B27: Fan Tray for Nexus 9508 chassis, Port-side Intake | D27: =Totals!D27 -> 0 | E27: 6 | F27: =D27*E27 -> 0
A28: N9K-PAC-3000W-B | B28: Nexus 9500 3000W AC PS, Port-side Intake | D28: =Totals!D28 -> 0 | E28: 8 | F28: =D28*E28 -> 0
A29: CAB-C19-CBN | B29: Cabinet Jumper Power Cord, 250 VAC 16A, C20-C19 Connectors | D29: =Totals!D29 -> 0 | E29: 8 | F29: =D29*E29 -> 0
A30: DCN-OTHER | B30: Select if this product will NOT be used for AI Applications | D30: =Totals!D30 -> 0 | E30: 2 | F30: =D30*E30 -> 0
A31: N9K-SC-A | B31: System Controller for Nexus 9500 | D31: =Totals!D31 -> 0 | E31: 4 | F31: =D31*E31 -> 0
A32: N9K-C9508-FM-E2 | B32: Fabric Module for N9508 with 100G support, ACI and NX-OS | D32: =Totals!D32 -> 0 | E32: 10 | F32: =D32*E32 -> 0
A33: N9K-C9500-RMK | B33: Nexus 9500 Rack Mount Kit | D33: =Totals!D33 -> 0 | E33: 2 | F33: =D33*E33 -> 0
... A90: ONS-SE-155-1510 | B90: SFP - OC-3/STM-1, CWDM, 1510 nm, EXT | D90: =Totals!D90 -> 0 | E90: 2 | F90: =D90*E90 -> 0
A91: Installation/Project Mgt | B91: Configuration of Equipment, Installation and testing of equipment & User acceptance testing
A92: Installation/Project Mgt | B92: Project Management & Network Documentation
A93: Installation/Project Mgt | B93: Network / Engineering Design
D95: Equipment Total | F95: =SUM(F5:F90) -> 0
D96: Installation Total | F96: =SUM(F91:F93) -> 0
D97: Grand Total | F97: =SUM(F95:F96) -> 0

Sheet Walnut Glen
A1: Walnut Glen Estimate
A4: Part Number | B4: Description | C4: Service Duration (Months) | D4: Unit List Price | E4: Qty | F4: Unit Net Price
A5: =Totals!A5 -> C9500-24Y4C-A (or equivalent) | B5: =Totals!B5 -> Catalyst 9500 24x1/10/25G and 4-port 40/100G, Advantage C9500-24Y4C-A | D5: =Totals!D5 -> 0 | E5: 2 | F5: =D5*E5 -> 0
A6: =Totals!A6 -> CON-SNT-C95024YA | B6: =Totals!B6 -> BAS 8X5XNBD Catalyst 9500 24x1/10/25G and 4-port 40/100G, A | D6: =Totals!D6 -> 0 | E6: 2 | F6: =D6*E6 -> 0
A7: =Totals!A7 -> CAB-N5K6A-NA | B7: =Totals!B7 -> Power Cord, 200/240V 6A North America | D7: =Totals!D7 -> 0 | E7: 2 | F7: =D7*E7 -> 0
A8: =Totals!A8 -> C9K-PWR-650WAC-R (or equivalent) | B8: =Totals!B8 -> 650W AC Config 4 Power Supply front to back cooling | D8: =Totals!D8 -> 0 | E8: 2 | F8: =D8*E8 -> 0
A9: =Totals!A9 -> C9K-PWR-650WAC-R/2 (or equivalent) | B9: =Totals!B9 -> 650W AC Config 4 Power Supply front to back cooling | D9: =Totals!D9 -> 0 | E9: 2 | F9: =D9*E9 -> 0
A10: =Totals!A10 -> C9K-T1-FANTRAY (or equivalent) | B10: =Totals!B10 -> Catalyst 9500 Type 4 front to back cooling Fan | D10: =Totals!D10 -> 0 | E10: 2 | F10: =D10*E10 -> 0
A11: =Totals!A11 -> C9500-NW-A (or equivalent) | B11: =Totals!B11 -> C9500 Network Stack, Advantage | D11: =Totals!D11 -> 0 | E11: 2 | F11: =D11*E11 -> 0
A12: =Totals!A12 -> S9500UK9-1718 | B12: =Totals!B12 -> CAT9300/9400/9500/9600 UNIVERSAL | D12: =Totals!D12 -> 0 | E12: 2 | F12: =D12*E12 -> 0
A13: =Totals!A13 -> C9K-F1-SSD-240G (or equivalent) | B13: =Totals!B13 -> Cisco pluggable SSD storage | D13: =Totals!D13 -> 0 | E13: 2 | F13: =D13*E13 -> 0
A14: =Totals!A14 -> C9500-DNA-24Y4C-A | B14: =Totals!B14 -> C9500 DNA Advantage, Term License | D14: =Totals!D14 -> 0 | E14: 2 | F14: =D14*E14 -> 0
A15: =Totals!A15 -> C9500-DNA-L-A-5Y | B15: =Totals!B15 -> DNA Advantage 5 Year License | C15: 60 | D15: =Totals!D15 -> 0 | E15: 2 | F15: =D15*E15 -> 0
A16: =Totals!A16 -> PI-LFAS-T (or equivalent) | B16: =Totals!B16 -> Prime Infrastructure Lifecycle & Assurance Term - Smart Lic | D16: =Totals!D16 -> 0 | E16: 2 | F16: =D16*E16 -> 0
A17: =Totals!A17 -> PI-LFAS-AP-T-5Y (or equivalent) | B17: =Totals!B17 -> PI Dev Lic for Lifecycle & Assurance Term 5Y | C17: 60 | D17: =Totals!D17 -> 0 | E17: 2 | F17: =D17*E17 -> 0
A18: =Totals!A18 -> NETWORK-PNP- LIC (or equivalent) | B18: =Totals!B18 -> Network Plug-n-Play Connect for zero-touch device deployment | D18: =Totals!D18 -> 0 | E18: 2 | F18: =D18*E18 -> 0
A19: =Totals!A19 -> SFP-10G-ER-S= (or equivalent) | B19: =Totals!B19 -> 10GBASE-ER SFP module | D19: =Totals!D19 -> 0 | E19: 4 | F19: =D19*E19 -> 0
A20: =Totals!A20 -> SFP-H10GB-CU1M (or equivalent) | B20: =Totals!B20 -> Twinax cable, passive, 30AWG cable assembly, 1M | D20: =Totals!D20 -> 0 | E20: 2 | F20: =D20*E20 -> 0
A21: =Totals!A21 -> QSFP 100GE CU1M (or equivalent) | B21: =Totals!B21 -> 100GBASE-CR4 Passive Copper Cable, 1M | D21: =Totals!D21 -> 0 | E21: 2 | F21: =D21*E21 -> 0
A22: Installation/Project Mgt | B22: Configuration of Equipment, Installation and testing of equipment & User acceptance testing
A23: Installation/Project Mgt | B23: Project Management & Network Documentation
A24: Installation/Project Mgt | B24: Network / Engineering Design
D26: Equipment Total | F26: =SUM(F5:F21) -> 0
D27: Installation Total | F27: =SUM(F22:F24) -> 0
D28: Grand Total | F28: =SUM(F26:F27) -> 0
