Workbook

Sheet Vendor Info
A1: Metropolitan Area Network and Wide Area Network Equipment and Services
A2: Proposal is due by: | B2: Request for Proposal
A3: Tuesday, November 10, 2026 | B3: 510-27-01
B4: Garland Independent School District
B5: 501 S. Jupiter
B6: Garland, Texas 75042
B8: PROPOSING COMPANY CONTACT INFORMATION
A9: Company Name:
A10: Company Address:
A11: Company City, State, Zip Code:
A12: Primary Contact Name:
A13: Primary Contact Title:
A14: Primary Contact Telephone No:
A15: Primary Contact E-Mail Address:
A16: Primary Contact Physical Address:
A17: Primary Contact City, State, Zip Code:
B20: You will only be able to enter Pricing on the "Totals" tab in Column "D". All other tabs are locked and calculated.

Sheet Totals
A1: Master Price Estimate
A4: Part Number | B4: Description | C4: Service Duration (Months) | D4: Unit List Price | E4: Qty | F4: Unit Net Price
A5: C9500-24Y4C-CX (or equivalent) | B5: Catalyst 9500 24x1/10/25G and 4-port 40/100G,CX | E5: =SUM('Ag Barn'!E5,'Memorial Pathway Academy'!E5,'New Network Operations Center'!E5,'Walnut Glen'!E5) -> 8 | F5: =D5*E5 -> 0
A6: CON-SNT-C9524Y4C (or equivalent) | B6: SNTC-8X5XNBD Catalyst 9500 24x1/10/25G and 4-port 40 | E6: =SUM('Ag Barn'!E6,'Memorial Pathway Academy'!E6,'New Network Operations Center'!E6,'Walnut Glen'!E6) -> 8 | F6: =D6*E6 -> 0
A7: CAB-C15-CBN (or equivalent) | B7: Cabinet Jumper Power Cord, 250 VAC 13A, C14-C15 Connectors | E7: =SUM('Ag Barn'!E7,'Memorial Pathway Academy'!E7,'New Network Operations Center'!E7,'Walnut Glen'!E7) -> 8 | F7: =D7*E7 -> 0
A8: C9K-PWR-650WAC-R (or equivalent) | B8: 650W AC Config 4 Power Supply front to back cooling | E8: =SUM('Ag Barn'!E8,'Memorial Pathway Academy'!E8,'New Network Operations Center'!E8,'Walnut Glen'!E8) -> 8 | F8: =D8*E8 -> 0
A9: C9K-PWR-650WAC-R/2 (or equivalent) | B9: 650W AC Config 4 Power Supply front to back cooling | E9: =SUM('Ag Barn'!E9,'Memorial Pathway Academy'!E9,'New Network Operations Center'!E9,'Walnut Glen'!E9) -> 8 | F9: =D9*E9 -> 0
A10: C9K-T1-FANTRAY (or equivalent) | B10: Catalyst 9500 Type 4 front to back cooling Fan | E10: =SUM('Ag Barn'!E10,'Memorial Pathway Academy'!E10,'New Network Operations Center'!E10,'Walnut Glen'!E10) -> 8 | F10: =D10*E10 -> 0
A11: C9500-NW-A (or equivalent) | B11: C9500 Network Stack, Advantage | E11: =SUM('Ag Barn'!E11,'Memorial Pathway Academy'!E11,'New Network Operations Center'!E11,'Walnut Glen'!E11) -> 8 | F11: =D11*E11 -> 0
A12: SC9500HUK9-176 (or equivalent) | B12: Cisco Catalyst 9500H XE.17.6 UNIVERSAL | E12: =SUM('Ag Barn'!E12,'Memorial Pathway Academy'!E12,'New Network Operations Center'!E12,'Walnut Glen'!E12) -> 8 | F12: =D12*E12 -> 0
A13: C9K-F1-SSD-240G (or equivalent) | B13: Cisco pluggable SSD storage | E13: =SUM('Ag Barn'!E13,'Memorial Pathway Academy'!E13,'New Network Operations Center'!E13,'Walnut Glen'!E13) -> 8 | F13: =D13*E13 -> 0
A14: C9500-DNAX-A- 24YR (or equivalent) | B14: C9500 24Y4C DNA-Advtg w/Support, Prime Infra LF+AS | E14: =SUM('Ag Barn'!E14,'Memorial Pathway Academy'!E14,'New Network Operations Center'!E14,'Walnut Glen'!E14) -> 8 | F14: =D14*E14 -> 0
A15: 9500-DNAX-L-A-5R (or equivalent) | B15: C9500 DNA Advantage w/Support, Low Density, 5Y | C15: 60 | E15: =SUM('Ag Barn'!E15,'Memorial Pathway Academy'!E15,'New Network Operations Center'!E15,'Walnut Glen'!E15) -> 8 | F15: =D15*E15 -> 0
A16: PI-LFAS-T (or equivalent) | B16: Prime Infrastructure Lifecycle & Assurance Term - Smart Lic | E16: =SUM('Ag Barn'!E16,'Memorial Pathway Academy'!E16,'New Network Operations Center'!E16,'Walnut Glen'!E16) -> 8 | F16: =D16*E16 -> 0
A17: PI-LFAS-AP-T-5Y (or equivalent) | B17: PI Dev Lic for Lifecycle & Assurance Term 5Y | C17: 60 | E17: =SUM('Ag Barn'!E17,'Memorial Pathway Academy'!E17,'New Network Operations Center'!E17,'Walnut Glen'!E17) -> 8 | F17: =D17*E17 -> 0
A18: NETWORK-PNP- LIC (or equivalent) | B18: Network Plug-n-Play Connect for zero-touch device deployment | E18: =SUM('Ag Barn'!E18,'Memorial Pathway Academy'!E18,'New Network Operations Center'!E18,'Walnut Glen'!E18) -> 8 | F18: =D18*E18 -> 0
A19: SFP-10G-ER-S= (or equivalent) | B19: 10GBASE-ER SFP module | E19: =SUM('Ag Barn'!E19,'Memorial Pathway Academy'!E19,'New Network Operations Center'!E19,'Walnut Glen'!E19) -> 16 | F19: =D19*E19 -> 0
A20: SFP-H10GB-CU1M (or equivalent) | B20: Twinax cable, passive, 30AWG cable assembly, 1M | E20: =SUM('Ag Barn'!E20,'Memorial Pathway Academy'!E20,'New Network Operations Center'!E20,'Walnut Glen'!E20) -> 8 | F20: =D20*E20 -> 0
A21: QSFP 100GE CU1M (or equivalent) | B21: 100GBASE-CR4 Passive Copper Cable, 1M | E21: =SUM('Ag Barn'!E21,'Memorial Pathway Academy'!E21,'New Network Operations Center'!E21,'Walnut Glen'!E21) -> 8 | F21: =D21*E21 -> 0
A22: N9K-C9508 | B22: Nexus 9508 Chassis with 8 linecard slots | E22: ='New Network Operations Center'!E22 -> 2 | F22: =D22*E22 -> 0
A23: CON-SNTP-N9508 | B23: SNTC-24X7X4 Nexus 9508 Chassis w | E23: ='New Network Operations Center'!E23 -> 2 | F23: =D23*E23 -> 0
A24: NXOS-CS-10.5.2F | B24: Nexus 9300, 9500, 9800 NX-OS SW 10.5.2 (64bit) Cisco Silicon | E24: ='New Network Operations Center'!E24 -> 2 | F24: =D24*E24 -> 0
A25: N9K-C9500-ACK | B25: Nexus 9500 Accessory Kit | E25: ='New Network Operations Center'!E25 -> 2 | F25: =D25*E25 -> 0
A26: MODE-NXOS | B26: Mode selection between ACI and NXOS | E26: ='New Network Operations Center'!E26 -> 2 | F26: =D26*E26 -> 0
A27: N9K-C9508-FAN | B27: Fan Tray for Nexus 9508 chassis, Port-side Intake | E27: ='New Network Operations Center'!E27 -> 6 | F27: =D27*E27 -> 0
A28: N9K-PAC-3000W-B | B28: Nexus 9500 3000W AC PS, Port-side Intake | E28: ='New Network Operations Center'!E28 -> 8 | F28: =D28*E28 -> 0
A29: CAB-C19-CBN | B29: Cabinet Jumper Power Cord, 250 VAC 16A, C20-C19 Connectors | E29: ='New Network Operations Center'!E29 -> 8 | F29: =D29*E29 -> 0
A30: DCN-OTHER | B30: Select if this product will NOT be used for AI Applications | E30: ='New Network Operations Center'!E30 -> 2 | F30: =D30*E30 -> 0
A31: N9K-SC-A | B31: System Controller for Nexus 9500 | E31: ='New Network Operations Center'!E31 -> 4 | F31: =D31*E31 -> 0
A32: N9K-C9508-FM-E2 | B32: Fabric Module for N9508 with 100G support, ACI and NX-OS | E32: ='New Network Operations Center'!E32 -> 10 | F32: =D32*E32 -> 0
A33: N9K-C9500-RMK | B33: Nexus 9500 Rack Mount Kit | E33: ='New Network Operations Center'!E33 -> 2 | F33: =D33*E33 -> 0
... A90: ONS-SE-155-1510 | B90: SFP - OC-3/STM-1, CWDM, 1510 nm, EXT | E90: ='New Network Operations Center'!E90 -> 2 | F90: =D90*E90 -> 0
A91: Installation/Project Mgt | B91: Configuration of Equipment, Installation and testing of equipment & User acceptance testing | F91: =IF(OR(D91="",E91=""),"",D91*E91)
A92: Installation/Project Mgt | B92: Project Management & Network Documentation | F92: =IF(OR(D92="",E92=""),"",D92*E92)
A93: Installation/Project Mgt | B93: Network / Engineering Design | F93: =IF(OR(D93="",E93=""),"",D93*E93)
D95: Equipment Total | F95: =SUM(F5:F90) -> 0
D96: Installation Total | F96: =SUM(F91:F93) -> 0
D97: Grand Total | F97: =SUM(F95:F96) -> 0

Sheet Ag Barn
A1: Ag Barn Estimate
A4: Part Number | B4: Description | C4: Service Duration (Months) | D4: Unit List Price | E4: Qty | F4: Unit Net Price
A5: C9500-24Y4C-CX (or equivalent) | B5: Catalyst 9500 24x1/10/25G and 4-port 40/100G,CX | D5: =IF(A5="","",IFERROR(INDEX(Totals!$D$5:$D$93,MATCH(1,INDEX((Totals!$A$5:$A$93=A5)*(Totals!$B$5:$B$93=B5),0),0)),0)) -> 0 | E5: 2 | F5: =D5*E5 -> 0
A6: CON-SNT-C9524Y4C (or equivalent) | B6: SNTC-8X5XNBD Catalyst 9500 24x1/10/25G and 4-port 40 | D6: =IF(A6="","",IFERROR(INDEX(Totals!$D$5:$D$93,MATCH(1,INDEX((Totals!$A$5:$A$93=A6)*(Totals!$B$5:$B$93=B6),0),0)),0)) -> 0 | E6: 2 | F6: =D6*E6 -> 0
A7: CAB-C15-CBN (or equivalent) | B7: Cabinet Jumper Power Cord, 250 VAC 13A, C14-C15 Connectors | D7: =IF(A7="","",IFERROR(INDEX(Totals!$D$5:$D$93,MATCH(1,INDEX((Totals!$A$5:$A$93=A7)*(Totals!$B$5:$B$93=B7),0),0)),0)) -> 0 | E7: 2 | F7: =D7*E7 -> 0
A8: C9K-PWR-650WAC-R (or equivalent) | B8: 650W AC Config 4 Power Supply front to back cooling | D8: =IF(A8="","",IFERROR(INDEX(Totals!$D$5:$D$93,MATCH(1,INDEX((Totals!$A$5:$A$93=A8)*(Totals!$B$5:$B$93=B8),0),0)),0)) -> 0 | E8: 2 | F8: =D8*E8 -> 0
A9: C9K-PWR-650WAC-R/2 (or equivalent) | B9: 650W AC Config 4 Power Supply front to back cooling | D9: =IF(A9="","",IFERROR(INDEX(Totals!$D$5:$D$93,MATCH(1,INDEX((Totals!$A$5:$A$93=A9)*(Totals!$B$5:$B$93=B9),0),0)),0)) -> 0 | E9: 2 | F9: =D9*E9 -> 0
A10: C9K-T1-FANTRAY (or equivalent) | B10: Catalyst 9500 Type 4 front to back cooling Fan | D10: =IF(A10="","",IFERROR(INDEX(Totals!$D$5:$D$93,MATCH(1,INDEX((Totals!$A$5:$A$93=A10)*(Totals!$B$5:$B$93=B10),0),0)),0)) -> 0 | E10: 2 | F10: =D10*E10 -> 0
A11: C9500-NW-A (or equivalent) | B11: C9500 Network Stack, Advantage | D11: =IF(A11="","",IFERROR(INDEX(Totals!$D$5:$D$93,MATCH(1,INDEX((Totals!$A$5:$A$93=A11)*(Totals!$B$5:$B$93=B11),0),0)),0)) -> 0 | E11: 2 | F11: =D11*E11 -> 0
A12: SC9500HUK9-176 (or equivalent) | B12: Cisco Catalyst 9500H XE.17.6 UNIVERSAL | D12: =IF(A12="","",IFERROR(INDEX(Totals!$D$5:$D$93,MATCH(1,INDEX((Totals!$A$5:$A$93=A12)*(Totals!$B$5:$B$93=B12),0),0)),0)) -> 0 | E12: 2 | F12: =D12*E12 -> 0
A13: C9K-F1-SSD-240G (or equivalent) | B13: Cisco pluggable SSD storage | D13: =IF(A13="","",IFERROR(INDEX(Totals!$D$5:$D$93,MATCH(1,INDEX((Totals!$A$5:$A$93=A13)*(Totals!$B$5:$B$93=B13),0),0)),0)) -> 0 | E13: 2 | F13: =D13*E13 -> 0
A14: C9500-DNAX-A- 24YR (or equivalent) | B14: C9500 24Y4C DNA-Advtg w/Support, Prime Infra LF+AS | D14: =IF(A14="","",IFERROR(INDEX(Totals!$D$5:$D$93,MATCH(1,INDEX((Totals!$A$5:$A$93=A14)*(Totals!$B$5:$B$93=B14),0),0)),0)) -> 0 | E14: 2 | F14: =D14*E14 -> 0
A15: 9500-DNAX-L-A-5R (or equivalent) | B15: C9500 DNA Advantage w/Support, Low Density, 5Y | C15: 60 | D15: =IF(A15="","",IFERROR(INDEX(Totals!$D$5:$D$93,MATCH(1,INDEX((Totals!$A$5:$A$93=A15)*(Totals!$B$5:$B$93=B15),0),0)),0)) -> 0 | E15: 2 | F15: =D15*E15 -> 0
A16: PI-LFAS-T (or equivalent) | B16: Prime Infrastructure Lifecycle & Assurance Term - Smart Lic | D16: =IF(A16="","",IFERROR(INDEX(Totals!$D$5:$D$93,MATCH(1,INDEX((Totals!$A$5:$A$93=A16)*(Totals!$B$5:$B$93=B16),0),0)),0)) -> 0 | E16: 2 | F16: =D16*E16 -> 0
A17: PI-LFAS-AP-T-5Y (or equivalent) | B17: PI Dev Lic for Lifecycle & Assurance Term 5Y | C17: 60 | D17: =IF(A17="","",IFERROR(INDEX(Totals!$D$5:$D$93,MATCH(1,INDEX((Totals!$A$5:$A$93=A17)*(Totals!$B$5:$B$93=B17),0),0)),0)) -> 0 | E17: 2 | F17: =D17*E17 -> 0
A18: NETWORK-PNP- LIC (or equivalent) | B18: Network Plug-n-Play Connect for zero-touch device deployment | D18: =IF(A18="","",IFERROR(INDEX(Totals!$D$5:$D$93,MATCH(1,INDEX((Totals!$A$5:$A$93=A18)*(Totals!$B$5:$B$93=B18),0),0)),0)) -> 0 | E18: 2 | F18: =D18*E18 -> 0
A19: SFP-10G-ER-S= (or equivalent) | B19: 10GBASE-ER SFP module | D19: =IF(A19="","",IFERROR(INDEX(Totals!$D$5:$D$93,MATCH(1,INDEX((Totals!$A$5:$A$93=A19)*(Totals!$B$5:$B$93=B19),0),0)),0)) -> 0 | E19: 4 | F19: =D19*E19 -> 0
A20: SFP-H10GB-CU1M (or equivalent) | B20: Twinax cable, passive, 30AWG cable assembly, 1M | D20: =IF(A20="","",IFERROR(INDEX(Totals!$D$5:$D$93,MATCH(1,INDEX((Totals!$A$5:$A$93=A20)*(Totals!$B$5:$B$93=B20),0),0)),0)) -> 0 | E20: 2 | F20: =D20*E20 -> 0
A21: QSFP 100GE CU1M (or equivalent) | B21: 100GBASE-CR4 Passive Copper Cable, 1M | D21: =IF(A21="","",IFERROR(INDEX(Totals!$D$5:$D$93,MATCH(1,INDEX((Totals!$A$5:$A$93=A21)*(Totals!$B$5:$B$93=B21),0),0)),0)) -> 0 | E21: 2 | F21: =D21*E21 -> 0
A22: Installation/Project Mgt | B22: Configuration of Equipment, Installation and testing of equipment & User acceptance testing | D22: =IF(A22="","",IFERROR(INDEX(Totals!$D$5:$D$93,MATCH(1,INDEX((Totals!$A$5:$A$93=A22)*(Totals!$B$5:$B$93=B22),0),0)),0)) -> 0 | F22: =IF(OR(D22="",E22=""),"",D22*E22)
A23: Installation/Project Mgt | B23: Project Management & Network Documentation | D23: =IF(A23="","",IFERROR(INDEX(Totals!$D$5:$D$93,MATCH(1,INDEX((Totals!$A$5:$A$93=A23)*(Totals!$B$5:$B$93=B23),0),0)),0)) -> 0 | F23: =IF(OR(D23="",E23=""),"",D23*E23)
A24: Installation/Project Mgt | B24: Network / Engineering Design | D24: =IF(A24="","",IFERROR(INDEX(Totals!$D$5:$D$93,MATCH(1,INDEX((Totals!$A$5:$A$93=A24)*(Totals!$B$5:$B$93=B24),0),0)),0)) -> 0 | F24: =IF(OR(D24="",E24=""),"",D24*E24)
D26: Equipment Total | F26: =SUM(F5:F21) -> 0
D27: Installation Total | F27: =SUM(F22:F24) -> 0
D28: Grand Total | F28: =SUM(F26:F27) -> 0

Sheet Memorial Pathway Academy
A1: Memorial Pathway Academy Estimate
A4: Part Number | B4: Description | C4: Service Duration (Months) | D4: Unit List Price | E4: Qty | F4: Unit Net Price
A5: C9500-24Y4C-CX (or equivalent) | B5: Catalyst 9500 24x1/10/25G and 4-port 40/100G,CX | D5: =IF(A5="","",IFERROR(INDEX(Totals!$D$5:$D$93,MATCH(1,INDEX((Totals!$A$5:$A$93=A5)*(Totals!$B$5:$B$93=B5),0),0)),0)) -> 0 | E5: 2 | F5: =D5*E5 -> 0
A6: CON-SNT-C9524Y4C (or equivalent) | B6: SNTC-8X5XNBD Catalyst 9500 24x1/10/25G and 4-port 40 | D6: =IF(A6="","",IFERROR(INDEX(Totals!$D$5:$D$93,MATCH(1,INDEX((Totals!$A$5:$A$93=A6)*(Totals!$B$5:$B$93=B6),0),0)),0)) -> 0 | E6: 2 | F6: =D6*E6 -> 0
A7: CAB-C15-CBN (or equivalent) | B7: Cabinet Jumper Power Cord, 250 VAC 13A, C14-C15 Connectors | D7: =IF(A7="","",IFERROR(INDEX(Totals!$D$5:$D$93,MATCH(1,INDEX((Totals!$A$5:$A$93=A7)*(Totals!$B$5:$B$93=B7),0),0)),0)) -> 0 | E7: 2 | F7: =D7*E7 -> 0
A8: C9K-PWR-650WAC-R (or equivalent) | B8: 650W AC Config 4 Power Supply front to back cooling | D8: =IF(A8="","",IFERROR(INDEX(Totals!$D$5:$D$93,MATCH(1,INDEX((Totals!$A$5:$A$93=A8)*(Totals!$B$5:$B$93=B8),0),0)),0)) -> 0 | E8: 2 | F8: =D8*E8 -> 0
A9: C9K-PWR-650WAC-R/2 (or equivalent) | B9: 650W AC Config 4 Power Supply front to back cooling | D9: =IF(A9="","",IFERROR(INDEX(Totals!$D$5:$D$93,MATCH(1,INDEX((Totals!$A$5:$A$93=A9)*(Totals!$B$5:$B$93=B9),0),0)),0)) -> 0 | E9: 2 | F9: =D9*E9 -> 0
A10: C9K-T1-FANTRAY (or equivalent) | B10: Catalyst 9500 Type 4 front to back cooling Fan | D10: =IF(A10="","",IFERROR(INDEX(Totals!$D$5:$D$93,MATCH(1,INDEX((Totals!$A$5:$A$93=A10)*(Totals!$B$5:$B$93=B10),0),0)),0)) -> 0 | E10: 2 | F10: =D10*E10 -> 0
A11: C9500-NW-A (or equivalent) | B11: C9500 Network Stack, Advantage | D11: =IF(A11="","",IFERROR(INDEX(Totals!$D$5:$D$93,MATCH(1,INDEX((Totals!$A$5:$A$93=A11)*(Totals!$B$5:$B$93=B11),0),0)),0)) -> 0 | E11: 2 | F11: =D11*E11 -> 0
A12: SC9500HUK9-176 (or equivalent) | B12: Cisco Catalyst 9500H XE.17.6 UNIVERSAL | D12: =IF(A12="","",IFERROR(INDEX(Totals!$D$5:$D$93,MATCH(1,INDEX((Totals!$A$5:$A$93=A12)*(Totals!$B$5:$B$93=B12),0),0)),0)) -> 0 | E12: 2 | F12: =D12*E12 -> 0
A13: C9K-F1-SSD-240G (or equivalent) | B13: Cisco pluggable SSD storage | D13: =IF(A13="","",IFERROR(INDEX(Totals!$D$5:$D$93,MATCH(1,INDEX((Totals!$A$5:$A$93=A13)*(Totals!$B$5:$B$93=B13),0),0)),0)) -> 0 | E13: 2 | F13: =D13*E13 -> 0
A14: C9500-DNAX-A- 24YR (or equivalent) | B14: C9500 24Y4C DNA-Advtg w/Support, Prime Infra LF+AS | D14: =IF(A14="","",IFERROR(INDEX(Totals!$D$5:$D$93,MATCH(1,INDEX((Totals!$A$5:$A$93=A14)*(Totals!$B$5:$B$93=B14),0),0)),0)) -> 0 | E14: 2 | F14: =D14*E14 -> 0
A15: 9500-DNAX-L-A-5R (or equivalent) | B15: C9500 DNA Advantage w/Support, Low Density, 5Y | C15: 60 | D15: =IF(A15="","",IFERROR(INDEX(Totals!$D$5:$D$93,MATCH(1,INDEX((Totals!$A$5:$A$93=A15)*(Totals!$B$5:$B$93=B15),0),0)),0)) -> 0 | E15: 2 | F15: =D15*E15 -> 0
A16: PI-LFAS-T (or equivalent) | B16: Prime Infrastructure Lifecycle & Assurance Term - Smart Lic | D16: =IF(A16="","",IFERROR(INDEX(Totals!$D$5:$D$93,MATCH(1,INDEX((Totals!$A$5:$A$93=A16)*(Totals!$B$5:$B$93=B16),0),0)),0)) -> 0 | E16: 2 | F16: =D16*E16 -> 0
A17: PI-LFAS-AP-T-5Y (or equivalent) | B17: PI Dev Lic for Lifecycle & Assurance Term 5Y | C17: 60 | D17: =IF(A17="","",IFERROR(INDEX(Totals!$D$5:$D$93,MATCH(1,INDEX((Totals!$A$5:$A$93=A17)*(Totals!$B$5:$B$93=B17),0),0)),0)) -> 0 | E17: 2 | F17: =D17*E17 -> 0
A18: NETWORK-PNP- LIC (or equivalent) | B18: Network Plug-n-Play Connect for zero-touch device deployment | D18: =IF(A18="","",IFERROR(INDEX(Totals!$D$5:$D$93,MATCH(1,INDEX((Totals!$A$5:$A$93=A18)*(Totals!$B$5:$B$93=B18),0),0)),0)) -> 0 | E18: 2 | F18: =D18*E18 -> 0
A19: SFP-10G-ER-S= (or equivalent) | B19: 10GBASE-ER SFP module | D19: =IF(A19="","",IFERROR(INDEX(Totals!$D$5:$D$93,MATCH(1,INDEX((Totals!$A$5:$A$93=A19)*(Totals!$B$5:$B$93=B19),0),0)),0)) -> 0 | E19: 4 | F19: =D19*E19 -> 0
A20: SFP-H10GB-CU1M (or equivalent) | B20: Twinax cable, passive, 30AWG cable assembly, 1M | D20: =IF(A20="","",IFERROR(INDEX(Totals!$D$5:$D$93,MATCH(1,INDEX((Totals!$A$5:$A$93=A20)*(Totals!$B$5:$B$93=B20),0),0)),0)) -> 0 | E20: 2 | F20: =D20*E20 -> 0
A21: QSFP 100GE CU1M (or equivalent) | B21: 100GBASE-CR4 Passive Copper Cable, 1M | D21: =IF(A21="","",IFERROR(INDEX(Totals!$D$5:$D$93,MATCH(1,INDEX((Totals!$A$5:$A$93=A21)*(Totals!$B$5:$B$93=B21),0),0)),0)) -> 0 | E21: 2 | F21: =D21*E21 -> 0
A22: Installation/Project Mgt | B22: Configuration of Equipment, Installation and testing of equipment & User acceptance testing | D22: =IF(A22="","",IFERROR(INDEX(Totals!$D$5:$D$93,MATCH(1,INDEX((Totals!$A$5:$A$93=A22)*(Totals!$B$5:$B$93=B22),0),0)),0)) -> 0 | F22: =IF(OR(D22="",E22=""),"",D22*E22)
A23: Installation/Project Mgt | B23: Project Management & Network Documentation | D23: =IF(A23="","",IFERROR(INDEX(Totals!$D$5:$D$93,MATCH(1,INDEX((Totals!$A$5:$A$93=A23)*(Totals!$B$5:$B$93=B23),0),0)),0)) -> 0 | F23: =IF(OR(D23="",E23=""),"",D23*E23)
A24: Installation/Project Mgt | B24: Network / Engineering Design | D24: =IF(A24="","",IFERROR(INDEX(Totals!$D$5:$D$93,MATCH(1,INDEX((Totals!$A$5:$A$93=A24)*(Totals!$B$5:$B$93=B24),0),0)),0)) -> 0 | F24: =IF(OR(D24="",E24=""),"",D24*E24)
D26: Equipment Total | F26: =SUM(F5:F21) -> 0
D27: Installation Total | F27: =SUM(F22:F24) -> 0
D28: Grand Total | F28: =SUM(F26:F27) -> 0

Sheet New Network Operations Center
A1: New Network Operations Center Estimate
A4: Part Number | B4: Description | C4: Service Duration (Months) | D4: Unit List Price | E4: Qty | F4: Unit Net Price
A5: C9500-24Y4C-CX (or equivalent) | B5: Catalyst 9500 24x1/10/25G and 4-port 40/100G,CX | D5: =IF(A5="","",IFERROR(INDEX(Totals!$D$5:$D$93,MATCH(1,INDEX((Totals!$A$5:$A$93=A5)*(Totals!$B$5:$B$93=B5),0),0)),0)) -> 0 | E5: 2 | F5: =D5*E5 -> 0
A6: CON-SNT-C9524Y4C (or equivalent) | B6: SNTC-8X5XNBD Catalyst 9500 24x1/10/25G and 4-port 40 | D6: =IF(A6="","",IFERROR(INDEX(Totals!$D$5:$D$93,MATCH(1,INDEX((Totals!$A$5:$A$93=A6)*(Totals!$B$5:$B$93=B6),0),0)),0)) -> 0 | E6: 2 | F6: =D6*E6 -> 0
A7: CAB-C15-CBN (or equivalent) | B7: Cabinet Jumper Power Cord, 250 VAC 13A, C14-C15 Connectors | D7: =IF(A7="","",IFERROR(INDEX(Totals!$D$5:$D$93,MATCH(1,INDEX((Totals!$A$5:$A$93=A7)*(Totals!$B$5:$B$93=B7),0),0)),0)) -> 0 | E7: 2 | F7: =D7*E7 -> 0
A8: C9K-PWR-650WAC-R (or equivalent) | B8: 650W AC Config 4 Power Supply front to back cooling | D8: =IF(A8="","",IFERROR(INDEX(Totals!$D$5:$D$93,MATCH(1,INDEX((Totals!$A$5:$A$93=A8)*(Totals!$B$5:$B$93=B8),0),0)),0)) -> 0 | E8: 2 | F8: =D8*E8 -> 0
A9: C9K-PWR-650WAC-R/2 (or equivalent) | B9: 650W AC Config 4 Power Supply front to back cooling | D9: =IF(A9="","",IFERROR(INDEX(Totals!$D$5:$D$93,MATCH(1,INDEX((Totals!$A$5:$A$93=A9)*(Totals!$B$5:$B$93=B9),0),0)),0)) -> 0 | E9: 2 | F9: =D9*E9 -> 0
A10: C9K-T1-FANTRAY (or equivalent) | B10: Catalyst 9500 Type 4 front to back cooling Fan | D10: =IF(A10="","",IFERROR(INDEX(Totals!$D$5:$D$93,MATCH(1,INDEX((Totals!$A$5:$A$93=A10)*(Totals!$B$5:$B$93=B10),0),0)),0)) -> 0 | E10: 2 | F10: =D10*E10 -> 0
A11: C9500-NW-A (or equivalent) | B11: C9500 Network Stack, Advantage | D11: =IF(A11="","",IFERROR(INDEX(Totals!$D$5:$D$93,MATCH(1,INDEX((Totals!$A$5:$A$93=A11)*(Totals!$B$5:$B$93=B11),0),0)),0)) -> 0 | E11: 2 | F11: =D11*E11 -> 0
A12: SC9500HUK9-176 (or equivalent) | B12: Cisco Catalyst 9500H XE.17.6 UNIVERSAL | D12: =IF(A12="","",IFERROR(INDEX(Totals!$D$5:$D$93,MATCH(1,INDEX((Totals!$A$5:$A$93=A12)*(Totals!$B$5:$B$93=B12),0),0)),0)) -> 0 | E12: 2 | F12: =D12*E12 -> 0
A13: C9K-F1-SSD-240G (or equivalent) | B13: Cisco pluggable SSD storage | D13: =IF(A13="","",IFERROR(INDEX(Totals!$D$5:$D$93,MATCH(1,INDEX((Totals!$A$5:$A$93=A13)*(Totals!$B$5:$B$93=B13),0),0)),0)) -> 0 | E13: 2 | F13: =D13*E13 -> 0
A14: C9500-DNAX-A- 24YR (or equivalent) | B14: C9500 24Y4C DNA-Advtg w/Support, Prime Infra LF+AS | D14: =IF(A14="","",IFERROR(INDEX(Totals!$D$5:$D$93,MATCH(1,INDEX((Totals!$A$5:$A$93=A14)*(Totals!$B$5:$B$93=B14),0),0)),0)) -> 0 | E14: 2 | F14: =D14*E14 -> 0
A15: 9500-DNAX-L-A-5R (or equivalent) | B15: C9500 DNA Advantage w/Support, Low Density, 5Y | C15: 60 | D15: =IF(A15="","",IFERROR(INDEX(Totals!$D$5:$D$93,MATCH(1,INDEX((Totals!$A$5:$A$93=A15)*(Totals!$B$5:$B$93=B15),0),0)),0)) -> 0 | E15: 2 | F15: =D15*E15 -> 0
A16: PI-LFAS-T (or equivalent) | B16: Prime Infrastructure Lifecycle & Assurance Term - Smart Lic | D16: =IF(A16="","",IFERROR(INDEX(Totals!$D$5:$D$93,MATCH(1,INDEX((Totals!$A$5:$A$93=A16)*(Totals!$B$5:$B$93=B16),0),0)),0)) -> 0 | E16: 2 | F16: =D16*E16 -> 0
A17: PI-LFAS-AP-T-5Y (or equivalent) | B17: PI Dev Lic for Lifecycle & Assurance Term 5Y | C17: 60 | D17: =IF(A17="","",IFERROR(INDEX(Totals!$D$5:$D$93,MATCH(1,INDEX((Totals!$A$5:$A$93=A17)*(Totals!$B$5:$B$93=B17),0),0)),0)) -> 0 | E17: 2 | F17: =D17*E17 -> 0
A18: NETWORK-PNP- LIC (or equivalent) | B18: Network Plug-n-Play Connect for zero-touch device deployment | D18: =IF(A18="","",IFERROR(INDEX(Totals!$D$5:$D$93,MATCH(1,INDEX((Totals!$A$5:$A$93=A18)*(Totals!$B$5:$B$93=B18),0),0)),0)) -> 0 | E18: 2 | F18: =D18*E18 -> 0
A19: SFP-10G-ER-S= (or equivalent) | B19: 10GBASE-ER SFP module | D19: =IF(A19="","",IFERROR(INDEX(Totals!$D$5:$D$93,MATCH(1,INDEX((Totals!$A$5:$A$93=A19)*(Totals!$B$5:$B$93=B19),0),0)),0)) -> 0 | E19: 4 | F19: =D19*E19 -> 0
A20: SFP-H10GB-CU1M (or equivalent) | B20: Twinax cable, passive, 30AWG cable assembly, 1M | D20: =IF(A20="","",IFERROR(INDEX(Totals!$D$5:$D$93,MATCH(1,INDEX((Totals!$A$5:$A$93=A20)*(Totals!$B$5:$B$93=B20),0),0)),0)) -> 0 | E20: 2 | F20: =D20*E20 -> 0
A21: QSFP 100GE CU1M (or equivalent) | B21: 100GBASE-CR4 Passive Copper Cable, 1M | D21: =IF(A21="","",IFERROR(INDEX(Totals!$D$5:$D$93,MATCH(1,INDEX((Totals!$A$5:$A$93=A21)*(Totals!$B$5:$B$93=B21),0),0)),0)) -> 0 | E21: 2 | F21: =D21*E21 -> 0
A22: N9K-C9508 | B22: Nexus 9508 Chassis with 8 linecard slots | D22: =IF(A22="","",IFERROR(INDEX(Totals!$D$5:$D$93,MATCH(1,INDEX((Totals!$A$5:$A$93=A22)*(Totals!$B$5:$B$93=B22),0),0)),0)) -> 0 | E22: 2 | F22: =D22*E22 -> 0
A23: CON-SNTP-N9508 | B23: SNTC-24X7X4 Nexus 9508 Chassis w | D23: =IF(A23="","",IFERROR(INDEX(Totals!$D$5:$D$93,MATCH(1,INDEX((Totals!$A$5:$A$93=A23)*(Totals!$B$5:$B$93=B23),0),0)),0)) -> 0 | E23: 2 | F23: =D23*E23 -> 0
A24: NXOS-CS-10.5.2F | B24: Nexus 9300, 9500, 9800 NX-OS SW 10.5.2 (64bit) Cisco Silicon | D24: =IF(A24="","",IFERROR(INDEX(Totals!$D$5:$D$93,MATCH(1,INDEX((Totals!$A$5:$A$93=A24)*(Totals!$B$5:$B$93=B24),0),0)),0)) -> 0 | E24: 2 | F24: =D24*E24 -> 0
A25: N9K-C9500-ACK | B25: Nexus 9500 Accessory Kit | D25: =IF(A25="","",IFERROR(INDEX(Totals!$D$5:$D$93,MATCH(1,INDEX((Totals!$A$5:$A$93=A25)*(Totals!$B$5:$B$93=B25),0),0)),0)) -> 0 | E25: 2 | F25: =D25*E25 -> 0
A26: MODE-NXOS | B26: Mode selection between ACI and NXOS | D26: =IF(A26="","",IFERROR(INDEX(Totals!$D$5:$D$93,MATCH(1,INDEX((Totals!$A$5:$A$93=A26)*(Totals!$B$5:$B$93=B26),0),0)),0)) -> 0 | E26: 2 | F26: =D26*E26 -> 0
A27: N9K-C9508-FAN | B27: Fan Tray for Nexus 9508 chassis, Port-side Intake | D27: =IF(A27="","",IFERROR(INDEX(Totals!$D$5:$D$93,MATCH(1,INDEX((Totals!$A$5:$A$93=A27)*(Totals!$B$5:$B$93=B27),0),0)),0)) -> 0 | E27: 6 | F27: =D27*E27 -> 0
A28: N9K-PAC-3000W-B | B28: Nexus 9500 3000W AC PS, Port-side Intake | D28: =IF(A28="","",IFERROR(INDEX(Totals!$D$5:$D$93,MATCH(1,INDEX((Totals!$A$5:$A$93=A28)*(Totals!$B$5:$B$93=B28),0),0)),0)) -> 0 | E28: 8 | F28: =D28*E28 -> 0
A29: CAB-C19-CBN | B29: Cabinet Jumper Power Cord, 250 VAC 16A, C20-C19 Connectors | D29: =IF(A29="","",IFERROR(INDEX(Totals!$D$5:$D$93,MATCH(1,INDEX((Totals!$A$5:$A$93=A29)*(Totals!$B$5:$B$93=B29),0),0)),0)) -> 0 | E29: 8 | F29: =D29*E29 -> 0
... A90: ONS-SE-155-1510 | B90: SFP - OC-3/STM-1, CWDM, 1510 nm, EXT | D90: =IF(A90="","",IFERROR(INDEX(Totals!$D$5:$D$93,MATCH(1,INDEX((Totals!$A$5:$A$93=A90)*(Totals!$B$5:$B$93=B90),0),0)),0)) -> 0 | E90: 2 | F90: =D90*E90 -> 0
A91: Installation/Project Mgt | B91: Configuration of Equipment, Installation and testing of equipment & User acceptance testing | D91: =IF(A91="","",IFERROR(INDEX(Totals!$D$5:$D$93,MATCH(1,INDEX((Totals!$A$5:$A$93=A91)*(Totals!$B$5:$B$93=B91),0),0)),0)) -> 0 | F91: =IF(OR(D91="",E91=""),"",D91*E91)
A92: Installation/Project Mgt | B92: Project Management & Network Documentation | D92: =IF(A92="","",IFERROR(INDEX(Totals!$D$5:$D$93,MATCH(1,INDEX((Totals!$A$5:$A$93=A92)*(Totals!$B$5:$B$93=B92),0),0)),0)) -> 0 | F92: =IF(OR(D92="",E92=""),"",D92*E92)
A93: Installation/Project Mgt | B93: Network / Engineering Design | D93: =IF(A93="","",IFERROR(INDEX(Totals!$D$5:$D$93,MATCH(1,INDEX((Totals!$A$5:$A$93=A93)*(Totals!$B$5:$B$93=B93),0),0)),0)) -> 0 | F93: =IF(OR(D93="",E93=""),"",D93*E93)
D95: Equipment Total | F95: =SUM(F5:F90) -> 0
D96: Installation Total | F96: =SUM(F91:F93) -> 0
D97: Grand Total | F97: =SUM(F95:F96) -> 0

Sheet Walnut Glen
A1: Walnut Glen Estimate
A4: Part Number | B4: Description | C4: Service Duration (Months) | D4: Unit List Price | E4: Qty | F4: Unit Net Price
A5: C9500-24Y4C-CX (or equivalent) | B5: Catalyst 9500 24x1/10/25G and 4-port 40/100G,CX | D5: =IF(A5="","",IFERROR(INDEX(Totals!$D$5:$D$93,MATCH(1,INDEX((Totals!$A$5:$A$93=A5)*(Totals!$B$5:$B$93=B5),0),0)),0)) -> 0 | E5: 2 | F5: =D5*E5 -> 0
A6: CON-SNT-C9524Y4C (or equivalent) | B6: SNTC-8X5XNBD Catalyst 9500 24x1/10/25G and 4-port 40 | D6: =IF(A6="","",IFERROR(INDEX(Totals!$D$5:$D$93,MATCH(1,INDEX((Totals!$A$5:$A$93=A6)*(Totals!$B$5:$B$93=B6),0),0)),0)) -> 0 | E6: 2 | F6: =D6*E6 -> 0
A7: CAB-C15-CBN (or equivalent) | B7: Cabinet Jumper Power Cord, 250 VAC 13A, C14-C15 Connectors | D7: =IF(A7="","",IFERROR(INDEX(Totals!$D$5:$D$93,MATCH(1,INDEX((Totals!$A$5:$A$93=A7)*(Totals!$B$5:$B$93=B7),0),0)),0)) -> 0 | E7: 2 | F7: =D7*E7 -> 0
A8: C9K-PWR-650WAC-R (or equivalent) | B8: 650W AC Config 4 Power Supply front to back cooling | D8: =IF(A8="","",IFERROR(INDEX(Totals!$D$5:$D$93,MATCH(1,INDEX((Totals!$A$5:$A$93=A8)*(Totals!$B$5:$B$93=B8),0),0)),0)) -> 0 | E8: 2 | F8: =D8*E8 -> 0
A9: C9K-PWR-650WAC-R/2 (or equivalent) | B9: 650W AC Config 4 Power Supply front to back cooling | D9: =IF(A9="","",IFERROR(INDEX(Totals!$D$5:$D$93,MATCH(1,INDEX((Totals!$A$5:$A$93=A9)*(Totals!$B$5:$B$93=B9),0),0)),0)) -> 0 | E9: 2 | F9: =D9*E9 -> 0
A10: C9K-T1-FANTRAY (or equivalent) | B10: Catalyst 9500 Type 4 front to back cooling Fan | D10: =IF(A10="","",IFERROR(INDEX(Totals!$D$5:$D$93,MATCH(1,INDEX((Totals!$A$5:$A$93=A10)*(Totals!$B$5:$B$93=B10),0),0)),0)) -> 0 | E10: 2 | F10: =D10*E10 -> 0
A11: C9500-NW-A (or equivalent) | B11: C9500 Network Stack, Advantage | D11: =IF(A11="","",IFERROR(INDEX(Totals!$D$5:$D$93,MATCH(1,INDEX((Totals!$A$5:$A$93=A11)*(Totals!$B$5:$B$93=B11),0),0)),0)) -> 0 | E11: 2 | F11: =D11*E11 -> 0
A12: SC9500HUK9-176 (or equivalent) | B12: Cisco Catalyst 9500H XE.17.6 UNIVERSAL | D12: =IF(A12="","",IFERROR(INDEX(Totals!$D$5:$D$93,MATCH(1,INDEX((Totals!$A$5:$A$93=A12)*(Totals!$B$5:$B$93=B12),0),0)),0)) -> 0 | E12: 2 | F12: =D12*E12 -> 0
A13: C9K-F1-SSD-240G (or equivalent) | B13: Cisco pluggable SSD storage | D13: =IF(A13="","",IFERROR(INDEX(Totals!$D$5:$D$93,MATCH(1,INDEX((Totals!$A$5:$A$93=A13)*(Totals!$B$5:$B$93=B13),0),0)),0)) -> 0 | E13: 2 | F13: =D13*E13 -> 0
A14: C9500-DNAX-A- 24YR (or equivalent) | B14: C9500 24Y4C DNA-Advtg w/Support, Prime Infra LF+AS | D14: =IF(A14="","",IFERROR(INDEX(Totals!$D$5:$D$93,MATCH(1,INDEX((Totals!$A$5:$A$93=A14)*(Totals!$B$5:$B$93=B14),0),0)),0)) -> 0 | E14: 2 | F14: =D14*E14 -> 0
A15: 9500-DNAX-L-A-5R (or equivalent) | B15: C9500 DNA Advantage w/Support, Low Density, 5Y | C15: 60 | D15: =IF(A15="","",IFERROR(INDEX(Totals!$D$5:$D$93,MATCH(1,INDEX((Totals!$A$5:$A$93=A15)*(Totals!$B$5:$B$93=B15),0),0)),0)) -> 0 | E15: 2 | F15: =D15*E15 -> 0
A16: PI-LFAS-T (or equivalent) | B16: Prime Infrastructure Lifecycle & Assurance Term - Smart Lic | D16: =IF(A16="","",IFERROR(INDEX(Totals!$D$5:$D$93,MATCH(1,INDEX((Totals!$A$5:$A$93=A16)*(Totals!$B$5:$B$93=B16),0),0)),0)) -> 0 | E16: 2 | F16: =D16*E16 -> 0
A17: PI-LFAS-AP-T-5Y (or equivalent) | B17: PI Dev Lic for Lifecycle & Assurance Term 5Y | C17: 60 | D17: =IF(A17="","",IFERROR(INDEX(Totals!$D$5:$D$93,MATCH(1,INDEX((Totals!$A$5:$A$93=A17)*(Totals!$B$5:$B$93=B17),0),0)),0)) -> 0 | E17: 2 | F17: =D17*E17 -> 0
A18: NETWORK-PNP- LIC (or equivalent) | B18: Network Plug-n-Play Connect for zero-touch device deployment | D18: =IF(A18="","",IFERROR(INDEX(Totals!$D$5:$D$93,MATCH(1,INDEX((Totals!$A$5:$A$93=A18)*(Totals!$B$5:$B$93=B18),0),0)),0)) -> 0 | E18: 2 | F18: =D18*E18 -> 0
A19: SFP-10G-ER-S= (or equivalent) | B19: 10GBASE-ER SFP module | D19: =IF(A19="","",IFERROR(INDEX(Totals!$D$5:$D$93,MATCH(1,INDEX((Totals!$A$5:$A$93=A19)*(Totals!$B$5:$B$93=B19),0),0)),0)) -> 0 | E19: 4 | F19: =D19*E19 -> 0
A20: SFP-H10GB-CU1M (or equivalent) | B20: Twinax cable, passive, 30AWG cable assembly, 1M | D20: =IF(A20="","",IFERROR(INDEX(Totals!$D$5:$D$93,MATCH(1,INDEX((Totals!$A$5:$A$93=A20)*(Totals!$B$5:$B$93=B20),0),0)),0)) -> 0 | E20: 2 | F20: =D20*E20 -> 0
A21: QSFP 100GE CU1M (or equivalent) | B21: 100GBASE-CR4 Passive Copper Cable, 1M | D21: =IF(A21="","",IFERROR(INDEX(Totals!$D$5:$D$93,MATCH(1,INDEX((Totals!$A$5:$A$93=A21)*(Totals!$B$5:$B$93=B21),0),0)),0)) -> 0 | E21: 2 | F21: =D21*E21 -> 0
A22: Installation/Project Mgt | B22: Configuration of Equipment, Installation and testing of equipment & User acceptance testing | D22: =IF(A22="","",IFERROR(INDEX(Totals!$D$5:$D$93,MATCH(1,INDEX((Totals!$A$5:$A$93=A22)*(Totals!$B$5:$B$93=B22),0),0)),0)) -> 0 | F22: =IF(OR(D22="",E22=""),"",D22*E22)
A23: Installation/Project Mgt | B23: Project Management & Network Documentation | D23: =IF(A23="","",IFERROR(INDEX(Totals!$D$5:$D$93,MATCH(1,INDEX((Totals!$A$5:$A$93=A23)*(Totals!$B$5:$B$93=B23),0),0)),0)) -> 0 | F23: =IF(OR(D23="",E23=""),"",D23*E23)
A24: Installation/Project Mgt | B24: Network / Engineering Design | D24: =IF(A24="","",IFERROR(INDEX(Totals!$D$5:$D$93,MATCH(1,INDEX((Totals!$A$5:$A$93=A24)*(Totals!$B$5:$B$93=B24),0),0)),0)) -> 0 | F24: =IF(OR(D24="",E24=""),"",D24*E24)
D26: Equipment Total | F26: =SUM(F5:F21) -> 0
D27: Installation Total | F27: =SUM(F22:F24) -> 0
D28: Grand Total | F28: =SUM(F26:F27) -> 0
