Workbook

Sheet Vendor Info
A1: Local Area Network Equipment and Services
A2: Proposal is due by: | B2: Request for Proposal
A3: Tuesday, November 10, 2026 | B3: 510-27-02
B4: Garland Independent School District
B5: 501 S. Jupiter
B6: Garland, Texas 75042
B8: PROPOSING COMPANY CONTACT INFORMATION
A9: Company Name:
A10: Company Address:
A11: Company City, State, Zip Code:
A12: Primary Contact Name:
A13: Primary Contact Title:
A14: Primary Contact Telephone No:
A15: Primary Contact E-Mail Address:
A16: Primary Contact Physical Address:
A17: Primary Contact City, State, Zip Code:
B20: You will only be able to enter Pricing onn the "Totals" tab in Column "D". All other tabs are locked and calculated.

Sheet Totals
A1: Master Price Estimate
A4: Part Number | B4: Description | C4: Service Duration (Months) | D4: Unit List Price | E4: Qty | F4: Unit Net Price
A5: C9300X-48HX-CX (or equivalent) | B5: Catalyst 9300 48-port mGig UPoE+, NK12 | E5: =SUM('Ag Barn'!E5,GRCTC!E5,'Linda Griffin'!E5,'Memorial Pathway Academy'!E5,'Walnut Glen'!E5) -> 101 | F5: =D5*E5 -> 0
A6: SSD-240G (or equivalent) | B6: Cisco pluggable USB3.0 SSD storage | E6: =SUM('Ag Barn'!E6,GRCTC!E6,'Linda Griffin'!E6,'Memorial Pathway Academy'!E6,'Walnut Glen'!E6) -> 101 | F6: =D6*E6 -> 0
A7: STACK-T1-50CM (or equivalent) | B7: 50CM Type 1 Stacking Cable | E7: =SUM('Ag Barn'!E7,GRCTC!E7,'Linda Griffin'!E7,'Memorial Pathway Academy'!E7,'Walnut Glen'!E7) -> 107 | F7: =D7*E7 -> 0
A8: CAB-SPWR-30CM (or equivalent) | B8: Catalyst Stack Power Cable 30 CM | E8: =SUM('Ag Barn'!E8,GRCTC!E8,'Linda Griffin'!E8,'Memorial Pathway Academy'!E8,'Walnut Glen'!E8) -> 107 | F8: =D8*E8 -> 0
A9: C9300-DNAX-A- 48R (or equivalent) | B9: C9300 DNA-Advtg w/Support, 48P, Prime Infra LF+AS, TE | E9: =SUM('Ag Barn'!E9,GRCTC!E9,'Linda Griffin'!E9,'Memorial Pathway Academy'!E9,'Walnut Glen'!E9) -> 101 | F9: =D9*E9 -> 0
A10: 9300-DNAX-A-48-5R (or equivalent) | B10: C9300 DNA Advantage w/Support, 48-Port, 3Y | C10: 36 | E10: =SUM('Ag Barn'!E10,GRCTC!E10,'Linda Griffin'!E10,'Memorial Pathway Academy'!E10,'Walnut Glen'!E10) -> 101 | F10: =D10*E10 -> 0
A11: C9300X-NM-8Y (or equivalent) | B11: Catalyst 9300 8 x 10G/25G Network Module SFP+/SFP28 | E11: =SUM('Ag Barn'!E11,GRCTC!E11,'Linda Griffin'!E11,'Memorial Pathway Academy'!E11,'Walnut Glen'!E11) -> 39 | F11: =D11*E11 -> 0
A12: STACK-T1-1M (or equivalent) | B12: 1M Type 1 Stacking Cable | E12: =SUM('Ag Barn'!E12,GRCTC!E12,'Linda Griffin'!E12,'Memorial Pathway Academy'!E12,'Walnut Glen'!E12) -> 41 | F12: =D12*E12 -> 0
A13: STACK-T1-3M (or equivalent) | B13: 3M Type 1 Stacking Cable | E13: =SUM('Ag Barn'!E13,GRCTC!E13,'Linda Griffin'!E13,'Memorial Pathway Academy'!E13,'Walnut Glen'!E13) -> 50 | F13: =D13*E13 -> 0
A14: CAB-SPWR-150CM (or equivalent) | B14: 150cm StackPower cable | E14: =SUM('Ag Barn'!E14,GRCTC!E14,'Linda Griffin'!E14,'Memorial Pathway Academy'!E14,'Walnut Glen'!E14) -> 41 | F14: =D14*E14 -> 0
A15: SFP-10G-SR-S (or equivalent) | B15: 10GBASE-SR-S SFP Module | E15: =SUM('Ag Barn'!E15,GRCTC!E15,'Linda Griffin'!E15,'Memorial Pathway Academy'!E15,'Walnut Glen'!E15) -> 136 | F15: =D15*E15 -> 0
A16: P018-006 (or equivalent) | B16: Power Cord C14 to C15 - Heavy-Duty, 16A, 250V, 14AWG, 6FT, Black | E16: =SUM('Ag Barn'!E16,GRCTC!E16,'Linda Griffin'!E16,'Memorial Pathway Academy'!E16,'Walnut Glen'!E16) -> 58 | F16: =D16*E16 -> 0
A17: P018-010 (or equivalent) | B17: Power Cord C14 to C15 - Heavy-Duty, 16A, 250V, 14AWG, 10FT, Black | E17: =SUM('Ag Barn'!E17,GRCTC!E17,'Linda Griffin'!E17,'Memorial Pathway Academy'!E17,'Walnut Glen'!E17) -> 58 | F17: =D17*E17 -> 0
A18: MR57-HW (or equivalent) | B18: Meraki MR57 Cloud Managed 802.11ax AP - Indoor AP | E18: =SUM('Ag Barn'!E18,GRCTC!E18,'Linda Griffin'!E18,'Memorial Pathway Academy'!E18,'Walnut Glen'!E18) -> 278 | F18: =D18*E18 -> 0
A19: MR46E-HW (or equivalent) | B19: Meraki MR46E Cloud Managed 802.11ax AP - Indoor AP w External Antenna Connectors | E19: =SUM('Ag Barn'!E19,GRCTC!E19,'Linda Griffin'!E19,'Memorial Pathway Academy'!E19,'Walnut Glen'!E19) -> 29 | F19: =D19*E19 -> 0
A20: MA-ANT-3-E6 (or equivalent) | B20: Meraki Indoor Dual-band Wide Patch Ant, 6port MR46E/MR53E | E20: =SUM('Ag Barn'!E20,GRCTC!E20,'Linda Griffin'!E20,'Memorial Pathway Academy'!E20,'Walnut Glen'!E20) -> 29 | F20: =D20*E20 -> 0
A21: MA-MNT-ANT-2 (or equivalent) | B21: Meraki Long Mounting Arm for E & F Series Patch Antenna | E21: =SUM('Ag Barn'!E21,GRCTC!E21,'Linda Griffin'!E21,'Memorial Pathway Academy'!E21,'Walnut Glen'!E21) -> 29 | F21: =D21*E21 -> 0
A22: LIC-ENT-7YR (or equivalent) | B22: Meraki MR Enterprise License, 7YR | E22: =SUM('Ag Barn'!E22,GRCTC!E22,'Linda Griffin'!E22,'Memorial Pathway Academy'!E22,'Walnut Glen'!E22) -> 307 | F22: =D22*E22 -> 0
A23: Eaton 9PX6K-L UPS (or equivalent) | B23: Eaton 9PX 6000VA 5400W 208V Online Double-Conversion UPS - L6-30P or Hardwired Input, 2 L6-20R, 2 L6-30R, Lithium-ion Battery, Cybersecure Network Card, Extended Run, 3U Rack/Tower. NETWORK-M2 card included with unit. 5 Year Warranty. | C23: 60 | E23: =SUM('Ag Barn'!E23,GRCTC!E23,'Linda Griffin'!E23,'Memorial Pathway Academy'!E23,'Walnut Glen'!E23) -> 5 | F23: =D23*E23 -> 0
A24: Eaton UPS Battery Packs 9PXEBM192RT-L (or equivalent) | B24: Eaton 9PX 192V Lithium-Ion Extended Battery Module (EBM) for 9PX6K-L UPS System, 2U Rack/Tower. 5 Year Warranty. | C24: 60 | E24: =SUM('Ag Barn'!E24,GRCTC!E24,'Linda Griffin'!E24,'Memorial Pathway Academy'!E24,'Walnut Glen'!E24) -> 14 | F24: =D24*E24 -> 0
A25: 9SW5Y-6000UC (or equivalent) | B25: Ext Warranty-5YR UPC Adv Exchg, New Prod | C25: 60 | E25: =SUM('Ag Barn'!E25,GRCTC!E25,'Linda Griffin'!E25,'Memorial Pathway Academy'!E25,'Walnut Glen'!E25) -> 5 | F25: =D25*E25 -> 0
A26: 9SW5Y-18000BC (or equivalent) | B26: Ext Warranty-5YR EBM Adv Exchange | C26: 60 | E26: =SUM('Ag Barn'!E26,GRCTC!E26,'Linda Griffin'!E26,'Memorial Pathway Academy'!E26,'Walnut Glen'!E26) -> 14 | F26: =D26*E26 -> 0
A27: Installation/Project Mgt | B27: Configuration of Equipment, Installation and testing of equipment & User acceptance testing | D27: d
A28: Installation/Project Mgt | B28: Project Management & Network Documentation
A29: Installation/Project Mgt | B29: Network / Engineering Design
D31: Equipment Total | F31: =SUM(F5:F26) -> 0
D32: Installation Total | F32: =SUM(F27:F29) -> 0
D33: Grand Total | F33: =SUM(F31:F32) -> 0

Sheet Ag Barn
A1: Ag Barn Price Estimate
A4: Part Number | B4: Description | C4: Service Duration (Months) | D4: Unit List Price | E4: Qty | F4: Unit Net Price
A5: C9300X-48HX-CX (or equivalent) | B5: Catalyst 9300 48-port mGig UPoE+, NK12 | E5: 10 | F5: =D5*E5 -> 0
A6: SSD-240G (or equivalent) | B6: Cisco pluggable USB3.0 SSD storage | E6: 10 | F6: =D6*E6 -> 0
A7: STACK-T1-50CM (or equivalent) | B7: 50CM Type 1 Stacking Cable | E7: 16 | F7: =D7*E7 -> 0
A8: CAB-SPWR-30CM (or equivalent) | B8: Catalyst Stack Power Cable 30 CM | E8: 16 | F8: =D8*E8 -> 0
A9: C9300-DNAX-A- 48R (or equivalent) | B9: C9300 DNA-Advtg w/Support, 48P, Prime Infra LF+AS, TE | E9: 10 | F9: =D9*E9 -> 0
A10: 9300-DNAX-A-48-5R (or equivalent) | B10: C9300 DNA Advantage w/Support, 48-Port, 3Y | C10: 36 | E10: 10 | F10: =D10*E10 -> 0
A11: C9300X-NM-8Y (or equivalent) | B11: Catalyst 9300 8 x 10G/25G Network Module SFP+/SFP28 | E11: 0 | F11: =D11*E11 -> 0
A12: STACK-T1-1M (or equivalent) | B12: 1M Type 1 Stacking Cable | E12: 3 | F12: =D12*E12 -> 0
A13: STACK-T1-3M (or equivalent) | B13: 3M Type 1 Stacking Cable | E13: 6 | F13: =D13*E13 -> 0
A14: CAB-SPWR-150CM (or equivalent) | B14: 150cm StackPower cable | E14: 6 | F14: =D14*E14 -> 0
A15: SFP-10G-SR-S (or equivalent) | B15: 10GBASE-SR-S SFP Module | E15: 28 | F15: =D15*E15 -> 0
A16: P018-006 (or equivalent) | B16: Power Cord C14 to C15 - Heavy-Duty, 16A, 250V, 14AWG, 6FT, Black | E16: 16 | F16: =D16*E16 -> 0
A17: P018-010 (or equivalent) | B17: Power Cord C14 to C15 - Heavy-Duty, 16A, 250V, 14AWG, 10FT, Black | E17: 8 | F17: =D17*E17 -> 0
A18: MR57-HW (or equivalent) | B18: Meraki MR57 Cloud Managed 802.11ax AP - Indoor AP | E18: 7 | F18: =D18*E18 -> 0
A19: MR46E-HW (or equivalent) | B19: Meraki MR46E Cloud Managed 802.11ax AP - Indoor AP w External Antenna Connectors | E19: 14 | F19: =D19*E19 -> 0
A20: MA-ANT-3-E6 (or equivalent) | B20: Meraki Indoor Dual-band Wide Patch Ant, 6port MR46E/MR53E | E20: 14 | F20: =D20*E20 -> 0
A21: MA-MNT-ANT-2 (or equivalent) | B21: Meraki Long Mounting Arm for E & F Series Patch Antenna | E21: 14 | F21: =D21*E21 -> 0
A22: LIC-ENT-7YR (or equivalent) | B22: Meraki MR Enterprise License, 7YR | E22: 21 | F22: =D22*E22 -> 0
A23: Eaton 9PX6K-L UPS (or equivalent) | B23: Eaton 9PX 6000VA 5400W 208V Online Double-Conversion UPS - L6-30P or Hardwired Input, 2 L6-20R, 2 L6-30R, Lithium-ion Battery, Cybersecure Network Card, Extended Run, 3U Rack/Tower. NETWORK-M2 card included with unit. 5 Year Warranty. | C23: 60 | E23: 1 | F23: =D23*E23 -> 0
A24: Eaton UPS Battery Packs 9PXEBM192RT-L (or equivalent) | B24: Eaton 9PX 192V Lithium-Ion Extended Battery Module (EBM) for 9PX6K-L UPS System, 2U Rack/Tower. 5 Year Warranty. | C24: 60 | E24: 2 | F24: =D24*E24 -> 0
A25: 9SW5Y-6000UC (or equivalent) | B25: Ext Warranty-5YR UPC Adv Exchg, New Prod | C25: 60 | E25: 1 | F25: =D25*E25 -> 0
A26: 9SW5Y-18000BC (or equivalent) | B26: Ext Warranty-5YR EBM Adv Exchange | C26: 60 | E26: 2 | F26: =D26*E26 -> 0
A27: Installation/Project Mgt | B27: Configuration of Equipment, Installation and testing of equipment & User acceptance testing
A28: Installation/Project Mgt | B28: Project Management & Network Documentation
A29: Installation/Project Mgt | B29: Network / Engineering Design
D31: Equipment Total | F31: =SUM(F5:F26) -> 0
D32: Installation Total | F32: =SUM(F27:F29) -> 0
D33: Grand Total | F33: =SUM(F31:F32) -> 0

Sheet GRCTC
A1: GRCTC Price Estimate
A4: Part Number | B4: Description | C4: Service Duration (Months) | D4: Unit List Price | E4: Qty | F4: Unit Net Price
A5: C9300X-48HX-CX (or equivalent) | B5: Catalyst 9300 48-port mGig UPoE+, NK12 | E5: 12 | F5: =D5*E5 -> 0
A6: SSD-240G (or equivalent) | B6: Cisco pluggable USB3.0 SSD storage | E6: 12 | F6: =D6*E6 -> 0
A7: STACK-T1-50CM (or equivalent) | B7: 50CM Type 1 Stacking Cable | E7: 12 | F7: =D7*E7 -> 0
A8: CAB-SPWR-30CM (or equivalent) | B8: Catalyst Stack Power Cable 30 CM | E8: 12 | F8: =D8*E8 -> 0
A9: C9300-DNAX-A- 48R (or equivalent) | B9: C9300 DNA-Advtg w/Support, 48P, Prime Infra LF+AS, TE | E9: 12 | F9: =D9*E9 -> 0
A10: 9300-DNAX-A-48-5R (or equivalent) | B10: C9300 DNA Advantage w/Support, 48-Port, 3Y | C10: 36 | E10: 12 | F10: =D10*E10 -> 0
A11: C9300X-NM-8Y (or equivalent) | B11: Catalyst 9300 8 x 10G/25G Network Module SFP+/SFP28 | E11: 6 | F11: =D11*E11 -> 0
A12: STACK-T1-1M (or equivalent) | B12: 1M Type 1 Stacking Cable | E12: 6 | F12: =D12*E12 -> 0
A13: STACK-T1-3M (or equivalent) | B13: 3M Type 1 Stacking Cable | E13: 6 | F13: =D13*E13 -> 0
A14: CAB-SPWR-150CM (or equivalent) | B14: 150cm StackPower cable | E14: 6 | F14: =D14*E14 -> 0
A15: SFP-10G-SR-S (or equivalent) | B15: 10GBASE-SR-S SFP Module | E15: 16 | F15: =D15*E15 -> 0
A16: P018-006 (or equivalent) | B16: Power Cord C14 to C15 - Heavy-Duty, 16A, 250V, 14AWG, 6FT, Black | E16: 6 | F16: =D16*E16 -> 0
A17: P018-010 (or equivalent) | B17: Power Cord C14 to C15 - Heavy-Duty, 16A, 250V, 14AWG, 10FT, Black | E17: 6 | F17: =D17*E17 -> 0
A18: MR57-HW (or equivalent) | B18: Meraki MR57 Cloud Managed 802.11ax AP - Indoor AP | E18: 36 | F18: =D18*E18 -> 0
A19: MR46E-HW (or equivalent) | B19: Meraki MR46E Cloud Managed 802.11ax AP - Indoor AP w External Antenna Connectors | E19: 0 | F19: =D19*E19 -> 0
A20: MA-ANT-3-E6 (or equivalent) | B20: Meraki Indoor Dual-band Wide Patch Ant, 6port MR46E/MR53E | E20: 0 | F20: =D20*E20 -> 0
A21: MA-MNT-ANT-2 (or equivalent) | B21: Meraki Long Mounting Arm for E & F Series Patch Antenna | E21: 0 | F21: =D21*E21 -> 0
A22: LIC-ENT-7YR (or equivalent) | B22: Meraki MR Enterprise License, 7YR | E22: 36 | F22: =D22*E22 -> 0
A23: Eaton 9PX6K-L UPS (or equivalent) | B23: Eaton 9PX 6000VA 5400W 208V Online Double-Conversion UPS - L6-30P or Hardwired Input, 2 L6-20R, 2 L6-30R, Lithium-ion Battery, Cybersecure Network Card, Extended Run, 3U Rack/Tower. NETWORK-M2 card included with unit. 5 Year Warranty. | C23: 60 | E23: 0 | F23: =D23*E23 -> 0
A24: Eaton UPS Battery Packs 9PXEBM192RT-L (or equivalent) | B24: Eaton 9PX 192V Lithium-Ion Extended Battery Module (EBM) for 9PX6K-L UPS System, 2U Rack/Tower. 5 Year Warranty. | C24: 60 | E24: 0 | F24: =D24*E24 -> 0
A25: 9SW5Y-6000UC (or equivalent) | B25: Ext Warranty-5YR UPC Adv Exchg, New Prod | C25: 60 | E25: 0 | F25: =D25*E25 -> 0
A26: 9SW5Y-18000BC (or equivalent) | B26: Ext Warranty-5YR EBM Adv Exchange | C26: 60 | E26: 0 | F26: =D26*E26 -> 0
A27: Installation/Project Mgt | B27: Configuration of Equipment, Installation and testing of equipment & User acceptance testing
A28: Installation/Project Mgt | B28: Project Management & Network Documentation
A29: Installation/Project Mgt | B29: Network / Engineering Design
D31: Equipment Total | F31: =SUM(F5:F26) -> 0
D32: Installation Total | F32: =SUM(F27:F29) -> 0
D33: Grand Total | F33: =SUM(F31:F32) -> 0

Sheet Linda Griffin
A1: Linda Griffin Price Estimate
A4: Part Number | B4: Description | C4: Service Duration (Months) | D4: Unit List Price | E4: Qty | F4: Unit Net Price
A5: C9300X-48HX-CX (or equivalent) | B5: Catalyst 9300 48-port mGig UPoE+, NK12 | E5: 19 | F5: =D5*E5 -> 0
A6: SSD-240G (or equivalent) | B6: Cisco pluggable USB3.0 SSD storage | E6: 19 | F6: =D6*E6 -> 0
A7: STACK-T1-50CM (or equivalent) | B7: 50CM Type 1 Stacking Cable | E7: 19 | F7: =D7*E7 -> 0
A8: CAB-SPWR-30CM (or equivalent) | B8: Catalyst Stack Power Cable 30 CM | E8: 19 | F8: =D8*E8 -> 0
A9: C9300-DNAX-A- 48R (or equivalent) | B9: C9300 DNA-Advtg w/Support, 48P, Prime Infra LF+AS, TE | E9: 19 | F9: =D9*E9 -> 0
A10: 9300-DNAX-A-48-5R (or equivalent) | B10: C9300 DNA Advantage w/Support, 48-Port, 3Y | C10: 36 | E10: 19 | F10: =D10*E10 -> 0
A11: C9300X-NM-8Y (or equivalent) | B11: Catalyst 9300 8 x 10G/25G Network Module SFP+/SFP28 | E11: 0 | F11: =D11*E11 -> 0
A12: STACK-T1-1M (or equivalent) | B12: 1M Type 1 Stacking Cable | E12: 5 | F12: =D12*E12 -> 0
A13: STACK-T1-3M (or equivalent) | B13: 3M Type 1 Stacking Cable | E13: 5 | F13: =D13*E13 -> 0
A14: CAB-SPWR-150CM (or equivalent) | B14: 150cm StackPower cable | E14: 4 | F14: =D14*E14 -> 0
A15: SFP-10G-SR-S (or equivalent) | B15: 10GBASE-SR-S SFP Module | E15: 0 | F15: =D15*E15 -> 0
A16: P018-006 (or equivalent) | B16: Power Cord C14 to C15 - Heavy-Duty, 16A, 250V, 14AWG, 6FT, Black | E16: 6 | F16: =D16*E16 -> 0
A17: P018-010 (or equivalent) | B17: Power Cord C14 to C15 - Heavy-Duty, 16A, 250V, 14AWG, 10FT, Black | E17: 14 | F17: =D17*E17 -> 0
A18: MR57-HW (or equivalent) | B18: Meraki MR57 Cloud Managed 802.11ax AP - Indoor AP | E18: 80 | F18: =D18*E18 -> 0
A19: MR46E-HW (or equivalent) | B19: Meraki MR46E Cloud Managed 802.11ax AP - Indoor AP w External Antenna Connectors | E19: 7 | F19: =D19*E19 -> 0
A20: MA-ANT-3-E6 (or equivalent) | B20: Meraki Indoor Dual-band Wide Patch Ant, 6port MR46E/MR53E | E20: 7 | F20: =D20*E20 -> 0
A21: MA-MNT-ANT-2 (or equivalent) | B21: Meraki Long Mounting Arm for E & F Series Patch Antenna | E21: 7 | F21: =D21*E21 -> 0
A22: LIC-ENT-7YR (or equivalent) | B22: Meraki MR Enterprise License, 7YR | E22: 87 | F22: =D22*E22 -> 0
A23: Eaton 9PX6K-L UPS (or equivalent) | B23: Eaton 9PX 6000VA 5400W 208V Online Double-Conversion UPS - L6-30P or Hardwired Input, 2 L6-20R, 2 L6-30R, Lithium-ion Battery, Cybersecure Network Card, Extended Run, 3U Rack/Tower. NETWORK-M2 card included with unit. 5 Year Warranty. | C23: 60 | E23: 0 | F23: =D23*E23 -> 0
A24: Eaton UPS Battery Packs 9PXEBM192RT-L (or equivalent) | B24: Eaton 9PX 192V Lithium-Ion Extended Battery Module (EBM) for 9PX6K-L UPS System, 2U Rack/Tower. 5 Year Warranty. | C24: 60 | E24: 4 | F24: =D24*E24 -> 0
A25: 9SW5Y-6000UC (or equivalent) | B25: Ext Warranty-5YR UPC Adv Exchg, New Prod | C25: 60 | E25: 0 | F25: =D25*E25 -> 0
A26: 9SW5Y-18000BC (or equivalent) | B26: Ext Warranty-5YR EBM Adv Exchange | C26: 60 | E26: 4 | F26: =D26*E26 -> 0
A27: Installation/Project Mgt | B27: Configuration of Equipment, Installation and testing of equipment & User acceptance testing
A28: Installation/Project Mgt | B28: Project Management & Network Documentation
A29: Installation/Project Mgt | B29: Network / Engineering Design
D31: Equipment Total | F31: =SUM(F5:F26) -> 0
D32: Installation Total | F32: =SUM(F27:F29) -> 0
D33: Grand Total | F33: =SUM(F31:F32) -> 0

Sheet Memorial Pathway Academy
A1: Memorial Pathway Price Estimate
A4: Part Number | B4: Description | C4: Service Duration (Months) | D4: Unit List Price | E4: Qty | F4: Unit Net Price
A5: C9300X-48HX-CX (or equivalent) | B5: Catalyst 9300 48-port mGig UPoE+, NK12 | E5: 26 | F5: =D5*E5 -> 0
A6: SSD-240G (or equivalent) | B6: Cisco pluggable USB3.0 SSD storage | E6: 26 | F6: =D6*E6 -> 0
A7: STACK-T1-50CM (or equivalent) | B7: 50CM Type 1 Stacking Cable | E7: 26 | F7: =D7*E7 -> 0
A8: CAB-SPWR-30CM (or equivalent) | B8: Catalyst Stack Power Cable 30 CM | E8: 26 | F8: =D8*E8 -> 0
A9: C9300-DNAX-A- 48R (or equivalent) | B9: C9300 DNA-Advtg w/Support, 48P, Prime Infra LF+AS, TE | E9: 26 | F9: =D9*E9 -> 0
A10: 9300-DNAX-A-48-5R (or equivalent) | B10: C9300 DNA Advantage w/Support, 48-Port, 3Y | C10: 36 | E10: 26 | F10: =D10*E10 -> 0
A11: C9300X-NM-8Y (or equivalent) | B11: Catalyst 9300 8 x 10G/25G Network Module SFP+/SFP28 | E11: 14 | F11: =D11*E11 -> 0
A12: STACK-T1-1M (or equivalent) | B12: 1M Type 1 Stacking Cable | E12: 10 | F12: =D12*E12 -> 0
A13: STACK-T1-3M (or equivalent) | B13: 3M Type 1 Stacking Cable | E13: 16 | F13: =D13*E13 -> 0
A14: CAB-SPWR-150CM (or equivalent) | B14: 150cm StackPower cable | E14: 10 | F14: =D14*E14 -> 0
A15: SFP-10G-SR-S (or equivalent) | B15: 10GBASE-SR-S SFP Module | E15: 40 | F15: =D15*E15 -> 0
A16: P018-006 (or equivalent) | B16: Power Cord C14 to C15 - Heavy-Duty, 16A, 250V, 14AWG, 6FT, Black | E16: 13 | F16: =D16*E16 -> 0
A17: P018-010 (or equivalent) | B17: Power Cord C14 to C15 - Heavy-Duty, 16A, 250V, 14AWG, 10FT, Black | E17: 13 | F17: =D17*E17 -> 0
A18: MR57-HW (or equivalent) | B18: Meraki MR57 Cloud Managed 802.11ax AP - Indoor AP | E18: 49 | F18: =D18*E18 -> 0
A19: MR46E-HW (or equivalent) | B19: Meraki MR46E Cloud Managed 802.11ax AP - Indoor AP w External Antenna Connectors | E19: 4 | F19: =D19*E19 -> 0
A20: MA-ANT-3-E6 (or equivalent) | B20: Meraki Indoor Dual-band Wide Patch Ant, 6port MR46E/MR53E | E20: 4 | F20: =D20*E20 -> 0
A21: MA-MNT-ANT-2 (or equivalent) | B21: Meraki Long Mounting Arm for E & F Series Patch Antenna | E21: 4 | F21: =D21*E21 -> 0
A22: LIC-ENT-7YR (or equivalent) | B22: Meraki MR Enterprise License, 7YR | E22: 53 | F22: =D22*E22 -> 0
A23: Eaton 9PX6K-L UPS (or equivalent) | B23: Eaton 9PX 6000VA 5400W 208V Online Double-Conversion UPS - L6-30P or Hardwired Input, 2 L6-20R, 2 L6-30R, Lithium-ion Battery, Cybersecure Network Card, Extended Run, 3U Rack/Tower. NETWORK-M2 card included with unit. 5 Year Warranty. | C23: 60 | E23: 2 | F23: =D23*E23 -> 0
A24: Eaton UPS Battery Packs 9PXEBM192RT-L (or equivalent) | B24: Eaton 9PX 192V Lithium-Ion Extended Battery Module (EBM) for 9PX6K-L UPS System, 2U Rack/Tower. 5 Year Warranty. | C24: 60 | E24: 4 | F24: =D24*E24 -> 0
A25: 9SW5Y-6000UC (or equivalent) | B25: Ext Warranty-5YR UPC Adv Exchg, New Prod | C25: 60 | E25: 2 | F25: =D25*E25 -> 0
A26: 9SW5Y-18000BC (or equivalent) | B26: Ext Warranty-5YR EBM Adv Exchange | C26: 60 | E26: 4 | F26: =D26*E26 -> 0
A27: Installation/Project Mgt | B27: Configuration of Equipment, Installation and testing of equipment & User acceptance testing
A28: Installation/Project Mgt | B28: Project Management & Network Documentation
A29: Installation/Project Mgt | B29: Network / Engineering Design
D31: Equipment Total | F31: =SUM(F5:F26) -> 0
D32: Installation Total | F32: =SUM(F27:F29) -> 0
D33: Grand Total | F33: =SUM(F31:F32) -> 0

Sheet Walnut Glen
A1: Walnut Glen Price Estimate
A4: Part Number | B4: Description | C4: Service Duration (Months) | D4: Unit List Price | E4: Qty | F4: Unit Net Price
A5: C9300X-48HX-CX (or equivalent) | B5: Catalyst 9300 48-port mGig UPoE+, NK12 | E5: 34 | F5: =D5*E5 -> 0
A6: SSD-240G (or equivalent) | B6: Cisco pluggable USB3.0 SSD storage | E6: 34 | F6: =D6*E6 -> 0
A7: STACK-T1-50CM (or equivalent) | B7: 50CM Type 1 Stacking Cable | E7: 34 | F7: =D7*E7 -> 0
A8: CAB-SPWR-30CM (or equivalent) | B8: Catalyst Stack Power Cable 30 CM | E8: 34 | F8: =D8*E8 -> 0
A9: C9300-DNAX-A- 48R (or equivalent) | B9: C9300 DNA-Advtg w/Support, 48P, Prime Infra LF+AS, TE | E9: 34 | F9: =D9*E9 -> 0
A10: 9300-DNAX-A-48-5R (or equivalent) | B10: C9300 DNA Advantage w/Support, 48-Port, 3Y | C10: 36 | E10: 34 | F10: =D10*E10 -> 0
A11: C9300X-NM-8Y (or equivalent) | B11: Catalyst 9300 8 x 10G/25G Network Module SFP+/SFP28 | E11: 19 | F11: =D11*E11 -> 0
A12: STACK-T1-1M (or equivalent) | B12: 1M Type 1 Stacking Cable | E12: 17 | F12: =D12*E12 -> 0
A13: STACK-T1-3M (or equivalent) | B13: 3M Type 1 Stacking Cable | E13: 17 | F13: =D13*E13 -> 0
A14: CAB-SPWR-150CM (or equivalent) | B14: 150cm StackPower cable | E14: 15 | F14: =D14*E14 -> 0
A15: SFP-10G-SR-S (or equivalent) | B15: 10GBASE-SR-S SFP Module | E15: 52 | F15: =D15*E15 -> 0
A16: P018-006 (or equivalent) | B16: Power Cord C14 to C15 - Heavy-Duty, 16A, 250V, 14AWG, 6FT, Black | E16: 17 | F16: =D16*E16 -> 0
A17: P018-010 (or equivalent) | B17: Power Cord C14 to C15 - Heavy-Duty, 16A, 250V, 14AWG, 10FT, Black | E17: 17 | F17: =D17*E17 -> 0
A18: MR57-HW (or equivalent) | B18: Meraki MR57 Cloud Managed 802.11ax AP - Indoor AP | E18: 106 | F18: =D18*E18 -> 0
A19: MR46E-HW (or equivalent) | B19: Meraki MR46E Cloud Managed 802.11ax AP - Indoor AP w External Antenna Connectors | E19: 4 | F19: =D19*E19 -> 0
A20: MA-ANT-3-E6 (or equivalent) | B20: Meraki Indoor Dual-band Wide Patch Ant, 6port MR46E/MR53E | E20: 4 | F20: =D20*E20 -> 0
A21: MA-MNT-ANT-2 (or equivalent) | B21: Meraki Long Mounting Arm for E & F Series Patch Antenna | E21: 4 | F21: =D21*E21 -> 0
A22: LIC-ENT-7YR (or equivalent) | B22: Meraki MR Enterprise License, 7YR | E22: 110 | F22: =D22*E22 -> 0
A23: Eaton 9PX6K-L UPS (or equivalent) | B23: Eaton 9PX 6000VA 5400W 208V Online Double-Conversion UPS - L6-30P or Hardwired Input, 2 L6-20R, 2 L6-30R, Lithium-ion Battery, Cybersecure Network Card, Extended Run, 3U Rack/Tower. NETWORK-M2 card included with unit. 5 Year Warranty. | C23: 60 | E23: 2 | F23: =D23*E23 -> 0
A24: Eaton UPS Battery Packs 9PXEBM192RT-L (or equivalent) | B24: Eaton 9PX 192V Lithium-Ion Extended Battery Module (EBM) for 9PX6K-L UPS System, 2U Rack/Tower. 5 Year Warranty. | C24: 60 | E24: 4 | F24: =D24*E24 -> 0
A25: 9SW5Y-6000UC (or equivalent) | B25: Ext Warranty-5YR UPC Adv Exchg, New Prod | C25: 60 | E25: 2 | F25: =D25*E25 -> 0
A26: 9SW5Y-18000BC (or equivalent) | B26: Ext Warranty-5YR EBM Adv Exchange | C26: 60 | E26: 4 | F26: =D26*E26 -> 0
A27: Installation/Project Mgt | B27: Configuration of Equipment, Installation and testing of equipment & User acceptance testing
A28: Installation/Project Mgt | B28: Project Management & Network Documentation
A29: Installation/Project Mgt | B29: Network / Engineering Design
D31: Equipment Total | F31: =SUM(F5:F26) -> 0
D32: Installation Total | F32: =SUM(F27:F29) -> 0
D33: Grand Total | F33: =SUM(F31:F32) -> 0
