Workbook
Name install: #REF!
Name Should_installation_charges_be_included_in_quote?: #REF!
Name Type_of_Equipment: #REF!
Name ven_install: #REF!
Name Yes_or_no?: #REF!

Sheet Instructions
B1: 2027 Hanover C2 | N1: ATTACHMENT C
B2: Entity Name: | C2: Hanover County Public Schools (“HCPS”)
B3: E-Rate BEN: | C3: 126488
B4: Form 470 #: | C4: 270001533
B6: VENDOR RESPONSE INSTRUCTIONS
B8: 1) For all offers, completion and submission of all five (5) sheets of this Pricing Attachment is REQUIRED.
B9: 2) When submitting, Offerors are instructed to provide a Microsoft Excel-compatible (.xlsx) formatted file.
B10: 3) Offerors are only responsible for completing the information in the gray cells on each sheet. Vendors are to provide itemized costs for equipment and installation services in the each "PRICING SCHEDULE" section on each tab. At a minimum, matierals and labor must be divided. Vendors should structure their Pricing Schedule submission to match their intended billing format.
B11: 4) E-Rate eligible costs for each row will calculate to 100% eligible unless modified by the Offeror.
B12: 5) Should there be a discrepancy between the fees listed in this Pricing Attachment and any other proposal response document, the costs offered in this document shall prevail.
B14: OFFEROR INFORMATION
B16: Service Provider: | H16: Cooperative Purchasing Vehicle Information (encouraged for all offers; required for offers totaling more than $80,000)
B17: SPIN: | H17: Contract Holder:
B18: Contact Name: | H18: Contract #:
B19: Contact E-mail: | H19: Term Dates:
B20: Contact Phone: | H20: Optional Renewals:
B21: Site Visit Attendee(s):
B23: OFFER COST SUMMARY
B25: LOCATION | C25: TOTAL COST | D25: INELIGIBLE COST | E25: ELIGIBLE COST
B26: Mechanicsville | C26: =Mechanicsville!K54 -> 0 | D26: =Mechanicsville!L54 -> 0 | E26: =Mechanicsville!M54 -> 0
B27: Atlee | C27: =Atlee!K54 -> 0 | D27: =Atlee!L54 -> 0 | E27: =Atlee!M54 -> 0
B28: Hanover | C28: =Hanover!K54 -> 0 | D28: =Hanover!L54 -> 0 | E28: =Hanover!M54 -> 0
B29: Patrick Henry | C29: ='Patrick Henry'!K54 -> 0 | D29: ='Patrick Henry'!L54 -> 0 | E29: ='Patrick Henry'!M54 -> 0
B30: TOTAL | C30: =SUM(C26:C29) -> 0 | D30: =SUM(D26:D29) -> 0 | E30: =SUM(E26:E29) -> 0

Sheet Mechanicsville
B2: Mechanicsville High School, 7052 Mechanicsville Turnpike, Mechanicsville, VA 23111 | N2: ATTACHMENT C - SITE 1
B3: Category 2 · Fiber cabling materials and related vendor services · Offeror response required in Excel format
B4: Entity Name: | C4: Hanover County Public Schools (“HCPS”)
B5: E-Rate BEN: | C5: 126488
B6: Form 470 #: | C6: 270001533
B8: OFFEROR INFORMATION
B10: Service Provider: | C10: =Instructions!C16 -> 0
B11: SPIN: | C11: =Instructions!C17 -> 0
B13: PROJECT INFORMATION
B15: Proposed fiber type and strand count | H15: Existing conduit to be used: Yes/No
B16: Estimated fiber footage | H16: New conduit required: Yes/No
B17: Estimated underground footage, if applicable | H17: Trenching/boring required: Yes/No
B18: Estimated aerial footage, if applicable | H18: Proposed termination locations
B19: Estimated interior footage, if applicable
B21: PRICING SCHEDULE
B22: OFFEROR RESPONSE | I22: CALCULATED — DO NOT EDIT | K22: CALCULATED — DO NOT EDIT | N22: NOTES
B23: Offered Make/MFG | D23: Offered Model #/SKU | F23: Offered Quantity | G23: Unit Cost | H23: E-Rate Eligible % of the Model (per MFG) | I23: Unit E-Rate Ineligible Cost | J23: Unit E-Rate Eligible Cost | K23: Total Extended Cost | L23: Total Extended E-Rate Ineligible Cost | M23: Total Extended E-Rate Eligible Cost | N23: Notes
I24: =G24-J24 -> 0 | J24: =IF(H24="",G24,G24*H24) -> 0 | K24: =F24*G24 -> 0 | L24: =K24-M24 -> 0 | M24: =F24*J24 -> 0
I25: =G25-J25 -> 0 | J25: =IF(H25="",G25,G25*H25) -> 0 | K25: =F25*G25 -> 0 | L25: =K25-M25 -> 0 | M25: =F25*J25 -> 0
I26: =G26-J26 -> 0 | J26: =IF(H26="",G26,G26*H26) -> 0 | K26: =F26*G26 -> 0 | L26: =K26-M26 -> 0 | M26: =F26*J26 -> 0
I27: =G27-J27 -> 0 | J27: =IF(H27="",G27,G27*H27) -> 0 | K27: =F27*G27 -> 0 | L27: =K27-M27 -> 0 | M27: =F27*J27 -> 0
I28: =G28-J28 -> 0 | J28: =IF(H28="",G28,G28*H28) -> 0 | K28: =F28*G28 -> 0 | L28: =K28-M28 -> 0 | M28: =F28*J28 -> 0
I29: =G29-J29 -> 0 | J29: =IF(H29="",G29,G29*H29) -> 0 | K29: =F29*G29 -> 0 | L29: =K29-M29 -> 0 | M29: =F29*J29 -> 0
I30: =G30-J30 -> 0 | J30: =IF(H30="",G30,G30*H30) -> 0 | K30: =F30*G30 -> 0 | L30: =K30-M30 -> 0 | M30: =F30*J30 -> 0
I31: =G31-J31 -> 0 | J31: =IF(H31="",G31,G31*H31) -> 0 | K31: =F31*G31 -> 0 | L31: =K31-M31 -> 0 | M31: =F31*J31 -> 0
I32: =G32-J32 -> 0 | J32: =IF(H32="",G32,G32*H32) -> 0 | K32: =F32*G32 -> 0 | L32: =K32-M32 -> 0 | M32: =F32*J32 -> 0
I33: =G33-J33 -> 0 | J33: =IF(H33="",G33,G33*H33) -> 0 | K33: =F33*G33 -> 0 | L33: =K33-M33 -> 0 | M33: =F33*J33 -> 0
I34: =G34-J34 -> 0 | J34: =IF(H34="",G34,G34*H34) -> 0 | K34: =F34*G34 -> 0 | L34: =K34-M34 -> 0 | M34: =F34*J34 -> 0
I35: =G35-J35 -> 0 | J35: =IF(H35="",G35,G35*H35) -> 0 | K35: =F35*G35 -> 0 | L35: =K35-M35 -> 0 | M35: =F35*J35 -> 0
... I53: =G53-J53 -> 0 | J53: =IF(H53="",G53,G53*H53) -> 0 | K53: =F53*G53 -> 0 | L53: =K53-M53 -> 0 | M53: =F53*J53 -> 0
I54: =SUM(I24:I53) -> 0 | J54: =SUM(J24:J53) -> 0 | K54: =SUM(K24:K53) -> 0 | L54: =SUM(L24:L53) -> 0 | M54: =SUM(M24:M53) -> 0
B56: Unless otherwise noted, all quoted materials will be considered Internal Connections (IC). If the offer includes BMIC or MIBS services, please indicate which items the designation applies to in the Notes column.

Sheet Atlee
B2: Atlee High School, 9414 Atlee Station Road, Mechanicsville, VA 23116 | N2: ATTACHMENT C - SITE 2
B3: Category 2 · Fiber cabling materials and related vendor services · Offeror response required in Excel format
B4: Entity Name: | C4: Hanover County Public Schools (“HCPS”)
B5: E-Rate BEN: | C5: 126488
B6: Form 470 #: | C6: 270001533
B8: OFFEROR INFORMATION
B10: Service Provider: | C10: =Instructions!C16 -> 0
B11: SPIN: | C11: =Instructions!C17 -> 0
B13: PROJECT INFORMATION
B15: Proposed fiber type and strand count | H15: Existing conduit to be used: Yes/No
B16: Estimated fiber footage | H16: New conduit required: Yes/No
B17: Estimated underground footage, if applicable | H17: Trenching/boring required: Yes/No
B18: Estimated aerial footage, if applicable | H18: Proposed termination locations
B19: Estimated interior footage, if applicable
B21: PRICING SCHEDULE
B22: OFFEROR RESPONSE | I22: CALCULATED — DO NOT EDIT | K22: CALCULATED — DO NOT EDIT | N22: NOTES
B23: Offered Make/MFG | D23: Offered Model #/SKU | F23: Offered Quantity | G23: Unit Cost | H23: E-Rate Eligible % of the Model (per MFG) | I23: Unit E-Rate Ineligible Cost | J23: Unit E-Rate Eligible Cost | K23: Total Extended Cost | L23: Total Extended E-Rate Ineligible Cost | M23: Total Extended E-Rate Eligible Cost | N23: Notes
I24: =G24-J24 -> 0 | J24: =IF(H24="",G24,G24*H24) -> 0 | K24: =F24*G24 -> 0 | L24: =K24-M24 -> 0 | M24: =F24*J24 -> 0
I25: =G25-J25 -> 0 | J25: =IF(H25="",G25,G25*H25) -> 0 | K25: =F25*G25 -> 0 | L25: =K25-M25 -> 0 | M25: =F25*J25 -> 0
I26: =G26-J26 -> 0 | J26: =IF(H26="",G26,G26*H26) -> 0 | K26: =F26*G26 -> 0 | L26: =K26-M26 -> 0 | M26: =F26*J26 -> 0
I27: =G27-J27 -> 0 | J27: =IF(H27="",G27,G27*H27) -> 0 | K27: =F27*G27 -> 0 | L27: =K27-M27 -> 0 | M27: =F27*J27 -> 0
I28: =G28-J28 -> 0 | J28: =IF(H28="",G28,G28*H28) -> 0 | K28: =F28*G28 -> 0 | L28: =K28-M28 -> 0 | M28: =F28*J28 -> 0
I29: =G29-J29 -> 0 | J29: =IF(H29="",G29,G29*H29) -> 0 | K29: =F29*G29 -> 0 | L29: =K29-M29 -> 0 | M29: =F29*J29 -> 0
I30: =G30-J30 -> 0 | J30: =IF(H30="",G30,G30*H30) -> 0 | K30: =F30*G30 -> 0 | L30: =K30-M30 -> 0 | M30: =F30*J30 -> 0
I31: =G31-J31 -> 0 | J31: =IF(H31="",G31,G31*H31) -> 0 | K31: =F31*G31 -> 0 | L31: =K31-M31 -> 0 | M31: =F31*J31 -> 0
I32: =G32-J32 -> 0 | J32: =IF(H32="",G32,G32*H32) -> 0 | K32: =F32*G32 -> 0 | L32: =K32-M32 -> 0 | M32: =F32*J32 -> 0
I33: =G33-J33 -> 0 | J33: =IF(H33="",G33,G33*H33) -> 0 | K33: =F33*G33 -> 0 | L33: =K33-M33 -> 0 | M33: =F33*J33 -> 0
I34: =G34-J34 -> 0 | J34: =IF(H34="",G34,G34*H34) -> 0 | K34: =F34*G34 -> 0 | L34: =K34-M34 -> 0 | M34: =F34*J34 -> 0
I35: =G35-J35 -> 0 | J35: =IF(H35="",G35,G35*H35) -> 0 | K35: =F35*G35 -> 0 | L35: =K35-M35 -> 0 | M35: =F35*J35 -> 0
... I53: =G53-J53 -> 0 | J53: =IF(H53="",G53,G53*H53) -> 0 | K53: =F53*G53 -> 0 | L53: =K53-M53 -> 0 | M53: =F53*J53 -> 0
I54: =SUM(I24:I53) -> 0 | J54: =SUM(J24:J53) -> 0 | K54: =SUM(K24:K53) -> 0 | L54: =SUM(L24:L53) -> 0 | M54: =SUM(M24:M53) -> 0
B56: Unless otherwise noted, all quoted materials will be considered Internal Connections (IC). If the offer includes BMIC or MIBS services, please indicate which items the designation applies to in the Notes column.

Sheet Hanover
B2: Hanover High School, 10307 Chamberlayne Road, Mechanicsville, VA 23116 | N2: ATTACHMENT C - SITE 3
B3: Category 2 · Fiber cabling materials and related vendor services · Offeror response required in Excel format
B4: Entity Name: | C4: Hanover County Public Schools (“HCPS”)
B5: E-Rate BEN: | C5: 126488
B6: Form 470 #: | C6: 270001533
B8: OFFEROR INFORMATION
B10: Service Provider: | C10: =Instructions!C16 -> 0
B11: SPIN: | C11: =Instructions!C17 -> 0
B13: PROJECT INFORMATION
B15: Proposed fiber type and strand count | H15: Existing conduit to be used: Yes/No
B16: Estimated fiber footage | H16: New conduit required: Yes/No
B17: Estimated underground footage, if applicable | H17: Trenching/boring required: Yes/No
B18: Estimated aerial footage, if applicable | H18: Proposed termination locations
B19: Estimated interior footage, if applicable
B21: PRICING SCHEDULE
B22: OFFEROR RESPONSE | I22: CALCULATED — DO NOT EDIT | K22: CALCULATED — DO NOT EDIT | N22: NOTES
B23: Offered Make/MFG | D23: Offered Model #/SKU | F23: Offered Quantity | G23: Unit Cost | H23: E-Rate Eligible % of the Model (per MFG) | I23: Unit E-Rate Ineligible Cost | J23: Unit E-Rate Eligible Cost | K23: Total Extended Cost | L23: Total Extended E-Rate Ineligible Cost | M23: Total Extended E-Rate Eligible Cost | N23: Notes
I24: =G24-J24 -> 0 | J24: =IF(H24="",G24,G24*H24) -> 0 | K24: =F24*G24 -> 0 | L24: =K24-M24 -> 0 | M24: =F24*J24 -> 0
I25: =G25-J25 -> 0 | J25: =IF(H25="",G25,G25*H25) -> 0 | K25: =F25*G25 -> 0 | L25: =K25-M25 -> 0 | M25: =F25*J25 -> 0
I26: =G26-J26 -> 0 | J26: =IF(H26="",G26,G26*H26) -> 0 | K26: =F26*G26 -> 0 | L26: =K26-M26 -> 0 | M26: =F26*J26 -> 0
I27: =G27-J27 -> 0 | J27: =IF(H27="",G27,G27*H27) -> 0 | K27: =F27*G27 -> 0 | L27: =K27-M27 -> 0 | M27: =F27*J27 -> 0
I28: =G28-J28 -> 0 | J28: =IF(H28="",G28,G28*H28) -> 0 | K28: =F28*G28 -> 0 | L28: =K28-M28 -> 0 | M28: =F28*J28 -> 0
I29: =G29-J29 -> 0 | J29: =IF(H29="",G29,G29*H29) -> 0 | K29: =F29*G29 -> 0 | L29: =K29-M29 -> 0 | M29: =F29*J29 -> 0
I30: =G30-J30 -> 0 | J30: =IF(H30="",G30,G30*H30) -> 0 | K30: =F30*G30 -> 0 | L30: =K30-M30 -> 0 | M30: =F30*J30 -> 0
I31: =G31-J31 -> 0 | J31: =IF(H31="",G31,G31*H31) -> 0 | K31: =F31*G31 -> 0 | L31: =K31-M31 -> 0 | M31: =F31*J31 -> 0
I32: =G32-J32 -> 0 | J32: =IF(H32="",G32,G32*H32) -> 0 | K32: =F32*G32 -> 0 | L32: =K32-M32 -> 0 | M32: =F32*J32 -> 0
I33: =G33-J33 -> 0 | J33: =IF(H33="",G33,G33*H33) -> 0 | K33: =F33*G33 -> 0 | L33: =K33-M33 -> 0 | M33: =F33*J33 -> 0
I34: =G34-J34 -> 0 | J34: =IF(H34="",G34,G34*H34) -> 0 | K34: =F34*G34 -> 0 | L34: =K34-M34 -> 0 | M34: =F34*J34 -> 0
I35: =G35-J35 -> 0 | J35: =IF(H35="",G35,G35*H35) -> 0 | K35: =F35*G35 -> 0 | L35: =K35-M35 -> 0 | M35: =F35*J35 -> 0
... I53: =G53-J53 -> 0 | J53: =IF(H53="",G53,G53*H53) -> 0 | K53: =F53*G53 -> 0 | L53: =K53-M53 -> 0 | M53: =F53*J53 -> 0
I54: =SUM(I24:I53) -> 0 | J54: =SUM(J24:J53) -> 0 | K54: =SUM(K24:K53) -> 0 | L54: =SUM(L24:L53) -> 0 | M54: =SUM(M24:M53) -> 0
B56: Unless otherwise noted, all quoted materials will be considered Internal Connections (IC). If the offer includes BMIC or MIBS services, please indicate which items the designation applies to in the Notes column.

Sheet Patrick Henry
B2: Patrick Henry High School, 12449 W. Patrick Henry Road, Ashland, VA 23005 | N2: ATTACHMENT C - SITE 4
B3: Category 2 · Fiber cabling materials and related vendor services · Offeror response required in Excel format
B4: Entity Name: | C4: Hanover County Public Schools (“HCPS”)
B5: E-Rate BEN: | C5: 126488
B6: Form 470 #: | C6: 270001533
B8: OFFEROR INFORMATION
B10: Service Provider: | C10: =Instructions!C16 -> 0
B11: SPIN: | C11: =Instructions!C17 -> 0
B13: PROJECT INFORMATION
B15: Proposed fiber type and strand count | H15: Existing conduit to be used: Yes/No
B16: Estimated fiber footage | H16: New conduit required: Yes/No
B17: Estimated underground footage, if applicable | H17: Trenching/boring required: Yes/No
B18: Estimated aerial footage, if applicable | H18: Proposed termination locations
B19: Estimated interior footage, if applicable
B21: PRICING SCHEDULE
B22: OFFEROR RESPONSE | I22: CALCULATED — DO NOT EDIT | K22: CALCULATED — DO NOT EDIT | N22: NOTES
B23: Offered Make/MFG | D23: Offered Model #/SKU | F23: Offered Quantity | G23: Unit Cost | H23: E-Rate Eligible % of the Model (per MFG) | I23: Unit E-Rate Ineligible Cost | J23: Unit E-Rate Eligible Cost | K23: Total Extended Cost | L23: Total Extended E-Rate Ineligible Cost | M23: Total Extended E-Rate Eligible Cost | N23: Notes
I24: =G24-J24 -> 0 | J24: =IF(H24="",G24,G24*H24) -> 0 | K24: =F24*G24 -> 0 | L24: =K24-M24 -> 0 | M24: =F24*J24 -> 0
I25: =G25-J25 -> 0 | J25: =IF(H25="",G25,G25*H25) -> 0 | K25: =F25*G25 -> 0 | L25: =K25-M25 -> 0 | M25: =F25*J25 -> 0
I26: =G26-J26 -> 0 | J26: =IF(H26="",G26,G26*H26) -> 0 | K26: =F26*G26 -> 0 | L26: =K26-M26 -> 0 | M26: =F26*J26 -> 0
I27: =G27-J27 -> 0 | J27: =IF(H27="",G27,G27*H27) -> 0 | K27: =F27*G27 -> 0 | L27: =K27-M27 -> 0 | M27: =F27*J27 -> 0
I28: =G28-J28 -> 0 | J28: =IF(H28="",G28,G28*H28) -> 0 | K28: =F28*G28 -> 0 | L28: =K28-M28 -> 0 | M28: =F28*J28 -> 0
I29: =G29-J29 -> 0 | J29: =IF(H29="",G29,G29*H29) -> 0 | K29: =F29*G29 -> 0 | L29: =K29-M29 -> 0 | M29: =F29*J29 -> 0
I30: =G30-J30 -> 0 | J30: =IF(H30="",G30,G30*H30) -> 0 | K30: =F30*G30 -> 0 | L30: =K30-M30 -> 0 | M30: =F30*J30 -> 0
I31: =G31-J31 -> 0 | J31: =IF(H31="",G31,G31*H31) -> 0 | K31: =F31*G31 -> 0 | L31: =K31-M31 -> 0 | M31: =F31*J31 -> 0
I32: =G32-J32 -> 0 | J32: =IF(H32="",G32,G32*H32) -> 0 | K32: =F32*G32 -> 0 | L32: =K32-M32 -> 0 | M32: =F32*J32 -> 0
I33: =G33-J33 -> 0 | J33: =IF(H33="",G33,G33*H33) -> 0 | K33: =F33*G33 -> 0 | L33: =K33-M33 -> 0 | M33: =F33*J33 -> 0
I34: =G34-J34 -> 0 | J34: =IF(H34="",G34,G34*H34) -> 0 | K34: =F34*G34 -> 0 | L34: =K34-M34 -> 0 | M34: =F34*J34 -> 0
I35: =G35-J35 -> 0 | J35: =IF(H35="",G35,G35*H35) -> 0 | K35: =F35*G35 -> 0 | L35: =K35-M35 -> 0 | M35: =F35*J35 -> 0
... I53: =G53-J53 -> 0 | J53: =IF(H53="",G53,G53*H53) -> 0 | K53: =F53*G53 -> 0 | L53: =K53-M53 -> 0 | M53: =F53*J53 -> 0
I54: =SUM(I24:I53) -> 0 | J54: =SUM(J24:J53) -> 0 | K54: =SUM(K24:K53) -> 0 | L54: =SUM(L24:L53) -> 0 | M54: =SUM(M24:M53) -> 0
B56: Unless otherwise noted, all quoted materials will be considered Internal Connections (IC). If the offer includes BMIC or MIBS services, please indicate which items the designation applies to in the Notes column.
