Workbook

Sheet Internet Pricing
A1: FY2027 E-Rate Internet Service Pricing Worksheet
A3: Applicant Name | B3: MERCER CO TECHNICAL SCH DIST | D3: FCC Form 470 Number | E3: 270001121
A5: Instructions for Bidders
A6: • Complete all bidder information below.
A7: • Provide pricing for all requested service options.
A8: • Include all monthly recurring charges (MRC).
A9: • Vendors must separately identify all MRC, NRC, and SPC amounts. Costs should not be combined across categories.
A10: • Identify any assumptions or exceptions with your proposal.
A11: • Any ineligible costs must be identified in the "notes" section with a detailed breakout of what the ineligible costs are attributed to.
A12: • One award to a single Service Provider for ALL Internet and WAN services. Every row below must be priced for BOTH the 36- and 60-month terms; blank rows = non-responsive.
A13: Bidder Information
A14: Company Name
A15: SPIN
A16: Representative Name
... A21: Internet Access Pricing
A22: Bandwidth | B22: Contract Term (Months) | C22: Service Location | D22: MRC | E22: NRC | F22: SPC | G22: Notes | H22: Total Cost for Term
A23: 2 Gbps | B23: 36 | C23: Assunpink Center – 1085 Old Trenton Road, Trenton, NJ | D23: 0 | E23: 0 | F23: 0 | G23: /29 IPv4 block (6 usable) included | H23: =(D23*B23)+E23+F23 -> 0
A24: 3 Gbps | B24: 36 | C24: Assunpink Center – 1085 Old Trenton Road, Trenton, NJ | D24: 0 | E24: 0 | F24: 0 | H24: =(D24*B24)+E24+F24 -> 0
A25: 4 Gbps | B25: 36 | C25: Assunpink Center – 1085 Old Trenton Road, Trenton, NJ | D25: 0 | E25: 0 | F25: 0 | H25: =(D25*B25)+E25+F25 -> 0
A26: 5 Gbps | B26: 36 | C26: Assunpink Center – 1085 Old Trenton Road, Trenton, NJ | D26: 0 | E26: 0 | F26: 0 | H26: =(D26*B26)+E26+F26 -> 0
A27: 2 Gbps | B27: 60 | C27: Assunpink Center – 1085 Old Trenton Road, Trenton, NJ | D27: 0 | E27: 0 | F27: 0 | H27: =(D27*B27)+E27+F27 -> 0
A28: 3 Gbps | B28: 60 | C28: Assunpink Center – 1085 Old Trenton Road, Trenton, NJ | D28: 0 | E28: 0 | F28: 0 | H28: =(D28*B28)+E28+F28 -> 0
A29: 4 Gbps | B29: 60 | C29: Assunpink Center – 1085 Old Trenton Road, Trenton, NJ | D29: 0 | E29: 0 | F29: 0 | H29: =(D29*B29)+E29+F29 -> 0
A30: 5 Gbps | B30: 60 | C30: Assunpink Center – 1085 Old Trenton Road, Trenton, NJ | D30: 0 | E30: 0 | F30: 0 | H30: =(D30*B30)+E30+F30 -> 0
A36: Monthly Recurring Charges (MRC): All recurring monthly charges associated with providing the requested service, including but not limited to Internet access, transport, IP addresses, and any required provider-supplied equipment or service components necessary to deliver the service.
A37: Non-Recurring Charges (NRC): All one-time charges associated with initiating service, excluding Special Construction Charges. Examples include installation, activation, connection, configuration, and other one-time implementation fees.
A38: Special Construction Charges (SPC): Eligible one-time costs associated with the deployment of new network facilities or upgrades required to deliver service. Special Construction Charges may include design and engineering, project management, construction of network facilities, and installation of network infrastructure.

Sheet WAN Pricing
A1: FY2027 E-Rate WAN / Point-to-Point Pricing Worksheet
A3: Applicant Name | B3: MERCER CO TECHNICAL SCH DIST | D3: FCC Form 470 Number | E3: 270001121
A5: Instructions for Bidders
A6: • Complete all bidder information below.
A7: • Provide pricing for all requested service options.
A8: • Include all monthly recurring charges (MRC).
A9: • Vendors must separately identify all MRC, NRC, and SPC amounts. Costs should not be combined across categories.
A10: • Identify any assumptions or exceptions with your proposal.
A11: • Any ineligible costs must be identified in the "notes" section with a detailed breakout of what the ineligible costs are attributed to.
A12: • One award to a single Service Provider for ALL Internet and WAN services. Every row below must be priced for BOTH the 36- and 60-month terms; blank rows = non-responsive.
A13: Bidder Information
A14: Company Name
A15: SPIN
A16: Representative Name
... A20: Provide pricing for each A-to-Z WAN connection requested.
A22: A Location | B22: Z Location | C22: Bandwidth | D22: Contract Term (Months) | E22: MRC | F22: NRC | G22: SPC | H22: Notes | I22: Total Cost for Term
A23: Assunpink Center – 1085 Old Trenton Road, Trenton, NJ | B23: Sypek Center – 129 Bull Run Road, Pennington, NJ | C23: 2 Gbps (E-Line) | D23: 36 | E23: 0 | F23: 0 | G23: 0 | I23: =(E23*D23)+F23+G23 -> 0
A24: Assunpink Center – 1085 Old Trenton Road, Trenton, NJ | B24: Sypek Center – 129 Bull Run Road, Pennington, NJ | C24: 3 Gbps (E-Line) | D24: 36 | E24: 0 | F24: 0 | G24: 0 | I24: =(E24*D24)+F24+G24 -> 0
A25: Assunpink Center – 1085 Old Trenton Road, Trenton, NJ | B25: Sypek Center – 129 Bull Run Road, Pennington, NJ | C25: 4 Gbps (E-Line) | D25: 36 | E25: 0 | F25: 0 | G25: 0 | I25: =(E25*D25)+F25+G25 -> 0
A26: Assunpink Center – 1085 Old Trenton Road, Trenton, NJ | B26: Sypek Center – 129 Bull Run Road, Pennington, NJ | C26: 5 Gbps (E-Line) | D26: 36 | E26: 0 | F26: 0 | G26: 0 | I26: =(E26*D26)+F26+G26 -> 0
A27: Assunpink Center – 1085 Old Trenton Road, Trenton, NJ | B27: Special Services – 1020 Old Trenton Road, Trenton, NJ | C27: 1 Gbps | D27: 36 | E27: 0 | F27: 0 | G27: 0 | I27: =(E27*D27)+F27+G27 -> 0
A28: Assunpink Center – 1085 Old Trenton Road, Trenton, NJ | B28: Sypek Center – 129 Bull Run Road, Pennington, NJ | C28: 2 Gbps (E-Line) | D28: 60 | E28: 0 | F28: 0 | G28: 0 | I28: =(E28*D28)+F28+G28 -> 0
A29: Assunpink Center – 1085 Old Trenton Road, Trenton, NJ | B29: Sypek Center – 129 Bull Run Road, Pennington, NJ | C29: 3 Gbps (E-Line) | D29: 60 | E29: 0 | F29: 0 | G29: 0 | I29: =(E29*D29)+F29+G29 -> 0
A30: Assunpink Center – 1085 Old Trenton Road, Trenton, NJ | B30: Sypek Center – 129 Bull Run Road, Pennington, NJ | C30: 4 Gbps (E-Line) | D30: 60 | E30: 0 | F30: 0 | G30: 0 | I30: =(E30*D30)+F30+G30 -> 0
A31: Assunpink Center – 1085 Old Trenton Road, Trenton, NJ | B31: Sypek Center – 129 Bull Run Road, Pennington, NJ | C31: 5 Gbps (E-Line) | D31: 60 | E31: 0 | F31: 0 | G31: 0 | I31: =(E31*D31)+F31+G31 -> 0
A32: Assunpink Center – 1085 Old Trenton Road, Trenton, NJ | B32: Special Services – 1020 Old Trenton Road, Trenton, NJ | C32: 1 Gbps | D32: 60 | E32: 0 | F32: 0 | G32: 0 | I32: =(E32*D32)+F32+G32 -> 0
A52: Monthly Recurring Charges (MRC): All recurring monthly charges associated with providing the requested service, including but not limited to Internet access, transport, IP addresses, and any required provider-supplied equipment or service components necessary to deliver the service.
A53: Non-Recurring Charges (NRC): All one-time charges associated with initiating service, excluding Special Construction Charges. Examples include installation, activation, connection, configuration, and other one-time implementation fees.
A54: Special Construction Charges (SPC): Eligible one-time costs associated with the deployment of new network facilities or upgrades required to deliver service. Special Construction Charges may include design and engineering, project management, construction of network facilities, and installation of network infrastructure.

Sheet Bid Summary
A1: FY2027 Internet + WAN Bid Summary (calculated – do not edit)
A2: Totals pull automatically from the Internet Pricing and WAN Pricing tabs (Total Cost for Term = MRC × months + NRC + SPC).
A4: Scenario | B4: Internet (Assunpink) | C4: WAN – Sypek | D4: WAN – Special Services | E4: 36-Month Total | F4: 60-Month Total
A5: Baseline (Internet 2G / Sypek 2G / SS 1G) | B5: 2 Gbps | C5: 2 Gbps (E-Line) | D5: 1 Gbps | E5: =SUMIFS('Internet Pricing'!$H$23:$H$30,'Internet Pricing'!$A$23:$A$30,$B5,'Internet Pricing'!$B$23:$B$30,36)+SUMIFS('WAN Pricing'!$I$23:$I$32,'WAN Pricing'!$C$23:$C$32,$C5,'WAN Pricing'!$D$23:$D$32,36)+SUMIFS('WAN Pricing'!$I$23:$I$32,'WAN Pricing'!$C$23:$C$32,$D5,'WAN Pricing'!$D$23:$D$32,36) -> 0 | F5: =SUMIFS('Internet Pricing'!$H$23:$H$30,'Internet Pricing'!$A$23:$A$30,$B5,'Internet Pricing'!$B$23:$B$30,60)+SUMIFS('WAN Pricing'!$I$23:$I$32,'WAN Pricing'!$C$23:$C$32,$C5,'WAN Pricing'!$D$23:$D$32,60)+SUMIFS('WAN Pricing'!$I$23:$I$32,'WAN Pricing'!$C$23:$C$32,$D5,'WAN Pricing'!$D$23:$D$32,60) -> 0
A6: Upgrade: Internet 3G / Sypek 3G / SS 1G | B6: 3 Gbps | C6: 3 Gbps (E-Line) | D6: 1 Gbps | E6: =SUMIFS('Internet Pricing'!$H$23:$H$30,'Internet Pricing'!$A$23:$A$30,$B6,'Internet Pricing'!$B$23:$B$30,36)+SUMIFS('WAN Pricing'!$I$23:$I$32,'WAN Pricing'!$C$23:$C$32,$C6,'WAN Pricing'!$D$23:$D$32,36)+SUMIFS('WAN Pricing'!$I$23:$I$32,'WAN Pricing'!$C$23:$C$32,$D6,'WAN Pricing'!$D$23:$D$32,36) -> 0 | F6: =SUMIFS('Internet Pricing'!$H$23:$H$30,'Internet Pricing'!$A$23:$A$30,$B6,'Internet Pricing'!$B$23:$B$30,60)+SUMIFS('WAN Pricing'!$I$23:$I$32,'WAN Pricing'!$C$23:$C$32,$C6,'WAN Pricing'!$D$23:$D$32,60)+SUMIFS('WAN Pricing'!$I$23:$I$32,'WAN Pricing'!$C$23:$C$32,$D6,'WAN Pricing'!$D$23:$D$32,60) -> 0
A7: Upgrade: Internet 4G / Sypek 4G / SS 1G | B7: 4 Gbps | C7: 4 Gbps (E-Line) | D7: 1 Gbps | E7: =SUMIFS('Internet Pricing'!$H$23:$H$30,'Internet Pricing'!$A$23:$A$30,$B7,'Internet Pricing'!$B$23:$B$30,36)+SUMIFS('WAN Pricing'!$I$23:$I$32,'WAN Pricing'!$C$23:$C$32,$C7,'WAN Pricing'!$D$23:$D$32,36)+SUMIFS('WAN Pricing'!$I$23:$I$32,'WAN Pricing'!$C$23:$C$32,$D7,'WAN Pricing'!$D$23:$D$32,36) -> 0 | F7: =SUMIFS('Internet Pricing'!$H$23:$H$30,'Internet Pricing'!$A$23:$A$30,$B7,'Internet Pricing'!$B$23:$B$30,60)+SUMIFS('WAN Pricing'!$I$23:$I$32,'WAN Pricing'!$C$23:$C$32,$C7,'WAN Pricing'!$D$23:$D$32,60)+SUMIFS('WAN Pricing'!$I$23:$I$32,'WAN Pricing'!$C$23:$C$32,$D7,'WAN Pricing'!$D$23:$D$32,60) -> 0
A8: Upgrade: Internet 5G / Sypek 5G / SS 1G | B8: 5 Gbps | C8: 5 Gbps (E-Line) | D8: 1 Gbps | E8: =SUMIFS('Internet Pricing'!$H$23:$H$30,'Internet Pricing'!$A$23:$A$30,$B8,'Internet Pricing'!$B$23:$B$30,36)+SUMIFS('WAN Pricing'!$I$23:$I$32,'WAN Pricing'!$C$23:$C$32,$C8,'WAN Pricing'!$D$23:$D$32,36)+SUMIFS('WAN Pricing'!$I$23:$I$32,'WAN Pricing'!$C$23:$C$32,$D8,'WAN Pricing'!$D$23:$D$32,36) -> 0 | F8: =SUMIFS('Internet Pricing'!$H$23:$H$30,'Internet Pricing'!$A$23:$A$30,$B8,'Internet Pricing'!$B$23:$B$30,60)+SUMIFS('WAN Pricing'!$I$23:$I$32,'WAN Pricing'!$C$23:$C$32,$C8,'WAN Pricing'!$D$23:$D$32,60)+SUMIFS('WAN Pricing'!$I$23:$I$32,'WAN Pricing'!$C$23:$C$32,$D8,'WAN Pricing'!$D$23:$D$32,60) -> 0
A10: Monthly equivalent (Baseline) | E10: =E5/36 -> 0 | F10: =F5/60 -> 0
A12: Note: Price is the most heavily weighted evaluation factor per FCC rules. Baseline row reflects the services the Applicant intends to order at award; upgrade rows show the cost if bandwidth is increased for the full term.

Sheet Exceptions
A1: Exceptions, Clarifications, and Assumptions
A3: Bidder shall disclose all exceptions to the requested services, terms, or pricing.
A5: Response:

Sheet Certifications
A2: ☐ Pricing is valid for at least 180 days from the proposal submission deadline.
A3: ☐ Vendor is authorized to provide the proposed services.
A4: ☐ All E-Rate rules and requirements have been reviewed.
A5: ☐ Vendor has disclosed all fees and charges.
A10: Authorized Signature: | E10: Date:
