Workbook

Sheet Internet Pricing
A1: FY2027 E-Rate Internet Service Pricing Worksheet
A3: Applicant Name | B3: Prairie Hills Elementary School District 144 | D3: FCC Form 470 Number | E3: 270000680
A5: Instructions for Bidders
A6: • Complete all bidder information below.
A7: • Provide pricing for all requested service options.
A8: • Include all monthly recurring charges (MRC).
A9: • Vendors must separately identify all MRC, NRC, and SPC amounts. Costs should not be combined across categories.
A10: • Identify any assumptions or exceptions with your proposal.
A11: • Any ineligible costs must be identified in the "notes" section with a detailed breakout of what the ineligible costs are attributed to.
A13: Bidder Information
A14: Company Name
A15: SPIN
A16: Representative Name
A17: Phone
... A21: Internet Access Pricing
A22: Bandwidth | B22: Contract Term (Months) | C22: Service Location | D22: MRC | E22: NRC | F22: SPC | G22: Notes | H22: Total Cost for Term
A23: 5 Gbps | B23: 12 | C23: Prairie Hills Junior High School 16315 Richmond Ave., Markham, IL 60428 | D23: 0 | E23: 0 | F23: 0 | H23: =(D23*B23)+E23+F23 -> 0
A24: 5 Gbps | B24: 12 | C24: Mae Jemison School 3450 W. 177th St., Hazel Crest, IL 60429 | D24: 0 | E24: 0 | F24: 0 | H24: =(D24*B24)+E24+F24 -> 0
A25: 5 Gbps | B25: 36 | C25: Prairie Hills Junior High School 16315 Richmond Ave., Markham, IL 60428 | D25: 0 | E25: 0 | F25: 0 | H25: =(D25*B25)+E25+F25 -> 0
A26: 5 Gbps | B26: 36 | C26: Mae Jemison School 3450 W. 177th St., Hazel Crest, IL 60429 | D26: 0 | E26: 0 | F26: 0 | H26: =(D26*B26)+E26+F26 -> 0
A27: 5 Gbps | B27: 60 | C27: Prairie Hills Junior High School 16315 Richmond Ave., Markham, IL 60428 | D27: 0 | E27: 0 | F27: 0 | H27: =(D27*B27)+E27+F27 -> 0
A28: 5 Gbps | B28: 60 | C28: Mae Jemison School 3450 W. 177th St., Hazel Crest, IL 60429 | D28: 0 | E28: 0 | F28: 0 | H28: =(D28*B28)+E28+F28 -> 0
A30: OPTIONAL – 10 Gbps Internet Access Pricing (informational; not required for a responsive proposal)
A31: Offerors are invited, but not required, to provide 10 Gbps pricing at each location. Budgetary/informal pricing is acceptable. Optional pricing is not included in the required-pricing totals and does not affect responsiveness.
A32: Bandwidth | B32: Contract Term (Months) | C32: Service Location | D32: MRC | E32: NRC | F32: SPC | G32: Notes | H32: Total Cost for Term
A33: 10 Gbps (Optional) | B33: 12 | C33: Prairie Hills Junior High School 16315 Richmond Ave., Markham, IL 60428 | D33: 0 | E33: 0 | F33: 0 | H33: =(D33*B33)+E33+F33 -> 0
A34: 10 Gbps (Optional) | B34: 12 | C34: Mae Jemison School 3450 W. 177th St., Hazel Crest, IL 60429 | D34: 0 | E34: 0 | F34: 0 | H34: =(D34*B34)+E34+F34 -> 0
A35: 10 Gbps (Optional) | B35: 36 | C35: Prairie Hills Junior High School 16315 Richmond Ave., Markham, IL 60428 | D35: 0 | E35: 0 | F35: 0 | H35: =(D35*B35)+E35+F35 -> 0
A36: 10 Gbps (Optional) | B36: 36 | C36: Mae Jemison School 3450 W. 177th St., Hazel Crest, IL 60429 | D36: 0 | E36: 0 | F36: 0 | H36: =(D36*B36)+E36+F36 -> 0
A37: 10 Gbps (Optional) | B37: 60 | C37: Prairie Hills Junior High School 16315 Richmond Ave., Markham, IL 60428 | D37: 0 | E37: 0 | F37: 0 | H37: =(D37*B37)+E37+F37 -> 0
A38: 10 Gbps (Optional) | B38: 60 | C38: Mae Jemison School 3450 W. 177th St., Hazel Crest, IL 60429 | D38: 0 | E38: 0 | F38: 0 | H38: =(D38*B38)+E38+F38 -> 0
A41: Monthly Recurring Charges (MRC): All recurring monthly charges associated with providing the requested service, including but not limited to Internet access, transport, IP addresses, and any required provider-supplied equipment or service components necessary to deliver the service.
A42: Non-Recurring Charges (NRC): All one-time charges associated with initiating service, excluding Special Construction Charges. Examples include installation, activation, connection, configuration, and other one-time implementation fees.
A43: Special Construction Charges (SPC): Eligible one-time costs associated with the deployment of new network facilities or upgrades required to deliver service. Special Construction Charges may include design and engineering, project management, construction of network facilities, and installation of network infrastructure.

Sheet WAN Pricing
A1: FY2027 E-Rate WAN / Point-to-Point Pricing Worksheet
A3: Applicant Name | B3: Prairie Hills Elementary School District 144 | D3: FCC Form 470 Number | E3: 270000680
A5: Instructions for Bidders
A6: • Complete all bidder information below.
A7: • Provide pricing for all requested service options.
A8: • Include all monthly recurring charges (MRC).
A9: • Vendors must separately identify all MRC, NRC, and SPC amounts. Costs should not be combined across categories.
A10: • Identify any assumptions or exceptions with your proposal.
A11: • Any ineligible costs must be identified in the "notes" section with a detailed breakout of what the ineligible costs are attributed to.
A13: Bidder Information
A14: Company Name
A15: SPIN
A16: Representative Name
A17: Phone
... A20: Provide pricing for each A-to-Z WAN connection listed. The WAN is dual-homed: each remote site must connect to BOTH Hub Sites listed in the A Location column. Each row is priced as a single service connecting the Z Location to both Hub Sites. The two Hub Sites are also connected to each other at 10 Gbps.
A22: A Location | B22: Z Location | C22: Bandwidth | D22: Contract Term (Months) | E22: MRC | F22: NRC | G22: SPC | H22: Notes | I22: Total Cost for Term
A23: Mae Jemison School (Hub) 3450 W. 177th St., Hazel Crest, IL 60429 | B23: Prairie Hills Junior High School (Hub) 16315 Richmond Ave., Markham, IL 60428 | C23: 10 Gbps | D23: 12 | E23: 0 | F23: 0 | G23: 0 | I23: =(E23*D23)+F23+G23 -> 0
A24: Prairie Hills Junior High School (Hub) 16315 Richmond Ave., Markham, IL 60428 | B24: Mae Jemison School (Hub) 3450 W. 177th St., Hazel Crest, IL 60429 | C24: 10 Gbps | D24: 12 | E24: 0 | F24: 0 | G24: 0 | I24: =(E24*D24)+F24+G24 -> 0
A25: Prairie Hills Junior High School (Hub) AND Mae Jemison School (Hub) | B25: Primary Learning Center 3215 W. 162nd St., Markham, IL 60428 | C25: 2 Gbps | D25: 12 | E25: 0 | F25: 0 | G25: 0 | I25: =(E25*D25)+F25+G25 -> 0
A26: Prairie Hills Junior High School (Hub) AND Mae Jemison School (Hub) | B26: Markham Park Elementary School 16239 Lawndale Ave., Markham, IL 60428 | C26: 2 Gbps | D26: 12 | E26: 0 | F26: 0 | G26: 0 | I26: =(E26*D26)+F26+G26 -> 0
A27: Prairie Hills Junior High School (Hub) AND Mae Jemison School (Hub) | B27: Nob Hill Elementary School 3701 168th St., Country Club Hills, IL 60478-2123 | C27: 2 Gbps | D27: 12 | E27: 0 | F27: 0 | G27: 0 | I27: =(E27*D27)+F27+G27 -> 0
A28: Prairie Hills Junior High School (Hub) AND Mae Jemison School (Hub) | B28: Highlands Elementary School 3420 Laurel Ln., Hazel Crest, IL 60429-1011 | C28: 2 Gbps | D28: 12 | E28: 0 | F28: 0 | G28: 0 | I28: =(E28*D28)+F28+G28 -> 0
A29: Prairie Hills Junior High School (Hub) AND Mae Jemison School (Hub) | B29: Fieldcrest Elementary School 4100 Wagman St., Oak Forest, IL 60452-4342 | C29: 2 Gbps | D29: 12 | E29: 0 | F29: 0 | G29: 0 | I29: =(E29*D29)+F29+G29 -> 0
A30: Prairie Hills Junior High School (Hub) AND Mae Jemison School (Hub) | B30: Chateaux Elementary School 3600 Chambord Ln., Hazel Crest, IL 60429-2247 | C30: 2 Gbps | D30: 12 | E30: 0 | F30: 0 | G30: 0 | I30: =(E30*D30)+F30+G30 -> 0
A31: Prairie Hills Junior High School (Hub) AND Mae Jemison School (Hub) | B31: Prairie Hills Junior High School (Hub) 16315 Richmond Ave., Markham, IL 60428 | C31: 10 Gbps | D31: 36 | E31: 0 | F31: 0 | G31: 0 | I31: =(E31*D31)+F31+G31 -> 0
A32: Prairie Hills Junior High School (Hub) AND Mae Jemison School (Hub) | B32: Mae Jemison School (Hub) 3450 W. 177th St., Hazel Crest, IL 60429 | C32: 10 Gbps | D32: 36 | E32: 0 | F32: 0 | G32: 0 | I32: =(E32*D32)+F32+G32 -> 0
A33: Prairie Hills Junior High School (Hub) AND Mae Jemison School (Hub) | B33: Primary Learning Center 3215 W. 162nd St., Markham, IL 60428 | C33: 2 Gbps | D33: 36 | E33: 0 | F33: 0 | G33: 0 | I33: =(E33*D33)+F33+G33 -> 0
A34: Prairie Hills Junior High School (Hub) AND Mae Jemison School (Hub) | B34: Markham Park Elementary School 16239 Lawndale Ave., Markham, IL 60428 | C34: 2 Gbps | D34: 36 | E34: 0 | F34: 0 | G34: 0 | I34: =(E34*D34)+F34+G34 -> 0
... A46: Prairie Hills Junior High School (Hub) AND Mae Jemison School (Hub) | B46: Chateaux Elementary School 3600 Chambord Ln., Hazel Crest, IL 60429-2247 | C46: 2 Gbps | D46: 60 | E46: 0 | F46: 0 | G46: 0 | I46: =(E46*D46)+F46+G46 -> 0
A48: REQUIRED – Bandwidth Option Pricing: 5 Gbps and 10 Gbps for each 2 Gbps location
A49: For every location requested at 2 Gbps above, Offerors shall also provide pricing at 5 Gbps and 10 Gbps for each contract term, including connectivity to both Hub Sites. The Applicant will select the bandwidth for each location at its discretion.
A50: A Location | B50: Z Location | C50: Bandwidth | D50: Contract Term (Months) | E50: MRC | F50: NRC | G50: SPC | H50: Notes | I50: Total Cost for Term
A51: Prairie Hills Junior High School (Hub) AND Mae Jemison School (Hub) | B51: Primary Learning Center 3215 W. 162nd St., Markham, IL 60428 | C51: 5 Gbps | D51: 12 | E51: 0 | F51: 0 | G51: 0 | I51: =(E51*D51)+F51+G51 -> 0
A52: Prairie Hills Junior High School (Hub) AND Mae Jemison School (Hub) | B52: Markham Park Elementary School 16239 Lawndale Ave., Markham, IL 60428 | C52: 5 Gbps | D52: 12 | E52: 0 | F52: 0 | G52: 0 | I52: =(E52*D52)+F52+G52 -> 0
A53: Prairie Hills Junior High School (Hub) AND Mae Jemison School (Hub) | B53: Nob Hill Elementary School 3701 168th St., Country Club Hills, IL 60478-2123 | C53: 5 Gbps | D53: 12 | E53: 0 | F53: 0 | G53: 0 | I53: =(E53*D53)+F53+G53 -> 0
A54: Prairie Hills Junior High School (Hub) AND Mae Jemison School (Hub) | B54: Highlands Elementary School 3420 Laurel Ln., Hazel Crest, IL 60429-1011 | C54: 5 Gbps | D54: 12 | E54: 0 | F54: 0 | G54: 0 | I54: =(E54*D54)+F54+G54 -> 0
A55: Prairie Hills Junior High School (Hub) AND Mae Jemison School (Hub) | B55: Fieldcrest Elementary School 4100 Wagman St., Oak Forest, IL 60452-4342 | C55: 5 Gbps | D55: 12 | E55: 0 | F55: 0 | G55: 0 | I55: =(E55*D55)+F55+G55 -> 0
A56: Prairie Hills Junior High School (Hub) AND Mae Jemison School (Hub) | B56: Chateaux Elementary School 3600 Chambord Ln., Hazel Crest, IL 60429-2247 | C56: 5 Gbps | D56: 12 | E56: 0 | F56: 0 | G56: 0 | I56: =(E56*D56)+F56+G56 -> 0
A57: Prairie Hills Junior High School (Hub) AND Mae Jemison School (Hub) | B57: Primary Learning Center 3215 W. 162nd St., Markham, IL 60428 | C57: 5 Gbps | D57: 36 | E57: 0 | F57: 0 | G57: 0 | I57: =(E57*D57)+F57+G57 -> 0
A58: Prairie Hills Junior High School (Hub) AND Mae Jemison School (Hub) | B58: Markham Park Elementary School 16239 Lawndale Ave., Markham, IL 60428 | C58: 5 Gbps | D58: 36 | E58: 0 | F58: 0 | G58: 0 | I58: =(E58*D58)+F58+G58 -> 0
A59: Prairie Hills Junior High School (Hub) AND Mae Jemison School (Hub) | B59: Nob Hill Elementary School 3701 168th St., Country Club Hills, IL 60478-2123 | C59: 5 Gbps | D59: 36 | E59: 0 | F59: 0 | G59: 0 | I59: =(E59*D59)+F59+G59 -> 0
A60: Prairie Hills Junior High School (Hub) AND Mae Jemison School (Hub) | B60: Highlands Elementary School 3420 Laurel Ln., Hazel Crest, IL 60429-1011 | C60: 5 Gbps | D60: 36 | E60: 0 | F60: 0 | G60: 0 | I60: =(E60*D60)+F60+G60 -> 0
A61: Prairie Hills Junior High School (Hub) AND Mae Jemison School (Hub) | B61: Fieldcrest Elementary School 4100 Wagman St., Oak Forest, IL 60452-4342 | C61: 5 Gbps | D61: 36 | E61: 0 | F61: 0 | G61: 0 | I61: =(E61*D61)+F61+G61 -> 0
A62: Prairie Hills Junior High School (Hub) AND Mae Jemison School (Hub) | B62: Chateaux Elementary School 3600 Chambord Ln., Hazel Crest, IL 60429-2247 | C62: 5 Gbps | D62: 36 | E62: 0 | F62: 0 | G62: 0 | I62: =(E62*D62)+F62+G62 -> 0
... A86: Prairie Hills Junior High School (Hub) AND Mae Jemison School (Hub) | B86: Chateaux Elementary School 3600 Chambord Ln., Hazel Crest, IL 60429-2247 | C86: 10 Gbps | D86: 60 | E86: 0 | F86: 0 | G86: 0 | I86: =(E86*D86)+F86+G86 -> 0
A89: Monthly Recurring Charges (MRC): All recurring monthly charges associated with providing the requested service, including but not limited to Internet access, transport, IP addresses, and any required provider-supplied equipment or service components necessary to deliver the service.
A90: Non-Recurring Charges (NRC): All one-time charges associated with initiating service, excluding Special Construction Charges. Examples include installation, activation, connection, configuration, and other one-time implementation fees.
A91: Special Construction Charges (SPC): Eligible one-time costs associated with the deployment of new network facilities or upgrades required to deliver service. Special Construction Charges may include design and engineering, project management, construction of network facilities, and installation of network infrastructure.

Sheet Combined Summary
A1: FY2027 E-Rate Combined Internet + WAN Pricing Summary
A3: Applicant Name | B3: Prairie Hills Elementary School District 144
A4: FCC Form 470 Number | B4: 270000680
A5: Company Name | B5: =IF('Internet Pricing'!B14="","",'Internet Pricing'!B14)
A7: Calculated automatically from the Internet Pricing and WAN Pricing tabs. Do not enter values on this tab. Totals reflect the base requested configuration (IA 5 Gbps at each site; WAN 10 Gbps at each Hub Site; 2 Gbps dual-homed to both hubs at each remaining site). Optional and bandwidth-option rows are excluded.
A9: Contract Term (Months) | B9: Internet Access – Total Cost for Term | C9: WAN – Total Cost for Term | D9: Combined Total Cost for Term | E9: Combined Average Annual Cost
A10: 12 | B10: =SUMIF('Internet Pricing'!$B$23:$B$28,A10,'Internet Pricing'!$H$23:$H$28) -> 0 | C10: =SUMIF('WAN Pricing'!$D$23:$D$46,A10,'WAN Pricing'!$I$23:$I$46) -> 0 | D10: =B10+C10 -> 0 | E10: =D10/(A10/12) -> 0
A11: 36 | B11: =SUMIF('Internet Pricing'!$B$23:$B$28,A11,'Internet Pricing'!$H$23:$H$28) -> 0 | C11: =SUMIF('WAN Pricing'!$D$23:$D$46,A11,'WAN Pricing'!$I$23:$I$46) -> 0 | D11: =B11+C11 -> 0 | E11: =D11/(A11/12) -> 0
A12: 60 | B12: =SUMIF('Internet Pricing'!$B$23:$B$28,A12,'Internet Pricing'!$H$23:$H$28) -> 0 | C12: =SUMIF('WAN Pricing'!$D$23:$D$46,A12,'WAN Pricing'!$I$23:$I$46) -> 0 | D12: =B12+C12 -> 0 | E12: =D12/(A12/12) -> 0

Sheet Exceptions
A1: Exceptions, Clarifications, and Assumptions
A3: Bidder shall disclose all exceptions to the requested services, terms, or pricing.
A5: Response:

Sheet Certifications
A2: ☐ Pricing is valid for at least 180 days.
A3: ☐ Vendor is authorized to provide the proposed services.
A4: ☐ All E-Rate rules and requirements have been reviewed.
A5: ☐ Vendor has disclosed all fees and charges.
A10: Authorized Signature: | E10: Date:
