Workbook

Sheet Option A - Purchase
B1: Pricing Attachment - Category 2 | Option A: Outright Purchase
B2: Applicant: | C2: Babylon Union Free School District
B3: BEN: | C3: 123881
B4: Form 470#: | C4: 270000590
B5: Service Provider:
B6: SPIN:
B7: Contact Name:
B8: Contact E-mail:
B9: Contact Phone:
B12: Pricing Sheet Response Instructions
B13: Please complete the yellow cells with your proposed solution. The blue cells are autopopulated and should not be edited.
B14: If you do not plan to offer a specific line item, please place "N/A" in the Proposed Solution "Make" column.
B15: Specific models have been listed below to provide a better understanding of the specs the applicant is interested in. As per E-Rate rules, ALL proposals that include solutions functionally equivalent to the models listed below will be reviewed and considered. If you provide an equivalent solution, you must also provide documentation that demonstrates the solution listed on your response is functionally equivalent to what is requested.
B16: Enter the E-Rate eligible percentage of each SKU as agreed upon by USAC and the manufacturer. Enter 100% for fully eligible items and 0% for fully ineligible items.
B17: Should there be a discrepancy between the fees listed in this Pricing Attachment and any other proposal response document, the costs offered in this document shall prevail.
B18: Option A prices the outright purchase of all equipment, licenses, and installation as one-time charges in Funding Year 2027.
B20: Requested Solution | F20: Offeror's Alternative/Equivalent Solution (if applicable) | I20: Pricing | K20: Proposal Cost Calculations
B21: Type of Equipment | C21: Make | D21: Model #/SKU | E21: Quantity | F21: Make | G21: Model #/SKU | H21: Quantity | I21: Unit Cost | J21: E-Rate Eligible % of the Model | K21: Total Extended Cost | L21: Total Extended E-Rate Ineligible Cost | M21: Total Extended E-Rate Eligible Cost
B22: Wireless Access Point | C22: Meraki | D22: CW9176I Access Point | E22: 10 | H22: =E22 -> 10 | K22: =H22*I22 -> 0 | L22: =K22-M22 -> 0 | M22: =K22*J22 -> 0
B23: Wireless Access Point | C23: Meraki | D23: CW9174I Access Point | E23: 185 | H23: =E23 -> 185 | K23: =H23*I23 -> 0 | L23: =K23-M23 -> 0 | M23: =K23*J23 -> 0
B24: Access Point Enclosure | C24: Chatsworth Products | D24: 1075-CW9176 Access Point Enclosure | E24: 10 | H24: =E24 -> 10 | K24: =H24*I24 -> 0 | L24: =K24-M24 -> 0 | M24: =K24*J24 -> 0
B25: Access Point Enclosure | C25: Chatsworth Products | D25: 1075-CW9174 Access Point Enclosure | E25: 185 | H25: =E25 -> 185 | K25: =H25*I25 -> 0 | L25: =K25-M25 -> 0 | M25: =K25*J25 -> 0
B26: Miscellaneous | C26: Installation | D26: Vendor installation of access points and access point enclosures | E26: 1 | H26: =E26 -> 1 | K26: =H26*I26 -> 0 | L26: =K26-M26 -> 0 | M26: =K26*J26 -> 0
B27: Miscellaneous | C27: Shipping/Freight | D27: Shipping costs (if applicable) | E27: 1 | H27: =E27 -> 1 | K27: =H27*I27 -> 0 | L27: =K27-M27 -> 0 | M27: =K27*J27 -> 0
J28: Totals | K28: =SUM(K22:K27) -> 0 | L28: =SUM(L22:L27) -> 0 | M28: =SUM(M22:M27) -> 0

Sheet Option B - Lease to Own
B1: Pricing Attachment - Category 2 | Option B: Lease to Own (5 Years)
B2: Applicant: | C2: Babylon Union Free School District
B3: BEN: | C3: 123881
B4: Form 470#: | C4: 270000590
B5: Service Provider:
B6: SPIN:
B7: Contact Name:
B8: Contact E-mail:
B9: Contact Phone:
B12: Pricing Sheet Response Instructions
B13: Please complete the yellow cells with your proposed solution. The blue cells are autopopulated and should not be edited.
B14: If you do not plan to offer a specific line item, please place "N/A" in the Proposed Solution "Make" column.
B15: Specific models have been listed below to provide a better understanding of the specs the applicant is interested in. As per E-Rate rules, ALL proposals that include solutions functionally equivalent to the models listed below will be reviewed and considered. If you provide an equivalent solution, you must also provide documentation that demonstrates the solution listed on your response is functionally equivalent to what is requested.
B16: Enter the E-Rate eligible percentage of each SKU as agreed upon by USAC and the manufacturer. Enter 100% for fully eligible items and 0% for fully ineligible items.
B17: Should there be a discrepancy between the fees listed in this Pricing Attachment and any other proposal response document, the costs offered in this document shall prevail.
B18: Option B prices a lease-to-own agreement for the same equipment and installation, term July 1, 2027 through June 30, 2032 (60 months). Section 1 must show the annual lease payment per unit for each SKU in each funding year of the term, excluding interest and financing charges. Annual payments may differ from year to year.
... B22: Section 1: Annual lease pricing by SKU and funding year
B23: Requested Solution | F23: Offeror's Alternative/Equivalent Solution (if applicable) | I23: Pricing Basis | K23: Annual Lease Payment per Unit (excl. finance charges) | P23: 5-Year Lease Cost Calculations
B24: Type of Equipment | C24: Make | D24: Model #/SKU | E24: Quantity | F24: Make | G24: Model #/SKU | H24: Quantity | I24: Equivalent Purchase Price per Unit | J24: E-Rate Eligible % of the Model | K24: FY2027 | L24: FY2028 | M24: FY2029 | N24: FY2030 | O24: FY2031 | P24: 5-Year Lease Cost per Unit | Q24: Total Extended 5-Year Lease Cost | R24: Total Extended E-Rate Ineligible Cost | S24: Total Extended E-Rate Eligible Cost
B25: Wireless Access Point | C25: Meraki | D25: CW9176I Access Point | E25: 10 | H25: =E25 -> 10 | P25: =SUM(K25:O25) -> 0 | Q25: =H25*P25 -> 0 | R25: =Q25-S25 -> 0 | S25: =Q25*J25 -> 0
B26: Wireless Access Point | C26: Meraki | D26: CW9174I Access Point | E26: 185 | H26: =E26 -> 185 | P26: =SUM(K26:O26) -> 0 | Q26: =H26*P26 -> 0 | R26: =Q26-S26 -> 0 | S26: =Q26*J26 -> 0
B27: Access Point Enclosure | C27: Chatsworth Products | D27: 1075-CW9176 Access Point Enclosure | E27: 10 | H27: =E27 -> 10 | P27: =SUM(K27:O27) -> 0 | Q27: =H27*P27 -> 0 | R27: =Q27-S27 -> 0 | S27: =Q27*J27 -> 0
B28: Access Point Enclosure | C28: Chatsworth Products | D28: 1075-CW9174 Access Point Enclosure | E28: 185 | H28: =E28 -> 185 | P28: =SUM(K28:O28) -> 0 | Q28: =H28*P28 -> 0 | R28: =Q28-S28 -> 0 | S28: =Q28*J28 -> 0
B29: Miscellaneous | C29: Installation | D29: Vendor installation of access points and access point enclosures | E29: 1 | H29: =E29 -> 1 | P29: =SUM(K29:O29) -> 0 | Q29: =H29*P29 -> 0 | R29: =Q29-S29 -> 0 | S29: =Q29*J29 -> 0
B30: Miscellaneous | C30: Shipping/Freight | D30: Shipping costs (if applicable) | E30: 1 | H30: =E30 -> 1 | P30: =SUM(K30:O30) -> 0 | Q30: =H30*P30 -> 0 | R30: =Q30-S30 -> 0 | S30: =Q30*J30 -> 0
H31: Extended totals | I31: =SUMPRODUCT(H25:H30,I25:I30) -> 0 | K31: =SUMPRODUCT($H$25:$H$30,K25:K30) -> 0 | L31: =SUMPRODUCT($H$25:$H$30,L25:L30) -> 0 | M31: =SUMPRODUCT($H$25:$H$30,M25:M30) -> 0 | N31: =SUMPRODUCT($H$25:$H$30,N25:N30) -> 0 | O31: =SUMPRODUCT($H$25:$H$30,O25:O30) -> 0 | Q31: =SUM(Q25:Q30) -> 0 | R31: =SUM(R25:R30) -> 0 | S31: =SUM(S25:S30) -> 0
H32: Extended eligible | K32: =SUMPRODUCT($H$25:$H$30,K25:K30,$J$25:$J$30) -> 0 | L32: =SUMPRODUCT($H$25:$H$30,L25:L30,$J$25:$J$30) -> 0 | M32: =SUMPRODUCT($H$25:$H$30,M25:M30,$J$25:$J$30) -> 0 | N32: =SUMPRODUCT($H$25:$H$30,N25:N30,$J$25:$J$30) -> 0 | O32: =SUMPRODUCT($H$25:$H$30,O25:O30,$J$25:$J$30) -> 0
I33: Column I total is the equivalent purchase price the lease is based on.
B35: Section 2: Financing terms
B36: Lease term start date | F36: 07/01/2027
B37: Lease term end date | F37: 06/30/2032
B38: Lease term (months) | F38: 60
B39: Payment frequency and timing (e.g., annual, due July 1)
B40: Annual interest rate / APR
B41: Lessor of record and sole payee for the full term (legal name)
B42: End-of-term buyout amount (enter $0 if none)
B43: Title transfers to the District after final scheduled payment?
B44: Any fair-market-value or balloon payment? If yes, describe
B46: Section 3: Payment schedule by E-Rate funding year
B47: E-Rate Funding Year | C47: Service Period | D47: Equipment Lease Payments (from Section 1) | E47: Interest / Financing Charges | F47: Administrative or Other Fees | G47: End-of-Term Buyout | H47: Total Payments for Funding Year | I47: E-Rate Eligible Amount | J47: E-Rate Ineligible Amount
...

Sheet Cost Comparison
B1: Option A vs. Option B | Cost comparison (autopopulated)
B2: Babylon Union Free School District | BEN 123881 | Form 470# 270000590
B3: ="Service Provider: "&'Option A - Purchase'!C5 -> Service Provider:
B5: Cost element | C5: Option A: Purchase | D5: Option B: Lease to Own (5 yr) | E5: Difference (B minus A)
B6: Equipment cost basis (equivalent purchase price) | C6: ='Option A - Purchase'!K28 -> 0 | D6: ='Option B - Lease to Own'!I31 -> 0 | E6: =D6-C6 -> 0
B7: Total E-Rate eligible cost | C7: ='Option A - Purchase'!M28 -> 0 | D7: ='Option B - Lease to Own'!I53 -> 0 | E7: =D7-C7 -> 0
B8: Total E-Rate ineligible cost | C8: ='Option A - Purchase'!L28 -> 0 | D8: ='Option B - Lease to Own'!J53 -> 0 | E8: =D8-C8 -> 0
B9: of which interest / financing charges | C9: 0 | D9: ='Option B - Lease to Own'!E53 -> 0 | E9: =D9-C9 -> 0
B10: of which administrative or other fees | C10: 0 | D10: ='Option B - Lease to Own'!F53 -> 0 | E10: =D10-C10 -> 0
B11: of which end-of-term buyout | C11: 0 | D11: ='Option B - Lease to Own'!G53 -> 0 | E11: =D11-C11 -> 0
B12: Total cost to complete acquisition | C12: ='Option A - Purchase'!K28 -> 0 | D12: ='Option B - Lease to Own'!H53 -> 0 | E12: =D12-C12 -> 0
B14: Notes
B15: Per the RFP, the cost of E-Rate eligible services is the highest-weighted evaluation criterion. Compare like-for-like using the eligible cost rows.
B16: Option A is funded as a one-time Funding Year 2027 request. Option B is requested annually, FY2027 through FY2031, and each year's pre-discount eligible amount counts against the District's Category Two budget. FY2031 falls in the next five-year budget cycle.
B17: Interest and financing charges are not E-Rate eligible and are paid entirely by the District.
