Workbook

Sheet Price
B1: Attachment B - Pricing Schedule
B2: RFP 5210 - Internet Services
B3: Offerors shall provide a monthly recurring rate for each bandwidth tier listed below. The total annual cost for each tier will be calculated automatically.
B4: Bandwidth | C4: Monthly Recurring Rate | D4: Total Annual Cost
D5: Do not enter anything in this column
B6: 10,000 Mbps | D6: =IF(C6="","",C6*12)
B7: 12,000 Mbps | D7: =IF(C7="","",C7*12)
B8: 14,000 Mbps | D8: =IF(C8="","",C8*12)
B9: 16,000 Mbps | D9: =IF(C9="","",C9*12)
B10: 18,000 Mbps | D10: =IF(C10="","",C10*12)
B11: 20,000 Mbps | D11: =IF(C11="","",C11*12)
B12: 25,000 Mbps | D12: =IF(C12="","",C12*12)

Sheet Cover & Instructions
B2: RFP 5210 - Attchment B
B3: Applicant: | C3: Virginia Beach City Public Schools | E3: INSERT VENDOR LOGO HERE
B4: 470 Number: | C4: 270000184
B5: Vendor Contact Name:
B6: Vendor Contact Email:
B7: Term: | C7: One-year initial term with four one-year renewals
B9: Instructions: | C9: 1) Enter the name and email address above for the vendor contact that should be addressed if there are questions or clarification required for this document. 2) Include vendor logo where indicated on this tab. 3) Complete pricing on the 'Option 1 Pricing' and 'Option 2 Pricing' tabs. 4) Each tab contains a separate Internet Access table and a separate DDoS table, covering the Initial Term and all four Renewal Terms side by side.
B11: Note on costs: | C11: 1) The cost of vendor-owned equipment must be bundled into the Monthly Recurring Rate. 2) Standard Installation NRC and Special Construction NRC are one-time, non-recurring charges and should each be entered separately if applicable. 3) If DDoS is commercially available and already included in the Internet Access MRC, enter $0 on the DDoS table for each bandwidth tier and explain in the Vendor Notes field.

Sheet Location 1 Pricing
A1: RFP 5210 - Attchment B - Location 1 Pricing
A2: Applicant: | C2: Virginia Beach City Public Schools | H2: ='Cover & Instructions'!E3 -> INSERT VENDOR LOGO HERE
A3: 470 Number: | C3: 270000184
A4: Vendor Contact Name: | C4: =IF('Cover & Instructions'!C5="","",'Cover & Instructions'!C5)
A5: Vendor Contact Email: | C5: =IF('Cover & Instructions'!C6="","",'Cover & Instructions'!C6)
A6: Term: | C6: One-year initial term with four one-year renewals
B8: OPTION 1 (SAB) PRICING — RFP 5210
B10: RFP 5210 - Internet Services | OPTION 1 (SAB)
B11: Location 1 School Administration Building (SAB) Room# 120 5212 George Mason Drive Virginia Beach, VA 23456
B12: Offerors shall provide a Monthly Recurring Charge (MRC) for each bandwidth tier listed below, for the Initial Term and each Renewal Term. Standard Installation NRC and Special Construction NRC are one-time charges; enter $0 if not applicable. The Total Annual Cost for each tier and term is calculated automatically. The cost of vendor-owned equipment must be bundled into the MRC.
B13: Bandwidth | C13: INITIAL TERM (July 1, 2027 - June 30, 2028) | H13: RENEWAL 1 (July 1, 2028 - June 30, 2029) | M13: RENEWAL 2 (July 1, 2029 - June 30, 2030) | R13: RENEWAL 3 (July 1, 2030 - June 30, 2031) | W13: RENEWAL 4 (July 1, 2031 - June 30, 2032)
C14: Monthly Recurring Charge | D14: Standard Installation NRC | E14: Special Construction NRC | F14: Total Annual Cost | H14: Monthly Recurring Charge | I14: Standard Installation NRC | J14: Special Construction NRC | K14: Total Annual Cost | M14: Monthly Recurring Charge | N14: Standard Installation NRC | O14: Special Construction NRC | P14: Total Annual Cost | R14: Monthly Recurring Charge | S14: Standard Installation NRC | T14: Special Construction NRC | U14: Total Annual Cost | W14: Monthly Recurring Charge | X14: Standard Installation NRC | Y14: Special Construction NRC | Z14: Total Annual Cost
F15: Do not enter anything in this column | K15: Do not enter anything in this column | P15: Do not enter anything in this column | U15: Do not enter anything in this column | Z15: Do not enter anything in this column
B16: 10 Gbps | F16: =(C16*12)+D16+E16 -> 0 | K16: =(H16*12)+I16+J16 -> 0 | P16: =(M16*12)+N16+O16 -> 0 | U16: =(R16*12)+S16+T16 -> 0 | Z16: =(W16*12)+X16+Y16 -> 0
B17: 12 Gbps | F17: =(C17*12)+D17+E17 -> 0 | K17: =(H17*12)+I17+J17 -> 0 | P17: =(M17*12)+N17+O17 -> 0 | U17: =(R17*12)+S17+T17 -> 0 | Z17: =(W17*12)+X17+Y17 -> 0
B18: 14 Gbps | F18: =(C18*12)+D18+E18 -> 0 | K18: =(H18*12)+I18+J18 -> 0 | P18: =(M18*12)+N18+O18 -> 0 | U18: =(R18*12)+S18+T18 -> 0 | Z18: =(W18*12)+X18+Y18 -> 0
B19: 16 Gbps | F19: =(C19*12)+D19+E19 -> 0 | K19: =(H19*12)+I19+J19 -> 0 | P19: =(M19*12)+N19+O19 -> 0 | U19: =(R19*12)+S19+T19 -> 0 | Z19: =(W19*12)+X19+Y19 -> 0
B20: 18 Gbps | F20: =(C20*12)+D20+E20 -> 0 | K20: =(H20*12)+I20+J20 -> 0 | P20: =(M20*12)+N20+O20 -> 0 | U20: =(R20*12)+S20+T20 -> 0 | Z20: =(W20*12)+X20+Y20 -> 0
B21: 20 Gbps | F21: =(C21*12)+D21+E21 -> 0 | K21: =(H21*12)+I21+J21 -> 0 | P21: =(M21*12)+N21+O21 -> 0 | U21: =(R21*12)+S21+T21 -> 0 | Z21: =(W21*12)+X21+Y21 -> 0
B22: Vendor Notes:
B25: RFP 5210 - DDoS | OPTION 1 (SAB)
B26: Location 1 School Administration Building (SAB) Room# 120 5212 George Mason Drive Virginia Beach, VA 23456
B27: Offerors shall provide a Monthly Recurring Charge (MRC) for each bandwidth tier listed below, for the Initial Term and each Renewal Term. Standard Installation NRC and Special Construction NRC are one-time charges; enter $0 if not applicable. The Total Annual Cost for each tier and term is calculated automatically. If DDoS is considered commercially available and included in the Internet Access MRC, insert $0 for each bandwidth tier and every term, and explain this in the Vendor Notes field.
B28: Bandwidth | C28: INITIAL TERM (July 1, 2027 - June 30, 2028) | H28: RENEWAL 1 (July 1, 2028 - June 30, 2029) | M28: RENEWAL 2 (July 1, 2029 - June 30, 2030) | R28: RENEWAL 3 (July 1, 2030 - June 30, 2031) | W28: RENEWAL 4 (July 1, 2031 - June 30, 2032)
C29: Monthly Recurring Charge | D29: Standard Installation NRC | E29: Special Construction NRC | F29: Total Annual Cost | H29: Monthly Recurring Charge | I29: Standard Installation NRC | J29: Special Construction NRC | K29: Total Annual Cost | M29: Monthly Recurring Charge | N29: Standard Installation NRC | O29: Special Construction NRC | P29: Total Annual Cost | R29: Monthly Recurring Charge | S29: Standard Installation NRC | T29: Special Construction NRC | U29: Total Annual Cost | W29: Monthly Recurring Charge | X29: Standard Installation NRC | Y29: Special Construction NRC | Z29: Total Annual Cost
F30: Do not enter anything in this column | K30: Do not enter anything in this column | P30: Do not enter anything in this column | U30: Do not enter anything in this column | Z30: Do not enter anything in this column
B31: 10 Gbps | F31: =(C31*12)+D31+E31 -> 0 | K31: =(H31*12)+I31+J31 -> 0 | P31: =(M31*12)+N31+O31 -> 0 | U31: =(R31*12)+S31+T31 -> 0 | Z31: =(W31*12)+X31+Y31 -> 0
B32: 12 Gbps | F32: =(C32*12)+D32+E32 -> 0 | K32: =(H32*12)+I32+J32 -> 0 | P32: =(M32*12)+N32+O32 -> 0 | U32: =(R32*12)+S32+T32 -> 0 | Z32: =(W32*12)+X32+Y32 -> 0
B33: 14 Gbps | F33: =(C33*12)+D33+E33 -> 0 | K33: =(H33*12)+I33+J33 -> 0 | P33: =(M33*12)+N33+O33 -> 0 | U33: =(R33*12)+S33+T33 -> 0 | Z33: =(W33*12)+X33+Y33 -> 0
B34: 16 Gbps | F34: =(C34*12)+D34+E34 -> 0 | K34: =(H34*12)+I34+J34 -> 0 | P34: =(M34*12)+N34+O34 -> 0 | U34: =(R34*12)+S34+T34 -> 0 | Z34: =(W34*12)+X34+Y34 -> 0
B35: 18 Gbps | F35: =(C35*12)+D35+E35 -> 0 | K35: =(H35*12)+I35+J35 -> 0 | P35: =(M35*12)+N35+O35 -> 0 | U35: =(R35*12)+S35+T35 -> 0 | Z35: =(W35*12)+X35+Y35 -> 0
B36: 20 Gbps | F36: =(C36*12)+D36+E36 -> 0 | K36: =(H36*12)+I36+J36 -> 0 | P36: =(M36*12)+N36+O36 -> 0 | U36: =(R36*12)+S36+T36 -> 0 | Z36: =(W36*12)+X36+Y36 -> 0
B37: Vendor Notes:

Sheet Location 2 Pricing
A1: RFP 5210 - Attchment B - Location 2 Pricing
A2: Applicant: | C2: Virginia Beach City Public Schools | H2: ='Cover & Instructions'!E3 -> INSERT VENDOR LOGO HERE
A3: 470 Number: | C3: 270000184
A4: Vendor Contact Name: | C4: =IF('Cover & Instructions'!C5="","",'Cover & Instructions'!C5)
A5: Vendor Contact Email: | C5: =IF('Cover & Instructions'!C6="","",'Cover & Instructions'!C6)
A6: Term: | C6: One-year initial term with four one-year renewals
B8: OPTION 2 (CLDC) PRICING — RFP 5210
B10: RFP 5210 - Internet Services | OPTION 2 (CLDC)
B11: Location 2 Corporate Landing Data Center (CLDC) Room # 106 1597 Corporate Landing Parkway Virginia Beach, VA 23454
B12: Offerors shall provide a Monthly Recurring Charge (MRC) for each bandwidth tier listed below, for the Initial Term and each Renewal Term. Standard Installation NRC and Special Construction NRC are one-time charges; enter $0 if not applicable. The Total Annual Cost for each tier and term is calculated automatically. The cost of vendor-owned equipment must be bundled into the MRC.
B13: Bandwidth | C13: INITIAL TERM (July 1, 2027 - June 30, 2028) | H13: RENEWAL 1 (July 1, 2028 - June 30, 2029) | M13: RENEWAL 2 (July 1, 2029 - June 30, 2030) | R13: RENEWAL 3 (July 1, 2030 - June 30, 2031) | W13: RENEWAL 4 (July 1, 2031 - June 30, 2032)
C14: Monthly Recurring Charge | D14: Standard Installation NRC | E14: Special Construction NRC | F14: Total Annual Cost | H14: Monthly Recurring Charge | I14: Standard Installation NRC | J14: Special Construction NRC | K14: Total Annual Cost | M14: Monthly Recurring Charge | N14: Standard Installation NRC | O14: Special Construction NRC | P14: Total Annual Cost | R14: Monthly Recurring Charge | S14: Standard Installation NRC | T14: Special Construction NRC | U14: Total Annual Cost | W14: Monthly Recurring Charge | X14: Standard Installation NRC | Y14: Special Construction NRC | Z14: Total Annual Cost
F15: Do not enter anything in this column | K15: Do not enter anything in this column | P15: Do not enter anything in this column | U15: Do not enter anything in this column | Z15: Do not enter anything in this column
B16: 10 Gbps | F16: =(C16*12)+D16+E16 -> 0 | K16: =(H16*12)+I16+J16 -> 0 | P16: =(M16*12)+N16+O16 -> 0 | U16: =(R16*12)+S16+T16 -> 0 | Z16: =(W16*12)+X16+Y16 -> 0
B17: 12 Gbps | F17: =(C17*12)+D17+E17 -> 0 | K17: =(H17*12)+I17+J17 -> 0 | P17: =(M17*12)+N17+O17 -> 0 | U17: =(R17*12)+S17+T17 -> 0 | Z17: =(W17*12)+X17+Y17 -> 0
B18: 14 Gbps | F18: =(C18*12)+D18+E18 -> 0 | K18: =(H18*12)+I18+J18 -> 0 | P18: =(M18*12)+N18+O18 -> 0 | U18: =(R18*12)+S18+T18 -> 0 | Z18: =(W18*12)+X18+Y18 -> 0
B19: 16 Gbps | F19: =(C19*12)+D19+E19 -> 0 | K19: =(H19*12)+I19+J19 -> 0 | P19: =(M19*12)+N19+O19 -> 0 | U19: =(R19*12)+S19+T19 -> 0 | Z19: =(W19*12)+X19+Y19 -> 0
B20: 18 Gbps | F20: =(C20*12)+D20+E20 -> 0 | K20: =(H20*12)+I20+J20 -> 0 | P20: =(M20*12)+N20+O20 -> 0 | U20: =(R20*12)+S20+T20 -> 0 | Z20: =(W20*12)+X20+Y20 -> 0
B21: 20 Gbps | F21: =(C21*12)+D21+E21 -> 0 | K21: =(H21*12)+I21+J21 -> 0 | P21: =(M21*12)+N21+O21 -> 0 | U21: =(R21*12)+S21+T21 -> 0 | Z21: =(W21*12)+X21+Y21 -> 0
B22: Vendor Notes:
B25: RFP 5210 - DDoS | OPTION 2 (CLDC)
B26: Location 2 Corporate Landing Data Center (CLDC) Room # 106 1597 Corporate Landing Parkway Virginia Beach, VA 23454
B27: Offerors shall provide a Monthly Recurring Charge (MRC) for each bandwidth tier listed below, for the Initial Term and each Renewal Term. Standard Installation NRC and Special Construction NRC are one-time charges; enter $0 if not applicable. The Total Annual Cost for each tier and term is calculated automatically. If DDoS is considered commercially available and included in the Internet Access MRC, insert $0 for each bandwidth tier and every term, and explain this in the Vendor Notes field.
B28: Bandwidth | C28: INITIAL TERM (July 1, 2027 - June 30, 2028) | H28: RENEWAL 1 (July 1, 2028 - June 30, 2029) | M28: RENEWAL 2 (July 1, 2029 - June 30, 2030) | R28: RENEWAL 3 (July 1, 2030 - June 30, 2031) | W28: RENEWAL 4 (July 1, 2031 - June 30, 2032)
C29: Monthly Recurring Charge | D29: Standard Installation NRC | E29: Special Construction NRC | F29: Total Annual Cost | H29: Monthly Recurring Charge | I29: Standard Installation NRC | J29: Special Construction NRC | K29: Total Annual Cost | M29: Monthly Recurring Charge | N29: Standard Installation NRC | O29: Special Construction NRC | P29: Total Annual Cost | R29: Monthly Recurring Charge | S29: Standard Installation NRC | T29: Special Construction NRC | U29: Total Annual Cost | W29: Monthly Recurring Charge | X29: Standard Installation NRC | Y29: Special Construction NRC | Z29: Total Annual Cost
F30: Do not enter anything in this column | K30: Do not enter anything in this column | P30: Do not enter anything in this column | U30: Do not enter anything in this column | Z30: Do not enter anything in this column
B31: 10 Gbps | F31: =(C31*12)+D31+E31 -> 0 | K31: =(H31*12)+I31+J31 -> 0 | P31: =(M31*12)+N31+O31 -> 0 | U31: =(R31*12)+S31+T31 -> 0 | Z31: =(W31*12)+X31+Y31 -> 0
B32: 12 Gbps | F32: =(C32*12)+D32+E32 -> 0 | K32: =(H32*12)+I32+J32 -> 0 | P32: =(M32*12)+N32+O32 -> 0 | U32: =(R32*12)+S32+T32 -> 0 | Z32: =(W32*12)+X32+Y32 -> 0
B33: 14 Gbps | F33: =(C33*12)+D33+E33 -> 0 | K33: =(H33*12)+I33+J33 -> 0 | P33: =(M33*12)+N33+O33 -> 0 | U33: =(R33*12)+S33+T33 -> 0 | Z33: =(W33*12)+X33+Y33 -> 0
B34: 16 Gbps | F34: =(C34*12)+D34+E34 -> 0 | K34: =(H34*12)+I34+J34 -> 0 | P34: =(M34*12)+N34+O34 -> 0 | U34: =(R34*12)+S34+T34 -> 0 | Z34: =(W34*12)+X34+Y34 -> 0
B35: 18 Gbps | F35: =(C35*12)+D35+E35 -> 0 | K35: =(H35*12)+I35+J35 -> 0 | P35: =(M35*12)+N35+O35 -> 0 | U35: =(R35*12)+S35+T35 -> 0 | Z35: =(W35*12)+X35+Y35 -> 0
B36: 20 Gbps | F36: =(C36*12)+D36+E36 -> 0 | K36: =(H36*12)+I36+J36 -> 0 | P36: =(M36*12)+N36+O36 -> 0 | U36: =(R36*12)+S36+T36 -> 0 | Z36: =(W36*12)+X36+Y36 -> 0
B37: Vendor Notes:
